BEGIN:VCALENDAR
VERSION:2.0
PRODID:-//Tapatio Springs - ECPv6.15.20//NONSGML v1.0//EN
CALSCALE:GREGORIAN
METHOD:PUBLISH
X-WR-CALNAME:Tapatio Springs
X-ORIGINAL-URL:https://www.tapatiosprings.com
X-WR-CALDESC:Events for Tapatio Springs
REFRESH-INTERVAL;VALUE=DURATION:PT1H
X-Robots-Tag:noindex
X-PUBLISHED-TTL:PT1H
BEGIN:VTIMEZONE
TZID:UTC
BEGIN:STANDARD
TZOFFSETFROM:+0000
TZOFFSETTO:+0000
TZNAME:UTC
DTSTART:20250101T000000
END:STANDARD
END:VTIMEZONE
BEGIN:VEVENT
DTSTART;TZID=UTC:20260801T160000
DTEND;TZID=UTC:20260801T180000
DTSTAMP:20260424T064104
CREATED:20250630T195610Z
LAST-MODIFIED:20260111T034134Z
UID:10002242-1785600000-1785607200@www.tapatiosprings.com
SUMMARY:Daily Happy Hour
DESCRIPTION:Location: La Cascada Table & Bar\nTime: Daily\, 4 PM – 6 PM\nDetails: Join us for daily Drink Specials at La Cascada Bar!
URL:https://www.tapatiosprings.com/event/daily-happy-hour/2026-08-01/
LOCATION:La Cascada Table & Bar
CATEGORIES:Eat & Drink
ATTACH;FMTTYPE=image/jpeg:https://www.tapatiosprings.com/wp-content/uploads/2025/06/ts-detail-FB-3-96-2-scaled.jpg
END:VEVENT
BEGIN:VEVENT
DTSTART;TZID=UTC:20260802T160000
DTEND;TZID=UTC:20260802T180000
DTSTAMP:20260424T064104
CREATED:20250630T195610Z
LAST-MODIFIED:20260111T034134Z
UID:10002243-1785686400-1785693600@www.tapatiosprings.com
SUMMARY:Daily Happy Hour
DESCRIPTION:Location: La Cascada Table & Bar\nTime: Daily\, 4 PM – 6 PM\nDetails: Join us for daily Drink Specials at La Cascada Bar!
URL:https://www.tapatiosprings.com/event/daily-happy-hour/2026-08-02/
LOCATION:La Cascada Table & Bar
CATEGORIES:Eat & Drink
ATTACH;FMTTYPE=image/jpeg:https://www.tapatiosprings.com/wp-content/uploads/2025/06/ts-detail-FB-3-96-2-scaled.jpg
END:VEVENT
BEGIN:VEVENT
DTSTART;TZID=UTC:20260803T160000
DTEND;TZID=UTC:20260803T180000
DTSTAMP:20260424T064104
CREATED:20250630T195610Z
LAST-MODIFIED:20260111T034134Z
UID:10002244-1785772800-1785780000@www.tapatiosprings.com
SUMMARY:Daily Happy Hour
DESCRIPTION:Location: La Cascada Table & Bar\nTime: Daily\, 4 PM – 6 PM\nDetails: Join us for daily Drink Specials at La Cascada Bar!
URL:https://www.tapatiosprings.com/event/daily-happy-hour/2026-08-03/
LOCATION:La Cascada Table & Bar
CATEGORIES:Eat & Drink
ATTACH;FMTTYPE=image/jpeg:https://www.tapatiosprings.com/wp-content/uploads/2025/06/ts-detail-FB-3-96-2-scaled.jpg
END:VEVENT
BEGIN:VEVENT
DTSTART;TZID=UTC:20260804T160000
DTEND;TZID=UTC:20260804T180000
DTSTAMP:20260424T064104
CREATED:20250630T195610Z
LAST-MODIFIED:20260111T034134Z
UID:10002245-1785859200-1785866400@www.tapatiosprings.com
SUMMARY:Daily Happy Hour
DESCRIPTION:Location: La Cascada Table & Bar\nTime: Daily\, 4 PM – 6 PM\nDetails: Join us for daily Drink Specials at La Cascada Bar!
URL:https://www.tapatiosprings.com/event/daily-happy-hour/2026-08-04/
LOCATION:La Cascada Table & Bar
CATEGORIES:Eat & Drink
ATTACH;FMTTYPE=image/jpeg:https://www.tapatiosprings.com/wp-content/uploads/2025/06/ts-detail-FB-3-96-2-scaled.jpg
END:VEVENT
BEGIN:VEVENT
DTSTART;TZID=UTC:20260805T160000
DTEND;TZID=UTC:20260805T180000
DTSTAMP:20260424T064104
CREATED:20250630T195610Z
LAST-MODIFIED:20260111T034134Z
UID:10002246-1785945600-1785952800@www.tapatiosprings.com
SUMMARY:Daily Happy Hour
DESCRIPTION:Location: La Cascada Table & Bar\nTime: Daily\, 4 PM – 6 PM\nDetails: Join us for daily Drink Specials at La Cascada Bar!
URL:https://www.tapatiosprings.com/event/daily-happy-hour/2026-08-05/
LOCATION:La Cascada Table & Bar
CATEGORIES:Eat & Drink
ATTACH;FMTTYPE=image/jpeg:https://www.tapatiosprings.com/wp-content/uploads/2025/06/ts-detail-FB-3-96-2-scaled.jpg
END:VEVENT
BEGIN:VEVENT
DTSTART;TZID=UTC:20260806T160000
DTEND;TZID=UTC:20260806T180000
DTSTAMP:20260424T064104
CREATED:20250630T195610Z
LAST-MODIFIED:20260111T034134Z
UID:10002247-1786032000-1786039200@www.tapatiosprings.com
SUMMARY:Daily Happy Hour
DESCRIPTION:Location: La Cascada Table & Bar\nTime: Daily\, 4 PM – 6 PM\nDetails: Join us for daily Drink Specials at La Cascada Bar!
URL:https://www.tapatiosprings.com/event/daily-happy-hour/2026-08-06/
LOCATION:La Cascada Table & Bar
CATEGORIES:Eat & Drink
ATTACH;FMTTYPE=image/jpeg:https://www.tapatiosprings.com/wp-content/uploads/2025/06/ts-detail-FB-3-96-2-scaled.jpg
END:VEVENT
BEGIN:VEVENT
DTSTART;TZID=UTC:20260807T160000
DTEND;TZID=UTC:20260807T180000
DTSTAMP:20260424T064104
CREATED:20250630T195610Z
LAST-MODIFIED:20260111T034134Z
UID:10002248-1786118400-1786125600@www.tapatiosprings.com
SUMMARY:Daily Happy Hour
DESCRIPTION:Location: La Cascada Table & Bar\nTime: Daily\, 4 PM – 6 PM\nDetails: Join us for daily Drink Specials at La Cascada Bar!
URL:https://www.tapatiosprings.com/event/daily-happy-hour/2026-08-07/
LOCATION:La Cascada Table & Bar
CATEGORIES:Eat & Drink
ATTACH;FMTTYPE=image/jpeg:https://www.tapatiosprings.com/wp-content/uploads/2025/06/ts-detail-FB-3-96-2-scaled.jpg
END:VEVENT
BEGIN:VEVENT
DTSTART;TZID=UTC:20260808T160000
DTEND;TZID=UTC:20260808T180000
DTSTAMP:20260424T064104
CREATED:20250630T195610Z
LAST-MODIFIED:20260111T034134Z
UID:10002249-1786204800-1786212000@www.tapatiosprings.com
SUMMARY:Daily Happy Hour
DESCRIPTION:Location: La Cascada Table & Bar\nTime: Daily\, 4 PM – 6 PM\nDetails: Join us for daily Drink Specials at La Cascada Bar!
URL:https://www.tapatiosprings.com/event/daily-happy-hour/2026-08-08/
LOCATION:La Cascada Table & Bar
CATEGORIES:Eat & Drink
ATTACH;FMTTYPE=image/jpeg:https://www.tapatiosprings.com/wp-content/uploads/2025/06/ts-detail-FB-3-96-2-scaled.jpg
END:VEVENT
BEGIN:VEVENT
DTSTART;TZID=UTC:20260809T160000
DTEND;TZID=UTC:20260809T180000
DTSTAMP:20260424T064104
CREATED:20250630T195610Z
LAST-MODIFIED:20260111T034134Z
UID:10002250-1786291200-1786298400@www.tapatiosprings.com
SUMMARY:Daily Happy Hour
DESCRIPTION:Location: La Cascada Table & Bar\nTime: Daily\, 4 PM – 6 PM\nDetails: Join us for daily Drink Specials at La Cascada Bar!
URL:https://www.tapatiosprings.com/event/daily-happy-hour/2026-08-09/
LOCATION:La Cascada Table & Bar
CATEGORIES:Eat & Drink
ATTACH;FMTTYPE=image/jpeg:https://www.tapatiosprings.com/wp-content/uploads/2025/06/ts-detail-FB-3-96-2-scaled.jpg
END:VEVENT
BEGIN:VEVENT
DTSTART;TZID=UTC:20260810T160000
DTEND;TZID=UTC:20260810T180000
DTSTAMP:20260424T064104
CREATED:20250630T195610Z
LAST-MODIFIED:20260111T034134Z
UID:10002251-1786377600-1786384800@www.tapatiosprings.com
SUMMARY:Daily Happy Hour
DESCRIPTION:Location: La Cascada Table & Bar\nTime: Daily\, 4 PM – 6 PM\nDetails: Join us for daily Drink Specials at La Cascada Bar!
URL:https://www.tapatiosprings.com/event/daily-happy-hour/2026-08-10/
LOCATION:La Cascada Table & Bar
CATEGORIES:Eat & Drink
ATTACH;FMTTYPE=image/jpeg:https://www.tapatiosprings.com/wp-content/uploads/2025/06/ts-detail-FB-3-96-2-scaled.jpg
END:VEVENT
BEGIN:VEVENT
DTSTART;TZID=UTC:20260811T160000
DTEND;TZID=UTC:20260811T180000
DTSTAMP:20260424T064104
CREATED:20250630T195610Z
LAST-MODIFIED:20260111T034134Z
UID:10002252-1786464000-1786471200@www.tapatiosprings.com
SUMMARY:Daily Happy Hour
DESCRIPTION:Location: La Cascada Table & Bar\nTime: Daily\, 4 PM – 6 PM\nDetails: Join us for daily Drink Specials at La Cascada Bar!
URL:https://www.tapatiosprings.com/event/daily-happy-hour/2026-08-11/
LOCATION:La Cascada Table & Bar
CATEGORIES:Eat & Drink
ATTACH;FMTTYPE=image/jpeg:https://www.tapatiosprings.com/wp-content/uploads/2025/06/ts-detail-FB-3-96-2-scaled.jpg
END:VEVENT
BEGIN:VEVENT
DTSTART;TZID=UTC:20260812T160000
DTEND;TZID=UTC:20260812T180000
DTSTAMP:20260424T064104
CREATED:20250630T195610Z
LAST-MODIFIED:20260111T034134Z
UID:10002253-1786550400-1786557600@www.tapatiosprings.com
SUMMARY:Daily Happy Hour
DESCRIPTION:Location: La Cascada Table & Bar\nTime: Daily\, 4 PM – 6 PM\nDetails: Join us for daily Drink Specials at La Cascada Bar!
URL:https://www.tapatiosprings.com/event/daily-happy-hour/2026-08-12/
LOCATION:La Cascada Table & Bar
CATEGORIES:Eat & Drink
ATTACH;FMTTYPE=image/jpeg:https://www.tapatiosprings.com/wp-content/uploads/2025/06/ts-detail-FB-3-96-2-scaled.jpg
END:VEVENT
BEGIN:VEVENT
DTSTART;TZID=UTC:20260813T160000
DTEND;TZID=UTC:20260813T180000
DTSTAMP:20260424T064104
CREATED:20250630T195610Z
LAST-MODIFIED:20260111T034134Z
UID:10002254-1786636800-1786644000@www.tapatiosprings.com
SUMMARY:Daily Happy Hour
DESCRIPTION:Location: La Cascada Table & Bar\nTime: Daily\, 4 PM – 6 PM\nDetails: Join us for daily Drink Specials at La Cascada Bar!
URL:https://www.tapatiosprings.com/event/daily-happy-hour/2026-08-13/
LOCATION:La Cascada Table & Bar
CATEGORIES:Eat & Drink
ATTACH;FMTTYPE=image/jpeg:https://www.tapatiosprings.com/wp-content/uploads/2025/06/ts-detail-FB-3-96-2-scaled.jpg
END:VEVENT
BEGIN:VEVENT
DTSTART;TZID=UTC:20260814T160000
DTEND;TZID=UTC:20260814T180000
DTSTAMP:20260424T064104
CREATED:20250630T195610Z
LAST-MODIFIED:20260111T034134Z
UID:10002255-1786723200-1786730400@www.tapatiosprings.com
SUMMARY:Daily Happy Hour
DESCRIPTION:Location: La Cascada Table & Bar\nTime: Daily\, 4 PM – 6 PM\nDetails: Join us for daily Drink Specials at La Cascada Bar!
URL:https://www.tapatiosprings.com/event/daily-happy-hour/2026-08-14/
LOCATION:La Cascada Table & Bar
CATEGORIES:Eat & Drink
ATTACH;FMTTYPE=image/jpeg:https://www.tapatiosprings.com/wp-content/uploads/2025/06/ts-detail-FB-3-96-2-scaled.jpg
END:VEVENT
BEGIN:VEVENT
DTSTART;TZID=UTC:20260815T160000
DTEND;TZID=UTC:20260815T180000
DTSTAMP:20260424T064104
CREATED:20250630T195610Z
LAST-MODIFIED:20260111T034134Z
UID:10002256-1786809600-1786816800@www.tapatiosprings.com
SUMMARY:Daily Happy Hour
DESCRIPTION:Location: La Cascada Table & Bar\nTime: Daily\, 4 PM – 6 PM\nDetails: Join us for daily Drink Specials at La Cascada Bar!
URL:https://www.tapatiosprings.com/event/daily-happy-hour/2026-08-15/
LOCATION:La Cascada Table & Bar
CATEGORIES:Eat & Drink
ATTACH;FMTTYPE=image/jpeg:https://www.tapatiosprings.com/wp-content/uploads/2025/06/ts-detail-FB-3-96-2-scaled.jpg
END:VEVENT
BEGIN:VEVENT
DTSTART;TZID=UTC:20260816T160000
DTEND;TZID=UTC:20260816T180000
DTSTAMP:20260424T064104
CREATED:20250630T195610Z
LAST-MODIFIED:20260111T034134Z
UID:10002257-1786896000-1786903200@www.tapatiosprings.com
SUMMARY:Daily Happy Hour
DESCRIPTION:Location: La Cascada Table & Bar\nTime: Daily\, 4 PM – 6 PM\nDetails: Join us for daily Drink Specials at La Cascada Bar!
URL:https://www.tapatiosprings.com/event/daily-happy-hour/2026-08-16/
LOCATION:La Cascada Table & Bar
CATEGORIES:Eat & Drink
ATTACH;FMTTYPE=image/jpeg:https://www.tapatiosprings.com/wp-content/uploads/2025/06/ts-detail-FB-3-96-2-scaled.jpg
END:VEVENT
BEGIN:VEVENT
DTSTART;TZID=UTC:20260817T160000
DTEND;TZID=UTC:20260817T180000
DTSTAMP:20260424T064104
CREATED:20250630T195610Z
LAST-MODIFIED:20260111T034134Z
UID:10002258-1786982400-1786989600@www.tapatiosprings.com
SUMMARY:Daily Happy Hour
DESCRIPTION:Location: La Cascada Table & Bar\nTime: Daily\, 4 PM – 6 PM\nDetails: Join us for daily Drink Specials at La Cascada Bar!
URL:https://www.tapatiosprings.com/event/daily-happy-hour/2026-08-17/
LOCATION:La Cascada Table & Bar
CATEGORIES:Eat & Drink
ATTACH;FMTTYPE=image/jpeg:https://www.tapatiosprings.com/wp-content/uploads/2025/06/ts-detail-FB-3-96-2-scaled.jpg
END:VEVENT
BEGIN:VEVENT
DTSTART;TZID=UTC:20260818T160000
DTEND;TZID=UTC:20260818T180000
DTSTAMP:20260424T064104
CREATED:20250630T195610Z
LAST-MODIFIED:20260111T034134Z
UID:10002259-1787068800-1787076000@www.tapatiosprings.com
SUMMARY:Daily Happy Hour
DESCRIPTION:Location: La Cascada Table & Bar\nTime: Daily\, 4 PM – 6 PM\nDetails: Join us for daily Drink Specials at La Cascada Bar!
URL:https://www.tapatiosprings.com/event/daily-happy-hour/2026-08-18/
LOCATION:La Cascada Table & Bar
CATEGORIES:Eat & Drink
ATTACH;FMTTYPE=image/jpeg:https://www.tapatiosprings.com/wp-content/uploads/2025/06/ts-detail-FB-3-96-2-scaled.jpg
END:VEVENT
BEGIN:VEVENT
DTSTART;TZID=UTC:20260819T160000
DTEND;TZID=UTC:20260819T180000
DTSTAMP:20260424T064104
CREATED:20250630T195610Z
LAST-MODIFIED:20260111T034134Z
UID:10002260-1787155200-1787162400@www.tapatiosprings.com
SUMMARY:Daily Happy Hour
DESCRIPTION:Location: La Cascada Table & Bar\nTime: Daily\, 4 PM – 6 PM\nDetails: Join us for daily Drink Specials at La Cascada Bar!
URL:https://www.tapatiosprings.com/event/daily-happy-hour/2026-08-19/
LOCATION:La Cascada Table & Bar
CATEGORIES:Eat & Drink
ATTACH;FMTTYPE=image/jpeg:https://www.tapatiosprings.com/wp-content/uploads/2025/06/ts-detail-FB-3-96-2-scaled.jpg
END:VEVENT
BEGIN:VEVENT
DTSTART;TZID=UTC:20260820T160000
DTEND;TZID=UTC:20260820T180000
DTSTAMP:20260424T064104
CREATED:20250630T195610Z
LAST-MODIFIED:20260111T034134Z
UID:10002261-1787241600-1787248800@www.tapatiosprings.com
SUMMARY:Daily Happy Hour
DESCRIPTION:Location: La Cascada Table & Bar\nTime: Daily\, 4 PM – 6 PM\nDetails: Join us for daily Drink Specials at La Cascada Bar!
URL:https://www.tapatiosprings.com/event/daily-happy-hour/2026-08-20/
LOCATION:La Cascada Table & Bar
CATEGORIES:Eat & Drink
ATTACH;FMTTYPE=image/jpeg:https://www.tapatiosprings.com/wp-content/uploads/2025/06/ts-detail-FB-3-96-2-scaled.jpg
END:VEVENT
BEGIN:VEVENT
DTSTART;TZID=UTC:20260821T160000
DTEND;TZID=UTC:20260821T180000
DTSTAMP:20260424T064104
CREATED:20250630T195610Z
LAST-MODIFIED:20260111T034134Z
UID:10002262-1787328000-1787335200@www.tapatiosprings.com
SUMMARY:Daily Happy Hour
DESCRIPTION:Location: La Cascada Table & Bar\nTime: Daily\, 4 PM – 6 PM\nDetails: Join us for daily Drink Specials at La Cascada Bar!
URL:https://www.tapatiosprings.com/event/daily-happy-hour/2026-08-21/
LOCATION:La Cascada Table & Bar
CATEGORIES:Eat & Drink
ATTACH;FMTTYPE=image/jpeg:https://www.tapatiosprings.com/wp-content/uploads/2025/06/ts-detail-FB-3-96-2-scaled.jpg
END:VEVENT
BEGIN:VEVENT
DTSTART;TZID=UTC:20260822T160000
DTEND;TZID=UTC:20260822T180000
DTSTAMP:20260424T064104
CREATED:20250630T195610Z
LAST-MODIFIED:20260111T034134Z
UID:10002263-1787414400-1787421600@www.tapatiosprings.com
SUMMARY:Daily Happy Hour
DESCRIPTION:Location: La Cascada Table & Bar\nTime: Daily\, 4 PM – 6 PM\nDetails: Join us for daily Drink Specials at La Cascada Bar!
URL:https://www.tapatiosprings.com/event/daily-happy-hour/2026-08-22/
LOCATION:La Cascada Table & Bar
CATEGORIES:Eat & Drink
ATTACH;FMTTYPE=image/jpeg:https://www.tapatiosprings.com/wp-content/uploads/2025/06/ts-detail-FB-3-96-2-scaled.jpg
END:VEVENT
BEGIN:VEVENT
DTSTART;TZID=UTC:20260823T160000
DTEND;TZID=UTC:20260823T180000
DTSTAMP:20260424T064104
CREATED:20250630T195610Z
LAST-MODIFIED:20260111T034134Z
UID:10002264-1787500800-1787508000@www.tapatiosprings.com
SUMMARY:Daily Happy Hour
DESCRIPTION:Location: La Cascada Table & Bar\nTime: Daily\, 4 PM – 6 PM\nDetails: Join us for daily Drink Specials at La Cascada Bar!
URL:https://www.tapatiosprings.com/event/daily-happy-hour/2026-08-23/
LOCATION:La Cascada Table & Bar
CATEGORIES:Eat & Drink
ATTACH;FMTTYPE=image/jpeg:https://www.tapatiosprings.com/wp-content/uploads/2025/06/ts-detail-FB-3-96-2-scaled.jpg
END:VEVENT
BEGIN:VEVENT
DTSTART;TZID=UTC:20260824T160000
DTEND;TZID=UTC:20260824T180000
DTSTAMP:20260424T064104
CREATED:20250630T195610Z
LAST-MODIFIED:20260111T034134Z
UID:10002265-1787587200-1787594400@www.tapatiosprings.com
SUMMARY:Daily Happy Hour
DESCRIPTION:Location: La Cascada Table & Bar\nTime: Daily\, 4 PM – 6 PM\nDetails: Join us for daily Drink Specials at La Cascada Bar!
URL:https://www.tapatiosprings.com/event/daily-happy-hour/2026-08-24/
LOCATION:La Cascada Table & Bar
CATEGORIES:Eat & Drink
ATTACH;FMTTYPE=image/jpeg:https://www.tapatiosprings.com/wp-content/uploads/2025/06/ts-detail-FB-3-96-2-scaled.jpg
END:VEVENT
BEGIN:VEVENT
DTSTART;TZID=UTC:20260825T160000
DTEND;TZID=UTC:20260825T180000
DTSTAMP:20260424T064104
CREATED:20250630T195610Z
LAST-MODIFIED:20260111T034134Z
UID:10002266-1787673600-1787680800@www.tapatiosprings.com
SUMMARY:Daily Happy Hour
DESCRIPTION:Location: La Cascada Table & Bar\nTime: Daily\, 4 PM – 6 PM\nDetails: Join us for daily Drink Specials at La Cascada Bar!
URL:https://www.tapatiosprings.com/event/daily-happy-hour/2026-08-25/
LOCATION:La Cascada Table & Bar
CATEGORIES:Eat & Drink
ATTACH;FMTTYPE=image/jpeg:https://www.tapatiosprings.com/wp-content/uploads/2025/06/ts-detail-FB-3-96-2-scaled.jpg
END:VEVENT
BEGIN:VEVENT
DTSTART;TZID=UTC:20260826T160000
DTEND;TZID=UTC:20260826T180000
DTSTAMP:20260424T064104
CREATED:20250630T195610Z
LAST-MODIFIED:20260111T034134Z
UID:10002267-1787760000-1787767200@www.tapatiosprings.com
SUMMARY:Daily Happy Hour
DESCRIPTION:Location: La Cascada Table & Bar\nTime: Daily\, 4 PM – 6 PM\nDetails: Join us for daily Drink Specials at La Cascada Bar!
URL:https://www.tapatiosprings.com/event/daily-happy-hour/2026-08-26/
LOCATION:La Cascada Table & Bar
CATEGORIES:Eat & Drink
ATTACH;FMTTYPE=image/jpeg:https://www.tapatiosprings.com/wp-content/uploads/2025/06/ts-detail-FB-3-96-2-scaled.jpg
END:VEVENT
BEGIN:VEVENT
DTSTART;TZID=UTC:20260827T160000
DTEND;TZID=UTC:20260827T180000
DTSTAMP:20260424T064104
CREATED:20250630T195610Z
LAST-MODIFIED:20260111T034134Z
UID:10002268-1787846400-1787853600@www.tapatiosprings.com
SUMMARY:Daily Happy Hour
DESCRIPTION:Location: La Cascada Table & Bar\nTime: Daily\, 4 PM – 6 PM\nDetails: Join us for daily Drink Specials at La Cascada Bar!
URL:https://www.tapatiosprings.com/event/daily-happy-hour/2026-08-27/
LOCATION:La Cascada Table & Bar
CATEGORIES:Eat & Drink
ATTACH;FMTTYPE=image/jpeg:https://www.tapatiosprings.com/wp-content/uploads/2025/06/ts-detail-FB-3-96-2-scaled.jpg
END:VEVENT
BEGIN:VEVENT
DTSTART;TZID=UTC:20260828T160000
DTEND;TZID=UTC:20260828T180000
DTSTAMP:20260424T064104
CREATED:20250630T195610Z
LAST-MODIFIED:20260111T034134Z
UID:10002269-1787932800-1787940000@www.tapatiosprings.com
SUMMARY:Daily Happy Hour
DESCRIPTION:Location: La Cascada Table & Bar\nTime: Daily\, 4 PM – 6 PM\nDetails: Join us for daily Drink Specials at La Cascada Bar!
URL:https://www.tapatiosprings.com/event/daily-happy-hour/2026-08-28/
LOCATION:La Cascada Table & Bar
CATEGORIES:Eat & Drink
ATTACH;FMTTYPE=image/jpeg:https://www.tapatiosprings.com/wp-content/uploads/2025/06/ts-detail-FB-3-96-2-scaled.jpg
END:VEVENT
BEGIN:VEVENT
DTSTART;TZID=UTC:20260829T160000
DTEND;TZID=UTC:20260829T180000
DTSTAMP:20260424T064104
CREATED:20250630T195610Z
LAST-MODIFIED:20260111T034134Z
UID:10002270-1788019200-1788026400@www.tapatiosprings.com
SUMMARY:Daily Happy Hour
DESCRIPTION:Location: La Cascada Table & Bar\nTime: Daily\, 4 PM – 6 PM\nDetails: Join us for daily Drink Specials at La Cascada Bar!
URL:https://www.tapatiosprings.com/event/daily-happy-hour/2026-08-29/
LOCATION:La Cascada Table & Bar
CATEGORIES:Eat & Drink
ATTACH;FMTTYPE=image/jpeg:https://www.tapatiosprings.com/wp-content/uploads/2025/06/ts-detail-FB-3-96-2-scaled.jpg
END:VEVENT
BEGIN:VEVENT
DTSTART;TZID=UTC:20260830T160000
DTEND;TZID=UTC:20260830T180000
DTSTAMP:20260424T064104
CREATED:20250630T195610Z
LAST-MODIFIED:20260111T034134Z
UID:10002271-1788105600-1788112800@www.tapatiosprings.com
SUMMARY:Daily Happy Hour
DESCRIPTION:Location: La Cascada Table & Bar\nTime: Daily\, 4 PM – 6 PM\nDetails: Join us for daily Drink Specials at La Cascada Bar!
URL:https://www.tapatiosprings.com/event/daily-happy-hour/2026-08-30/
LOCATION:La Cascada Table & Bar
CATEGORIES:Eat & Drink
ATTACH;FMTTYPE=image/jpeg:https://www.tapatiosprings.com/wp-content/uploads/2025/06/ts-detail-FB-3-96-2-scaled.jpg
END:VEVENT
END:VCALENDAR