BEGIN:VCALENDAR
VERSION:2.0
PRODID:-//Tapatio Springs - ECPv6.15.20//NONSGML v1.0//EN
CALSCALE:GREGORIAN
METHOD:PUBLISH
X-ORIGINAL-URL:https://www.tapatiosprings.com
X-WR-CALDESC:Events for Tapatio Springs
REFRESH-INTERVAL;VALUE=DURATION:PT1H
X-Robots-Tag:noindex
X-PUBLISHED-TTL:PT1H
BEGIN:VTIMEZONE
TZID:UTC
BEGIN:STANDARD
TZOFFSETFROM:+0000
TZOFFSETTO:+0000
TZNAME:UTC
DTSTART:20250101T000000
END:STANDARD
END:VTIMEZONE
BEGIN:VEVENT
DTSTART;TZID=UTC:20260227T150000
DTEND;TZID=UTC:20260301T120000
DTSTAMP:20260421T115703
CREATED:20260204T025749Z
LAST-MODIFIED:20260211T022312Z
UID:10007729-1772204400-1772366400@www.tapatiosprings.com
SUMMARY:'Giddy Up' Wellness Weekend
DESCRIPTION:Slow down\, breathe deep\, and reconnect under the wide Texas sky during this cowboy-inspired wellness weekend in the Hill Country. Thoughtful movement\, restorative moments\, and rustic surroundings come together for a retreat that feels grounded\, unhurried\, and unmistakably Texas. \nNon-members can call 830-537-6236 or e-mail RSVP@tapatio.com to reserve their spot. Members can reserve through the portal. \nBook Today\nITINERARY \nFriday\, February 27th\, 2026\n3:00PM – Guest Check-In\n4:30PM – Sunset Yoga | Meghann Bower\n6:30PM – Welcome Dinner & Nutrition Talk | Natalie Sales with Roundtable Wellness* \nSaturday\, February 28th\, 2026\n7:30AM – Minfulness Pilates | Cathy Ermis\n9:00AM – Juice Bar | Shelby’s Dae-Ly Meals*\n10:00AM – Dance Fitness Class | Ministry of Dance*\n1:00PM – Lunch & Learn | Monique w/ Stahl Medical\n2:30PM – 5:30PM – Med Spa Services | Enrich Health & Wellness*\n2:30 – 5:30PM – Recovery Stretching | Get Fixed Recovery*\n2:30PM – 5:30PM – Chair Massages | Alchemy*\n4:30PM – Golf Simulator | Bomb Bays Golf\n5:30PM – Sunset Paint & Sip | Downtown DIY\n7:00PM – Under The Stars Dinner* \nSunday\, March 1st\, 2026\n7:30AM – Sunrise Yoga | Meghann Bower\n8:30AM – Breakfast in La Cascada* \n*CERTAIN VENDORS WILL BE OFFERING SPECIAL PRICING OR ATTENDEES WILL BE PAYING FOR MEALS ON THEIR OWN
URL:https://www.tapatiosprings.com/event/giddy-up-wellness-weekend/
CATEGORIES:Wellness
ATTACH;FMTTYPE=image/jpeg:https://www.tapatiosprings.com/wp-content/uploads/2025/07/tapatio-yoga-653a7bcb8f75b.jpg
END:VEVENT
BEGIN:VEVENT
DTSTART;TZID=UTC:20260301T160000
DTEND;TZID=UTC:20260301T180000
DTSTAMP:20260421T115703
CREATED:20250630T195610Z
LAST-MODIFIED:20260111T034134Z
UID:10002089-1772380800-1772388000@www.tapatiosprings.com
SUMMARY:Daily Happy Hour
DESCRIPTION:Location: La Cascada Table & Bar\nTime: Daily\, 4 PM – 6 PM\nDetails: Join us for daily Drink Specials at La Cascada Bar!
URL:https://www.tapatiosprings.com/event/daily-happy-hour/2026-03-01/
LOCATION:La Cascada Table & Bar
CATEGORIES:Eat & Drink
ATTACH;FMTTYPE=image/jpeg:https://www.tapatiosprings.com/wp-content/uploads/2025/06/ts-detail-FB-3-96-2-scaled.jpg
END:VEVENT
BEGIN:VEVENT
DTSTART;TZID=UTC:20260302T090000
DTEND;TZID=UTC:20260302T100000
DTSTAMP:20260421T115703
CREATED:20250719T015709Z
LAST-MODIFIED:20260220T021919Z
UID:10004533-1772442000-1772445600@www.tapatiosprings.com
SUMMARY:Yoga Flow
DESCRIPTION:Location: Oaks Pavilion\nTime: Mondays & Thursdays\, 9 AM – 10 AM\n*Complimentary for Resort Guests & Members
URL:https://www.tapatiosprings.com/event/yoga-flow-2/2026-03-02/
LOCATION:Oaks Pavilion
CATEGORIES:Wellness
ATTACH;FMTTYPE=image/webp:https://www.tapatiosprings.com/wp-content/uploads/2025/07/yoga-flow-website-pic-67a3c565a2ebc.webp
END:VEVENT
BEGIN:VEVENT
DTSTART;TZID=UTC:20260302T100000
DTEND;TZID=UTC:20260302T110000
DTSTAMP:20260421T115703
CREATED:20250704T150050Z
LAST-MODIFIED:20251013T232545Z
UID:10004012-1772445600-1772449200@www.tapatiosprings.com
SUMMARY:Tiffany's Bootcamp
DESCRIPTION:Location: Clubhouse Fitness Center\nTime: Mondays & Wednesdays\, 10 AM – 11 AM\nPrice: $10 (Cash Only) \nFirst time participants\, please text Tiffany directly for confirmation: \nPhone: 2103267094 \n 
URL:https://www.tapatiosprings.com/event/tiffanys-bootcamp/2026-03-02/
LOCATION:Clubhouse Fitness Center
CATEGORIES:Wellness
ATTACH;FMTTYPE=image/webp:https://www.tapatiosprings.com/wp-content/uploads/2025/07/fitness-bootcamp-website-pic-67a3c92c402d5.webp
END:VEVENT
BEGIN:VEVENT
DTSTART;TZID=UTC:20260302T160000
DTEND;TZID=UTC:20260302T180000
DTSTAMP:20260421T115703
CREATED:20250630T195610Z
LAST-MODIFIED:20260111T034134Z
UID:10002090-1772467200-1772474400@www.tapatiosprings.com
SUMMARY:Daily Happy Hour
DESCRIPTION:Location: La Cascada Table & Bar\nTime: Daily\, 4 PM – 6 PM\nDetails: Join us for daily Drink Specials at La Cascada Bar!
URL:https://www.tapatiosprings.com/event/daily-happy-hour/2026-03-02/
LOCATION:La Cascada Table & Bar
CATEGORIES:Eat & Drink
ATTACH;FMTTYPE=image/jpeg:https://www.tapatiosprings.com/wp-content/uploads/2025/06/ts-detail-FB-3-96-2-scaled.jpg
END:VEVENT
BEGIN:VEVENT
DTSTART;TZID=UTC:20260303T160000
DTEND;TZID=UTC:20260303T180000
DTSTAMP:20260421T115703
CREATED:20250630T195610Z
LAST-MODIFIED:20260111T034134Z
UID:10002091-1772553600-1772560800@www.tapatiosprings.com
SUMMARY:Daily Happy Hour
DESCRIPTION:Location: La Cascada Table & Bar\nTime: Daily\, 4 PM – 6 PM\nDetails: Join us for daily Drink Specials at La Cascada Bar!
URL:https://www.tapatiosprings.com/event/daily-happy-hour/2026-03-03/
LOCATION:La Cascada Table & Bar
CATEGORIES:Eat & Drink
ATTACH;FMTTYPE=image/jpeg:https://www.tapatiosprings.com/wp-content/uploads/2025/06/ts-detail-FB-3-96-2-scaled.jpg
END:VEVENT
BEGIN:VEVENT
DTSTART;TZID=UTC:20260304T100000
DTEND;TZID=UTC:20260304T110000
DTSTAMP:20260421T115703
CREATED:20250704T150050Z
LAST-MODIFIED:20251013T232545Z
UID:10004013-1772618400-1772622000@www.tapatiosprings.com
SUMMARY:Tiffany's Bootcamp
DESCRIPTION:Location: Clubhouse Fitness Center\nTime: Mondays & Wednesdays\, 10 AM – 11 AM\nPrice: $10 (Cash Only) \nFirst time participants\, please text Tiffany directly for confirmation: \nPhone: 2103267094 \n 
URL:https://www.tapatiosprings.com/event/tiffanys-bootcamp/2026-03-04/
LOCATION:Clubhouse Fitness Center
CATEGORIES:Wellness
ATTACH;FMTTYPE=image/webp:https://www.tapatiosprings.com/wp-content/uploads/2025/07/fitness-bootcamp-website-pic-67a3c92c402d5.webp
END:VEVENT
BEGIN:VEVENT
DTSTART;TZID=UTC:20260304T110000
DTEND;TZID=UTC:20260304T210000
DTSTAMP:20260421T115703
CREATED:20250715T201631Z
LAST-MODIFIED:20260414T150920Z
UID:10003719-1772622000-1772658000@www.tapatiosprings.com
SUMMARY:Wine Wednesday
DESCRIPTION:Location: La Cascada Table & Bar\nTime: Wednesdays\, 11 AM – Close\nDetails: Half Off Bottles of Wine (Max. Discount $50)
URL:https://www.tapatiosprings.com/event/wine-wednesday/2026-03-04/
LOCATION:La Cascada Table & Bar
CATEGORIES:Eat & Drink
ATTACH;FMTTYPE=image/webp:https://www.tapatiosprings.com/wp-content/uploads/2025/07/tapatiospringshillcountryresort-boerneevents-eventcalendar-01-65b2b5b57d26a.webp
END:VEVENT
BEGIN:VEVENT
DTSTART;TZID=UTC:20260304T160000
DTEND;TZID=UTC:20260304T180000
DTSTAMP:20260421T115703
CREATED:20250630T195610Z
LAST-MODIFIED:20260111T034134Z
UID:10002092-1772640000-1772647200@www.tapatiosprings.com
SUMMARY:Daily Happy Hour
DESCRIPTION:Location: La Cascada Table & Bar\nTime: Daily\, 4 PM – 6 PM\nDetails: Join us for daily Drink Specials at La Cascada Bar!
URL:https://www.tapatiosprings.com/event/daily-happy-hour/2026-03-04/
LOCATION:La Cascada Table & Bar
CATEGORIES:Eat & Drink
ATTACH;FMTTYPE=image/jpeg:https://www.tapatiosprings.com/wp-content/uploads/2025/06/ts-detail-FB-3-96-2-scaled.jpg
END:VEVENT
BEGIN:VEVENT
DTSTART;TZID=UTC:20260305T090000
DTEND;TZID=UTC:20260305T100000
DTSTAMP:20260421T115703
CREATED:20250719T015709Z
LAST-MODIFIED:20260220T021919Z
UID:10004534-1772701200-1772704800@www.tapatiosprings.com
SUMMARY:Yoga Flow
DESCRIPTION:Location: Oaks Pavilion\nTime: Mondays & Thursdays\, 9 AM – 10 AM\n*Complimentary for Resort Guests & Members
URL:https://www.tapatiosprings.com/event/yoga-flow-2/2026-03-05/
LOCATION:Oaks Pavilion
CATEGORIES:Wellness
ATTACH;FMTTYPE=image/webp:https://www.tapatiosprings.com/wp-content/uploads/2025/07/yoga-flow-website-pic-67a3c565a2ebc.webp
END:VEVENT
BEGIN:VEVENT
DTSTART;TZID=UTC:20260305T160000
DTEND;TZID=UTC:20260305T180000
DTSTAMP:20260421T115703
CREATED:20250630T195610Z
LAST-MODIFIED:20260111T034134Z
UID:10002093-1772726400-1772733600@www.tapatiosprings.com
SUMMARY:Daily Happy Hour
DESCRIPTION:Location: La Cascada Table & Bar\nTime: Daily\, 4 PM – 6 PM\nDetails: Join us for daily Drink Specials at La Cascada Bar!
URL:https://www.tapatiosprings.com/event/daily-happy-hour/2026-03-05/
LOCATION:La Cascada Table & Bar
CATEGORIES:Eat & Drink
ATTACH;FMTTYPE=image/jpeg:https://www.tapatiosprings.com/wp-content/uploads/2025/06/ts-detail-FB-3-96-2-scaled.jpg
END:VEVENT
BEGIN:VEVENT
DTSTART;TZID=UTC:20260305T183000
DTEND;TZID=UTC:20260305T223000
DTSTAMP:20260421T115703
CREATED:20250715T211212Z
LAST-MODIFIED:20260121T022326Z
UID:10006298-1772735400-1772749800@www.tapatiosprings.com
SUMMARY:Trivia Night
DESCRIPTION:Location: La Cascada Table & Bar – Patio\nTime: First Thursday every Month\, 6:30 PM – 8:30 PM\nDetails: Win Gift Card prizes up to $50!
URL:https://www.tapatiosprings.com/event/trivia-night/2026-03-05/
LOCATION:La Cascada Table & Bar – Patio
CATEGORIES:Children & Family,Hotel Events
ATTACH;FMTTYPE=image/png:https://www.tapatiosprings.com/wp-content/uploads/2025/07/Trivia-Stock-Photo.png
END:VEVENT
BEGIN:VEVENT
DTSTART;TZID=UTC:20260306T080000
DTEND;TZID=UTC:20260314T170000
DTSTAMP:20260421T115703
CREATED:20260224T201011Z
LAST-MODIFIED:20260224T201101Z
UID:10007732-1772784000-1773507600@www.tapatiosprings.com
SUMMARY:Spring Break at Tapatio Springs
DESCRIPTION:Shake off the usual and escape to Tapatio Springs Hill Country Resort for a spring break defined by sunshine\, open skies\, and genuine Texas hospitality. Set among rolling hills and live oaks\, the resort invites easy mornings\, outdoor adventures\, and laid-back afternoons by the pool. Spend your days golfing\, exploring scenic trails\, or savoring poolside drinks as the Hill Country comes alive in bloom. Here\, spring break feels effortless\, welcoming\, and refreshingly unhurried—just the way it should be. \nBook one of our Spring Packages and save up to 20%!
URL:https://www.tapatiosprings.com/event/spring-break-at-tapatio-springs/
CATEGORIES:Hotel Events,Special Events
ATTACH;FMTTYPE=image/jpeg:https://www.tapatiosprings.com/wp-content/uploads/2025/07/Pool_Closeup_v3-edited-Pixlr.jpg
END:VEVENT
BEGIN:VEVENT
DTSTART;TZID=UTC:20260306T103000
DTEND;TZID=UTC:20260306T113000
DTSTAMP:20260421T115703
CREATED:20250715T204730Z
LAST-MODIFIED:20260220T021950Z
UID:10005543-1772793000-1772796600@www.tapatiosprings.com
SUMMARY:Mat Pilates with Props
DESCRIPTION:Location: Evergreen Room\nTime: Every Friday\, 10:30 – 11:30 AM\n*Complimentary for Resort Guests & Members
URL:https://www.tapatiosprings.com/event/mat-pilates-with-props/2026-03-06/
LOCATION:Evergreen Room
CATEGORIES:Wellness
ATTACH;FMTTYPE=image/webp:https://www.tapatiosprings.com/wp-content/uploads/2025/07/mat-pilates-website-pic-67a3c53b6f3f2.webp
END:VEVENT
BEGIN:VEVENT
DTSTART;TZID=UTC:20260306T160000
DTEND;TZID=UTC:20260306T180000
DTSTAMP:20260421T115703
CREATED:20250630T195610Z
LAST-MODIFIED:20260111T034134Z
UID:10002094-1772812800-1772820000@www.tapatiosprings.com
SUMMARY:Daily Happy Hour
DESCRIPTION:Location: La Cascada Table & Bar\nTime: Daily\, 4 PM – 6 PM\nDetails: Join us for daily Drink Specials at La Cascada Bar!
URL:https://www.tapatiosprings.com/event/daily-happy-hour/2026-03-06/
LOCATION:La Cascada Table & Bar
CATEGORIES:Eat & Drink
ATTACH;FMTTYPE=image/jpeg:https://www.tapatiosprings.com/wp-content/uploads/2025/06/ts-detail-FB-3-96-2-scaled.jpg
END:VEVENT
BEGIN:VEVENT
DTSTART;TZID=UTC:20260306T190000
DTEND;TZID=UTC:20260306T220000
DTSTAMP:20260421T115703
CREATED:20260111T015503Z
LAST-MODIFIED:20260111T015503Z
UID:10007527-1772823600-1772834400@www.tapatiosprings.com
SUMMARY:Singer/Songwriter Series - Ruben Pacheco
DESCRIPTION:Location: La Cascada Table & Bar – Patio\nTime: 7 PM – 10 PM\n*Reservations Required
URL:https://www.tapatiosprings.com/event/singer-songwriter-series-ruben-pacheco-3/
LOCATION:La Cascada Table & Bar – Patio
CATEGORIES:Music
ATTACH;FMTTYPE=image/webp:https://www.tapatiosprings.com/wp-content/uploads/2025/07/ruben-pacheco-compressed-6679cf07ec172.webp
END:VEVENT
BEGIN:VEVENT
DTSTART;TZID=UTC:20260307T160000
DTEND;TZID=UTC:20260307T180000
DTSTAMP:20260421T115703
CREATED:20250630T195610Z
LAST-MODIFIED:20260111T034134Z
UID:10002095-1772899200-1772906400@www.tapatiosprings.com
SUMMARY:Daily Happy Hour
DESCRIPTION:Location: La Cascada Table & Bar\nTime: Daily\, 4 PM – 6 PM\nDetails: Join us for daily Drink Specials at La Cascada Bar!
URL:https://www.tapatiosprings.com/event/daily-happy-hour/2026-03-07/
LOCATION:La Cascada Table & Bar
CATEGORIES:Eat & Drink
ATTACH;FMTTYPE=image/jpeg:https://www.tapatiosprings.com/wp-content/uploads/2025/06/ts-detail-FB-3-96-2-scaled.jpg
END:VEVENT
BEGIN:VEVENT
DTSTART;TZID=UTC:20260307T190000
DTEND;TZID=UTC:20260307T220000
DTSTAMP:20260421T115703
CREATED:20260111T015546Z
LAST-MODIFIED:20260111T015546Z
UID:10007528-1772910000-1772920800@www.tapatiosprings.com
SUMMARY:Singer/Songwriter Series - Beckem Young
DESCRIPTION:Location: La Cascada Table & Bar – Patio\nTime: 7 PM – 10 PM\n*Reservations Required
URL:https://www.tapatiosprings.com/event/singer-songwriter-series-beckem-young-3/
LOCATION:La Cascada Table & Bar – Patio
CATEGORIES:Music
ATTACH;FMTTYPE=image/jpeg:https://www.tapatiosprings.com/wp-content/uploads/2025/07/musician-2943109_1920.jpg
END:VEVENT
BEGIN:VEVENT
DTSTART;TZID=UTC:20260308T160000
DTEND;TZID=UTC:20260308T180000
DTSTAMP:20260421T115703
CREATED:20250630T195610Z
LAST-MODIFIED:20260111T034134Z
UID:10002096-1772985600-1772992800@www.tapatiosprings.com
SUMMARY:Daily Happy Hour
DESCRIPTION:Location: La Cascada Table & Bar\nTime: Daily\, 4 PM – 6 PM\nDetails: Join us for daily Drink Specials at La Cascada Bar!
URL:https://www.tapatiosprings.com/event/daily-happy-hour/2026-03-08/
LOCATION:La Cascada Table & Bar
CATEGORIES:Eat & Drink
ATTACH;FMTTYPE=image/jpeg:https://www.tapatiosprings.com/wp-content/uploads/2025/06/ts-detail-FB-3-96-2-scaled.jpg
END:VEVENT
BEGIN:VEVENT
DTSTART;TZID=UTC:20260308T190000
DTEND;TZID=UTC:20260308T220000
DTSTAMP:20260421T115703
CREATED:20260111T015728Z
LAST-MODIFIED:20260212T230030Z
UID:10007529-1772996400-1773007200@www.tapatiosprings.com
SUMMARY:Singer/Songwriter Series - Noah Kurtis
DESCRIPTION:Location: La Cascada Table & Bar – Patio\nTime: 7 PM – 10 PM\n*Reservations Required
URL:https://www.tapatiosprings.com/event/singer-songwriter-series-noah-kurtis-3/
LOCATION:La Cascada Table & Bar – Patio
CATEGORIES:Music
ATTACH;FMTTYPE=image/png:https://www.tapatiosprings.com/wp-content/uploads/2025/10/Noah-Kurtis-Solo_compressed.png
END:VEVENT
BEGIN:VEVENT
DTSTART;TZID=UTC:20260309T090000
DTEND;TZID=UTC:20260309T100000
DTSTAMP:20260421T115703
CREATED:20250719T015709Z
LAST-MODIFIED:20260220T021919Z
UID:10004535-1773046800-1773050400@www.tapatiosprings.com
SUMMARY:Yoga Flow
DESCRIPTION:Location: Oaks Pavilion\nTime: Mondays & Thursdays\, 9 AM – 10 AM\n*Complimentary for Resort Guests & Members
URL:https://www.tapatiosprings.com/event/yoga-flow-2/2026-03-09/
LOCATION:Oaks Pavilion
CATEGORIES:Wellness
ATTACH;FMTTYPE=image/webp:https://www.tapatiosprings.com/wp-content/uploads/2025/07/yoga-flow-website-pic-67a3c565a2ebc.webp
END:VEVENT
BEGIN:VEVENT
DTSTART;TZID=UTC:20260309T100000
DTEND;TZID=UTC:20260309T110000
DTSTAMP:20260421T115703
CREATED:20250704T150050Z
LAST-MODIFIED:20251013T232545Z
UID:10004014-1773050400-1773054000@www.tapatiosprings.com
SUMMARY:Tiffany's Bootcamp
DESCRIPTION:Location: Clubhouse Fitness Center\nTime: Mondays & Wednesdays\, 10 AM – 11 AM\nPrice: $10 (Cash Only) \nFirst time participants\, please text Tiffany directly for confirmation: \nPhone: 2103267094 \n 
URL:https://www.tapatiosprings.com/event/tiffanys-bootcamp/2026-03-09/
LOCATION:Clubhouse Fitness Center
CATEGORIES:Wellness
ATTACH;FMTTYPE=image/webp:https://www.tapatiosprings.com/wp-content/uploads/2025/07/fitness-bootcamp-website-pic-67a3c92c402d5.webp
END:VEVENT
BEGIN:VEVENT
DTSTART;TZID=UTC:20260309T160000
DTEND;TZID=UTC:20260309T180000
DTSTAMP:20260421T115703
CREATED:20250630T195610Z
LAST-MODIFIED:20260111T034134Z
UID:10002097-1773072000-1773079200@www.tapatiosprings.com
SUMMARY:Daily Happy Hour
DESCRIPTION:Location: La Cascada Table & Bar\nTime: Daily\, 4 PM – 6 PM\nDetails: Join us for daily Drink Specials at La Cascada Bar!
URL:https://www.tapatiosprings.com/event/daily-happy-hour/2026-03-09/
LOCATION:La Cascada Table & Bar
CATEGORIES:Eat & Drink
ATTACH;FMTTYPE=image/jpeg:https://www.tapatiosprings.com/wp-content/uploads/2025/06/ts-detail-FB-3-96-2-scaled.jpg
END:VEVENT
BEGIN:VEVENT
DTSTART;TZID=UTC:20260310T160000
DTEND;TZID=UTC:20260310T180000
DTSTAMP:20260421T115703
CREATED:20250630T195610Z
LAST-MODIFIED:20260111T034134Z
UID:10002098-1773158400-1773165600@www.tapatiosprings.com
SUMMARY:Daily Happy Hour
DESCRIPTION:Location: La Cascada Table & Bar\nTime: Daily\, 4 PM – 6 PM\nDetails: Join us for daily Drink Specials at La Cascada Bar!
URL:https://www.tapatiosprings.com/event/daily-happy-hour/2026-03-10/
LOCATION:La Cascada Table & Bar
CATEGORIES:Eat & Drink
ATTACH;FMTTYPE=image/jpeg:https://www.tapatiosprings.com/wp-content/uploads/2025/06/ts-detail-FB-3-96-2-scaled.jpg
END:VEVENT
BEGIN:VEVENT
DTSTART;TZID=UTC:20260311T100000
DTEND;TZID=UTC:20260311T110000
DTSTAMP:20260421T115703
CREATED:20250704T150050Z
LAST-MODIFIED:20251013T232545Z
UID:10004015-1773223200-1773226800@www.tapatiosprings.com
SUMMARY:Tiffany's Bootcamp
DESCRIPTION:Location: Clubhouse Fitness Center\nTime: Mondays & Wednesdays\, 10 AM – 11 AM\nPrice: $10 (Cash Only) \nFirst time participants\, please text Tiffany directly for confirmation: \nPhone: 2103267094 \n 
URL:https://www.tapatiosprings.com/event/tiffanys-bootcamp/2026-03-11/
LOCATION:Clubhouse Fitness Center
CATEGORIES:Wellness
ATTACH;FMTTYPE=image/webp:https://www.tapatiosprings.com/wp-content/uploads/2025/07/fitness-bootcamp-website-pic-67a3c92c402d5.webp
END:VEVENT
BEGIN:VEVENT
DTSTART;TZID=UTC:20260311T110000
DTEND;TZID=UTC:20260311T210000
DTSTAMP:20260421T115703
CREATED:20250715T201631Z
LAST-MODIFIED:20260414T150920Z
UID:10003720-1773226800-1773262800@www.tapatiosprings.com
SUMMARY:Wine Wednesday
DESCRIPTION:Location: La Cascada Table & Bar\nTime: Wednesdays\, 11 AM – Close\nDetails: Half Off Bottles of Wine (Max. Discount $50)
URL:https://www.tapatiosprings.com/event/wine-wednesday/2026-03-11/
LOCATION:La Cascada Table & Bar
CATEGORIES:Eat & Drink
ATTACH;FMTTYPE=image/webp:https://www.tapatiosprings.com/wp-content/uploads/2025/07/tapatiospringshillcountryresort-boerneevents-eventcalendar-01-65b2b5b57d26a.webp
END:VEVENT
BEGIN:VEVENT
DTSTART;TZID=UTC:20260311T160000
DTEND;TZID=UTC:20260311T180000
DTSTAMP:20260421T115703
CREATED:20250630T195610Z
LAST-MODIFIED:20260111T034134Z
UID:10002099-1773244800-1773252000@www.tapatiosprings.com
SUMMARY:Daily Happy Hour
DESCRIPTION:Location: La Cascada Table & Bar\nTime: Daily\, 4 PM – 6 PM\nDetails: Join us for daily Drink Specials at La Cascada Bar!
URL:https://www.tapatiosprings.com/event/daily-happy-hour/2026-03-11/
LOCATION:La Cascada Table & Bar
CATEGORIES:Eat & Drink
ATTACH;FMTTYPE=image/jpeg:https://www.tapatiosprings.com/wp-content/uploads/2025/06/ts-detail-FB-3-96-2-scaled.jpg
END:VEVENT
BEGIN:VEVENT
DTSTART;TZID=UTC:20260311T180000
DTEND;TZID=UTC:20260311T210000
DTSTAMP:20260421T115703
CREATED:20260312T003252Z
LAST-MODIFIED:20260312T003252Z
UID:10007736-1773252000-1773262800@www.tapatiosprings.com
SUMMARY:Singo
DESCRIPTION:Join us for Singo – musical Bingo\, a new exciting musical spin on the traditional game of Bingo!
URL:https://www.tapatiosprings.com/event/singo/
CATEGORIES:Hotel Events
ATTACH;FMTTYPE=image/png:https://www.tapatiosprings.com/wp-content/uploads/2026/01/Bingo-Website-Stock-Pic.png
END:VEVENT
BEGIN:VEVENT
DTSTART;TZID=UTC:20260312T090000
DTEND;TZID=UTC:20260312T100000
DTSTAMP:20260421T115703
CREATED:20250719T015709Z
LAST-MODIFIED:20260220T021919Z
UID:10004536-1773306000-1773309600@www.tapatiosprings.com
SUMMARY:Yoga Flow
DESCRIPTION:Location: Oaks Pavilion\nTime: Mondays & Thursdays\, 9 AM – 10 AM\n*Complimentary for Resort Guests & Members
URL:https://www.tapatiosprings.com/event/yoga-flow-2/2026-03-12/
LOCATION:Oaks Pavilion
CATEGORIES:Wellness
ATTACH;FMTTYPE=image/webp:https://www.tapatiosprings.com/wp-content/uploads/2025/07/yoga-flow-website-pic-67a3c565a2ebc.webp
END:VEVENT
BEGIN:VEVENT
DTSTART;TZID=UTC:20260312T160000
DTEND;TZID=UTC:20260312T180000
DTSTAMP:20260421T115703
CREATED:20250630T195610Z
LAST-MODIFIED:20260111T034134Z
UID:10002100-1773331200-1773338400@www.tapatiosprings.com
SUMMARY:Daily Happy Hour
DESCRIPTION:Location: La Cascada Table & Bar\nTime: Daily\, 4 PM – 6 PM\nDetails: Join us for daily Drink Specials at La Cascada Bar!
URL:https://www.tapatiosprings.com/event/daily-happy-hour/2026-03-12/
LOCATION:La Cascada Table & Bar
CATEGORIES:Eat & Drink
ATTACH;FMTTYPE=image/jpeg:https://www.tapatiosprings.com/wp-content/uploads/2025/06/ts-detail-FB-3-96-2-scaled.jpg
END:VEVENT
END:VCALENDAR