BEGIN:VCALENDAR
VERSION:2.0
PRODID:-//Tapatio Springs - ECPv6.15.20//NONSGML v1.0//EN
CALSCALE:GREGORIAN
METHOD:PUBLISH
X-ORIGINAL-URL:https://www.tapatiosprings.com
X-WR-CALDESC:Events for Tapatio Springs
REFRESH-INTERVAL;VALUE=DURATION:PT1H
X-Robots-Tag:noindex
X-PUBLISHED-TTL:PT1H
BEGIN:VTIMEZONE
TZID:UTC
BEGIN:STANDARD
TZOFFSETFROM:+0000
TZOFFSETTO:+0000
TZNAME:UTC
DTSTART:20250101T000000
END:STANDARD
END:VTIMEZONE
BEGIN:VTIMEZONE
TZID:America/Mexico_City
BEGIN:STANDARD
TZOFFSETFROM:-0600
TZOFFSETTO:-0600
TZNAME:CST
DTSTART:20250101T000000
END:STANDARD
END:VTIMEZONE
BEGIN:VEVENT
DTSTART;TZID=UTC:20260619T160000
DTEND;TZID=UTC:20260619T180000
DTSTAMP:20260421T191643
CREATED:20250630T195610Z
LAST-MODIFIED:20260111T034134Z
UID:10002199-1781884800-1781892000@www.tapatiosprings.com
SUMMARY:Daily Happy Hour
DESCRIPTION:Location: La Cascada Table & Bar\nTime: Daily\, 4 PM – 6 PM\nDetails: Join us for daily Drink Specials at La Cascada Bar!
URL:https://www.tapatiosprings.com/event/daily-happy-hour/2026-06-19/
LOCATION:La Cascada Table & Bar
CATEGORIES:Eat & Drink
ATTACH;FMTTYPE=image/jpeg:https://www.tapatiosprings.com/wp-content/uploads/2025/06/ts-detail-FB-3-96-2-scaled.jpg
END:VEVENT
BEGIN:VEVENT
DTSTART;TZID=UTC:20260620T160000
DTEND;TZID=UTC:20260620T180000
DTSTAMP:20260421T191643
CREATED:20250630T195610Z
LAST-MODIFIED:20260111T034134Z
UID:10002200-1781971200-1781978400@www.tapatiosprings.com
SUMMARY:Daily Happy Hour
DESCRIPTION:Location: La Cascada Table & Bar\nTime: Daily\, 4 PM – 6 PM\nDetails: Join us for daily Drink Specials at La Cascada Bar!
URL:https://www.tapatiosprings.com/event/daily-happy-hour/2026-06-20/
LOCATION:La Cascada Table & Bar
CATEGORIES:Eat & Drink
ATTACH;FMTTYPE=image/jpeg:https://www.tapatiosprings.com/wp-content/uploads/2025/06/ts-detail-FB-3-96-2-scaled.jpg
END:VEVENT
BEGIN:VEVENT
DTSTART;TZID=America/Mexico_City:20260621T110000
DTEND;TZID=America/Mexico_City:20260621T160000
DTSTAMP:20260421T191643
CREATED:20260417T024230Z
LAST-MODIFIED:20260417T025200Z
UID:10007980-1782039600-1782057600@www.tapatiosprings.com
SUMMARY:Father's Day BBQ
DESCRIPTION:Father’s Day BBQ \nSunday\, June 21st\nLa Cascada Table & Bar\n11:00 AM – 4:00 PM \n  \nCelebrate Dad with great food\, cold drinks\, and Hill Country vibes at Tapatio’s La Cascada Table & Bar! Join us for a Father’s Day BBQ on Sunday\, June 21\, from 11:00 AM to 4:00 PM\, featuring mouthwatering BBQ favorites\, chef-inspired specials\, and refreshing beverages from the bar. Whether you’re treating Dad to a relaxed afternoon meal or gathering the whole family together\, La Cascada offers the perfect setting to unwind\, enjoy delicious food\, and make the day memorable. Come celebrate the fathers and father figures in your life with a feast worthy of them. Date: Sunday\, June 21 Time: 11:00 AM – 4:00 PM Location: Tapatio’s La Cascada Table & Bar
URL:https://www.tapatiosprings.com/event/fathers-day-bbq/
ATTACH;FMTTYPE=image/jpeg:https://www.tapatiosprings.com/wp-content/uploads/2026/04/fathers-day-bbq.jpg
END:VEVENT
BEGIN:VEVENT
DTSTART;TZID=UTC:20260621T160000
DTEND;TZID=UTC:20260621T180000
DTSTAMP:20260421T191643
CREATED:20250630T195610Z
LAST-MODIFIED:20260111T034134Z
UID:10002201-1782057600-1782064800@www.tapatiosprings.com
SUMMARY:Daily Happy Hour
DESCRIPTION:Location: La Cascada Table & Bar\nTime: Daily\, 4 PM – 6 PM\nDetails: Join us for daily Drink Specials at La Cascada Bar!
URL:https://www.tapatiosprings.com/event/daily-happy-hour/2026-06-21/
LOCATION:La Cascada Table & Bar
CATEGORIES:Eat & Drink
ATTACH;FMTTYPE=image/jpeg:https://www.tapatiosprings.com/wp-content/uploads/2025/06/ts-detail-FB-3-96-2-scaled.jpg
END:VEVENT
BEGIN:VEVENT
DTSTART;TZID=UTC:20260622T090000
DTEND;TZID=UTC:20260622T100000
DTSTAMP:20260421T191643
CREATED:20250719T015709Z
LAST-MODIFIED:20260220T021919Z
UID:10004565-1782118800-1782122400@www.tapatiosprings.com
SUMMARY:Yoga Flow
DESCRIPTION:Location: Oaks Pavilion\nTime: Mondays & Thursdays\, 9 AM – 10 AM\n*Complimentary for Resort Guests & Members
URL:https://www.tapatiosprings.com/event/yoga-flow-2/2026-06-22/
LOCATION:Oaks Pavilion
CATEGORIES:Wellness
ATTACH;FMTTYPE=image/webp:https://www.tapatiosprings.com/wp-content/uploads/2025/07/yoga-flow-website-pic-67a3c565a2ebc.webp
END:VEVENT
BEGIN:VEVENT
DTSTART;TZID=UTC:20260622T100000
DTEND;TZID=UTC:20260622T110000
DTSTAMP:20260421T191643
CREATED:20250704T150050Z
LAST-MODIFIED:20251013T232545Z
UID:10004044-1782122400-1782126000@www.tapatiosprings.com
SUMMARY:Tiffany's Bootcamp
DESCRIPTION:Location: Clubhouse Fitness Center\nTime: Mondays & Wednesdays\, 10 AM – 11 AM\nPrice: $10 (Cash Only) \nFirst time participants\, please text Tiffany directly for confirmation: \nPhone: 2103267094 \n 
URL:https://www.tapatiosprings.com/event/tiffanys-bootcamp/2026-06-22/
LOCATION:Clubhouse Fitness Center
CATEGORIES:Wellness
ATTACH;FMTTYPE=image/webp:https://www.tapatiosprings.com/wp-content/uploads/2025/07/fitness-bootcamp-website-pic-67a3c92c402d5.webp
END:VEVENT
BEGIN:VEVENT
DTSTART;TZID=UTC:20260622T160000
DTEND;TZID=UTC:20260622T180000
DTSTAMP:20260421T191643
CREATED:20250630T195610Z
LAST-MODIFIED:20260111T034134Z
UID:10002202-1782144000-1782151200@www.tapatiosprings.com
SUMMARY:Daily Happy Hour
DESCRIPTION:Location: La Cascada Table & Bar\nTime: Daily\, 4 PM – 6 PM\nDetails: Join us for daily Drink Specials at La Cascada Bar!
URL:https://www.tapatiosprings.com/event/daily-happy-hour/2026-06-22/
LOCATION:La Cascada Table & Bar
CATEGORIES:Eat & Drink
ATTACH;FMTTYPE=image/jpeg:https://www.tapatiosprings.com/wp-content/uploads/2025/06/ts-detail-FB-3-96-2-scaled.jpg
END:VEVENT
BEGIN:VEVENT
DTSTART;TZID=UTC:20260623T160000
DTEND;TZID=UTC:20260623T180000
DTSTAMP:20260421T191643
CREATED:20250630T195610Z
LAST-MODIFIED:20260111T034134Z
UID:10002203-1782230400-1782237600@www.tapatiosprings.com
SUMMARY:Daily Happy Hour
DESCRIPTION:Location: La Cascada Table & Bar\nTime: Daily\, 4 PM – 6 PM\nDetails: Join us for daily Drink Specials at La Cascada Bar!
URL:https://www.tapatiosprings.com/event/daily-happy-hour/2026-06-23/
LOCATION:La Cascada Table & Bar
CATEGORIES:Eat & Drink
ATTACH;FMTTYPE=image/jpeg:https://www.tapatiosprings.com/wp-content/uploads/2025/06/ts-detail-FB-3-96-2-scaled.jpg
END:VEVENT
BEGIN:VEVENT
DTSTART;TZID=UTC:20260624T100000
DTEND;TZID=UTC:20260624T110000
DTSTAMP:20260421T191643
CREATED:20250704T150050Z
LAST-MODIFIED:20251013T232545Z
UID:10004045-1782295200-1782298800@www.tapatiosprings.com
SUMMARY:Tiffany's Bootcamp
DESCRIPTION:Location: Clubhouse Fitness Center\nTime: Mondays & Wednesdays\, 10 AM – 11 AM\nPrice: $10 (Cash Only) \nFirst time participants\, please text Tiffany directly for confirmation: \nPhone: 2103267094 \n 
URL:https://www.tapatiosprings.com/event/tiffanys-bootcamp/2026-06-24/
LOCATION:Clubhouse Fitness Center
CATEGORIES:Wellness
ATTACH;FMTTYPE=image/webp:https://www.tapatiosprings.com/wp-content/uploads/2025/07/fitness-bootcamp-website-pic-67a3c92c402d5.webp
END:VEVENT
BEGIN:VEVENT
DTSTART;TZID=UTC:20260624T110000
DTEND;TZID=UTC:20260624T210000
DTSTAMP:20260421T191643
CREATED:20250715T201631Z
LAST-MODIFIED:20260414T150920Z
UID:10003735-1782298800-1782334800@www.tapatiosprings.com
SUMMARY:Wine Wednesday
DESCRIPTION:Location: La Cascada Table & Bar\nTime: Wednesdays\, 11 AM – Close\nDetails: Half Off Bottles of Wine (Max. Discount $50)
URL:https://www.tapatiosprings.com/event/wine-wednesday/2026-06-24/
LOCATION:La Cascada Table & Bar
CATEGORIES:Eat & Drink
ATTACH;FMTTYPE=image/webp:https://www.tapatiosprings.com/wp-content/uploads/2025/07/tapatiospringshillcountryresort-boerneevents-eventcalendar-01-65b2b5b57d26a.webp
END:VEVENT
BEGIN:VEVENT
DTSTART;TZID=UTC:20260624T160000
DTEND;TZID=UTC:20260624T180000
DTSTAMP:20260421T191643
CREATED:20250630T195610Z
LAST-MODIFIED:20260111T034134Z
UID:10002204-1782316800-1782324000@www.tapatiosprings.com
SUMMARY:Daily Happy Hour
DESCRIPTION:Location: La Cascada Table & Bar\nTime: Daily\, 4 PM – 6 PM\nDetails: Join us for daily Drink Specials at La Cascada Bar!
URL:https://www.tapatiosprings.com/event/daily-happy-hour/2026-06-24/
LOCATION:La Cascada Table & Bar
CATEGORIES:Eat & Drink
ATTACH;FMTTYPE=image/jpeg:https://www.tapatiosprings.com/wp-content/uploads/2025/06/ts-detail-FB-3-96-2-scaled.jpg
END:VEVENT
BEGIN:VEVENT
DTSTART;TZID=UTC:20260625T090000
DTEND;TZID=UTC:20260625T100000
DTSTAMP:20260421T191643
CREATED:20250719T015709Z
LAST-MODIFIED:20260220T021919Z
UID:10004566-1782378000-1782381600@www.tapatiosprings.com
SUMMARY:Yoga Flow
DESCRIPTION:Location: Oaks Pavilion\nTime: Mondays & Thursdays\, 9 AM – 10 AM\n*Complimentary for Resort Guests & Members
URL:https://www.tapatiosprings.com/event/yoga-flow-2/2026-06-25/
LOCATION:Oaks Pavilion
CATEGORIES:Wellness
ATTACH;FMTTYPE=image/webp:https://www.tapatiosprings.com/wp-content/uploads/2025/07/yoga-flow-website-pic-67a3c565a2ebc.webp
END:VEVENT
BEGIN:VEVENT
DTSTART;TZID=UTC:20260625T160000
DTEND;TZID=UTC:20260625T180000
DTSTAMP:20260421T191643
CREATED:20250630T195610Z
LAST-MODIFIED:20260111T034134Z
UID:10002205-1782403200-1782410400@www.tapatiosprings.com
SUMMARY:Daily Happy Hour
DESCRIPTION:Location: La Cascada Table & Bar\nTime: Daily\, 4 PM – 6 PM\nDetails: Join us for daily Drink Specials at La Cascada Bar!
URL:https://www.tapatiosprings.com/event/daily-happy-hour/2026-06-25/
LOCATION:La Cascada Table & Bar
CATEGORIES:Eat & Drink
ATTACH;FMTTYPE=image/jpeg:https://www.tapatiosprings.com/wp-content/uploads/2025/06/ts-detail-FB-3-96-2-scaled.jpg
END:VEVENT
BEGIN:VEVENT
DTSTART;TZID=UTC:20260626T103000
DTEND;TZID=UTC:20260626T113000
DTSTAMP:20260421T191643
CREATED:20250715T204730Z
LAST-MODIFIED:20260220T021950Z
UID:10005559-1782469800-1782473400@www.tapatiosprings.com
SUMMARY:Mat Pilates with Props
DESCRIPTION:Location: Evergreen Room\nTime: Every Friday\, 10:30 – 11:30 AM\n*Complimentary for Resort Guests & Members
URL:https://www.tapatiosprings.com/event/mat-pilates-with-props/2026-06-26/
LOCATION:Evergreen Room
CATEGORIES:Wellness
ATTACH;FMTTYPE=image/webp:https://www.tapatiosprings.com/wp-content/uploads/2025/07/mat-pilates-website-pic-67a3c53b6f3f2.webp
END:VEVENT
BEGIN:VEVENT
DTSTART;TZID=UTC:20260626T160000
DTEND;TZID=UTC:20260626T180000
DTSTAMP:20260421T191643
CREATED:20250630T195610Z
LAST-MODIFIED:20260111T034134Z
UID:10002206-1782489600-1782496800@www.tapatiosprings.com
SUMMARY:Daily Happy Hour
DESCRIPTION:Location: La Cascada Table & Bar\nTime: Daily\, 4 PM – 6 PM\nDetails: Join us for daily Drink Specials at La Cascada Bar!
URL:https://www.tapatiosprings.com/event/daily-happy-hour/2026-06-26/
LOCATION:La Cascada Table & Bar
CATEGORIES:Eat & Drink
ATTACH;FMTTYPE=image/jpeg:https://www.tapatiosprings.com/wp-content/uploads/2025/06/ts-detail-FB-3-96-2-scaled.jpg
END:VEVENT
BEGIN:VEVENT
DTSTART;TZID=UTC:20260627T160000
DTEND;TZID=UTC:20260627T180000
DTSTAMP:20260421T191643
CREATED:20250630T195610Z
LAST-MODIFIED:20260111T034134Z
UID:10002207-1782576000-1782583200@www.tapatiosprings.com
SUMMARY:Daily Happy Hour
DESCRIPTION:Location: La Cascada Table & Bar\nTime: Daily\, 4 PM – 6 PM\nDetails: Join us for daily Drink Specials at La Cascada Bar!
URL:https://www.tapatiosprings.com/event/daily-happy-hour/2026-06-27/
LOCATION:La Cascada Table & Bar
CATEGORIES:Eat & Drink
ATTACH;FMTTYPE=image/jpeg:https://www.tapatiosprings.com/wp-content/uploads/2025/06/ts-detail-FB-3-96-2-scaled.jpg
END:VEVENT
BEGIN:VEVENT
DTSTART;TZID=UTC:20260628T160000
DTEND;TZID=UTC:20260628T180000
DTSTAMP:20260421T191643
CREATED:20250630T195610Z
LAST-MODIFIED:20260111T034134Z
UID:10002208-1782662400-1782669600@www.tapatiosprings.com
SUMMARY:Daily Happy Hour
DESCRIPTION:Location: La Cascada Table & Bar\nTime: Daily\, 4 PM – 6 PM\nDetails: Join us for daily Drink Specials at La Cascada Bar!
URL:https://www.tapatiosprings.com/event/daily-happy-hour/2026-06-28/
LOCATION:La Cascada Table & Bar
CATEGORIES:Eat & Drink
ATTACH;FMTTYPE=image/jpeg:https://www.tapatiosprings.com/wp-content/uploads/2025/06/ts-detail-FB-3-96-2-scaled.jpg
END:VEVENT
BEGIN:VEVENT
DTSTART;TZID=UTC:20260629T090000
DTEND;TZID=UTC:20260629T100000
DTSTAMP:20260421T191643
CREATED:20250719T015709Z
LAST-MODIFIED:20260220T021919Z
UID:10004567-1782723600-1782727200@www.tapatiosprings.com
SUMMARY:Yoga Flow
DESCRIPTION:Location: Oaks Pavilion\nTime: Mondays & Thursdays\, 9 AM – 10 AM\n*Complimentary for Resort Guests & Members
URL:https://www.tapatiosprings.com/event/yoga-flow-2/2026-06-29/
LOCATION:Oaks Pavilion
CATEGORIES:Wellness
ATTACH;FMTTYPE=image/webp:https://www.tapatiosprings.com/wp-content/uploads/2025/07/yoga-flow-website-pic-67a3c565a2ebc.webp
END:VEVENT
BEGIN:VEVENT
DTSTART;TZID=UTC:20260629T100000
DTEND;TZID=UTC:20260629T110000
DTSTAMP:20260421T191643
CREATED:20250704T150050Z
LAST-MODIFIED:20251013T232545Z
UID:10004046-1782727200-1782730800@www.tapatiosprings.com
SUMMARY:Tiffany's Bootcamp
DESCRIPTION:Location: Clubhouse Fitness Center\nTime: Mondays & Wednesdays\, 10 AM – 11 AM\nPrice: $10 (Cash Only) \nFirst time participants\, please text Tiffany directly for confirmation: \nPhone: 2103267094 \n 
URL:https://www.tapatiosprings.com/event/tiffanys-bootcamp/2026-06-29/
LOCATION:Clubhouse Fitness Center
CATEGORIES:Wellness
ATTACH;FMTTYPE=image/webp:https://www.tapatiosprings.com/wp-content/uploads/2025/07/fitness-bootcamp-website-pic-67a3c92c402d5.webp
END:VEVENT
BEGIN:VEVENT
DTSTART;TZID=UTC:20260629T160000
DTEND;TZID=UTC:20260629T180000
DTSTAMP:20260421T191643
CREATED:20250630T195610Z
LAST-MODIFIED:20260111T034134Z
UID:10002209-1782748800-1782756000@www.tapatiosprings.com
SUMMARY:Daily Happy Hour
DESCRIPTION:Location: La Cascada Table & Bar\nTime: Daily\, 4 PM – 6 PM\nDetails: Join us for daily Drink Specials at La Cascada Bar!
URL:https://www.tapatiosprings.com/event/daily-happy-hour/2026-06-29/
LOCATION:La Cascada Table & Bar
CATEGORIES:Eat & Drink
ATTACH;FMTTYPE=image/jpeg:https://www.tapatiosprings.com/wp-content/uploads/2025/06/ts-detail-FB-3-96-2-scaled.jpg
END:VEVENT
BEGIN:VEVENT
DTSTART;TZID=UTC:20260630T160000
DTEND;TZID=UTC:20260630T180000
DTSTAMP:20260421T191643
CREATED:20250630T195610Z
LAST-MODIFIED:20260111T034134Z
UID:10002210-1782835200-1782842400@www.tapatiosprings.com
SUMMARY:Daily Happy Hour
DESCRIPTION:Location: La Cascada Table & Bar\nTime: Daily\, 4 PM – 6 PM\nDetails: Join us for daily Drink Specials at La Cascada Bar!
URL:https://www.tapatiosprings.com/event/daily-happy-hour/2026-06-30/
LOCATION:La Cascada Table & Bar
CATEGORIES:Eat & Drink
ATTACH;FMTTYPE=image/jpeg:https://www.tapatiosprings.com/wp-content/uploads/2025/06/ts-detail-FB-3-96-2-scaled.jpg
END:VEVENT
BEGIN:VEVENT
DTSTART;TZID=UTC:20260701T100000
DTEND;TZID=UTC:20260701T110000
DTSTAMP:20260421T191643
CREATED:20250704T150050Z
LAST-MODIFIED:20251013T232545Z
UID:10004047-1782900000-1782903600@www.tapatiosprings.com
SUMMARY:Tiffany's Bootcamp
DESCRIPTION:Location: Clubhouse Fitness Center\nTime: Mondays & Wednesdays\, 10 AM – 11 AM\nPrice: $10 (Cash Only) \nFirst time participants\, please text Tiffany directly for confirmation: \nPhone: 2103267094 \n 
URL:https://www.tapatiosprings.com/event/tiffanys-bootcamp/2026-07-01/
LOCATION:Clubhouse Fitness Center
CATEGORIES:Wellness
ATTACH;FMTTYPE=image/webp:https://www.tapatiosprings.com/wp-content/uploads/2025/07/fitness-bootcamp-website-pic-67a3c92c402d5.webp
END:VEVENT
BEGIN:VEVENT
DTSTART;TZID=UTC:20260701T110000
DTEND;TZID=UTC:20260701T210000
DTSTAMP:20260421T191643
CREATED:20250715T201631Z
LAST-MODIFIED:20260414T150920Z
UID:10003736-1782903600-1782939600@www.tapatiosprings.com
SUMMARY:Wine Wednesday
DESCRIPTION:Location: La Cascada Table & Bar\nTime: Wednesdays\, 11 AM – Close\nDetails: Half Off Bottles of Wine (Max. Discount $50)
URL:https://www.tapatiosprings.com/event/wine-wednesday/2026-07-01/
LOCATION:La Cascada Table & Bar
CATEGORIES:Eat & Drink
ATTACH;FMTTYPE=image/webp:https://www.tapatiosprings.com/wp-content/uploads/2025/07/tapatiospringshillcountryresort-boerneevents-eventcalendar-01-65b2b5b57d26a.webp
END:VEVENT
BEGIN:VEVENT
DTSTART;TZID=UTC:20260701T160000
DTEND;TZID=UTC:20260701T180000
DTSTAMP:20260421T191643
CREATED:20250630T195610Z
LAST-MODIFIED:20260111T034134Z
UID:10002211-1782921600-1782928800@www.tapatiosprings.com
SUMMARY:Daily Happy Hour
DESCRIPTION:Location: La Cascada Table & Bar\nTime: Daily\, 4 PM – 6 PM\nDetails: Join us for daily Drink Specials at La Cascada Bar!
URL:https://www.tapatiosprings.com/event/daily-happy-hour/2026-07-01/
LOCATION:La Cascada Table & Bar
CATEGORIES:Eat & Drink
ATTACH;FMTTYPE=image/jpeg:https://www.tapatiosprings.com/wp-content/uploads/2025/06/ts-detail-FB-3-96-2-scaled.jpg
END:VEVENT
BEGIN:VEVENT
DTSTART;TZID=UTC:20260702T090000
DTEND;TZID=UTC:20260702T100000
DTSTAMP:20260421T191643
CREATED:20250719T015709Z
LAST-MODIFIED:20260220T021919Z
UID:10004568-1782982800-1782986400@www.tapatiosprings.com
SUMMARY:Yoga Flow
DESCRIPTION:Location: Oaks Pavilion\nTime: Mondays & Thursdays\, 9 AM – 10 AM\n*Complimentary for Resort Guests & Members
URL:https://www.tapatiosprings.com/event/yoga-flow-2/2026-07-02/
LOCATION:Oaks Pavilion
CATEGORIES:Wellness
ATTACH;FMTTYPE=image/webp:https://www.tapatiosprings.com/wp-content/uploads/2025/07/yoga-flow-website-pic-67a3c565a2ebc.webp
END:VEVENT
BEGIN:VEVENT
DTSTART;TZID=UTC:20260702T160000
DTEND;TZID=UTC:20260702T180000
DTSTAMP:20260421T191643
CREATED:20250630T195610Z
LAST-MODIFIED:20260111T034134Z
UID:10002212-1783008000-1783015200@www.tapatiosprings.com
SUMMARY:Daily Happy Hour
DESCRIPTION:Location: La Cascada Table & Bar\nTime: Daily\, 4 PM – 6 PM\nDetails: Join us for daily Drink Specials at La Cascada Bar!
URL:https://www.tapatiosprings.com/event/daily-happy-hour/2026-07-02/
LOCATION:La Cascada Table & Bar
CATEGORIES:Eat & Drink
ATTACH;FMTTYPE=image/jpeg:https://www.tapatiosprings.com/wp-content/uploads/2025/06/ts-detail-FB-3-96-2-scaled.jpg
END:VEVENT
BEGIN:VEVENT
DTSTART;TZID=UTC:20260702T183000
DTEND;TZID=UTC:20260702T223000
DTSTAMP:20260421T191643
CREATED:20250715T211212Z
LAST-MODIFIED:20260121T022326Z
UID:10006302-1783017000-1783031400@www.tapatiosprings.com
SUMMARY:Trivia Night
DESCRIPTION:Location: La Cascada Table & Bar – Patio\nTime: First Thursday every Month\, 6:30 PM – 8:30 PM\nDetails: Win Gift Card prizes up to $50!
URL:https://www.tapatiosprings.com/event/trivia-night/2026-07-02/
LOCATION:La Cascada Table & Bar – Patio
CATEGORIES:Children & Family,Hotel Events
ATTACH;FMTTYPE=image/png:https://www.tapatiosprings.com/wp-content/uploads/2025/07/Trivia-Stock-Photo.png
END:VEVENT
BEGIN:VEVENT
DTSTART;VALUE=DATE:20260703
DTEND;VALUE=DATE:20260706
DTSTAMP:20260421T191643
CREATED:20260409T180718Z
LAST-MODIFIED:20260409T181829Z
UID:10007968-1783036800-1783295999@www.tapatiosprings.com
SUMMARY:July 4th Weekend at Tapatio Springs
DESCRIPTION:America’s 250th Celebration at Tapatio Springs!\nJuly 3rd – 5th\n\nCelebrate America’s Birthday Weekend at Tapatio Springs! Enjoy live music\, a DJ\, pool games\, festive buffets\, and a special First Responders Breakfast honoring our heroes. Top it all off with a spectacular festival and fireworks show on July 5.\n\n✨ Make it a weekend to remember—book your stay at Tapatio Springs and celebrate in Hill Country style!
URL:https://www.tapatiosprings.com/event/july-4th-weekend-at-tapatio-springs/
ATTACH;FMTTYPE=image/jpeg:https://www.tapatiosprings.com/wp-content/uploads/2026/04/360_F_1036175153_SnvrCGgXuUjMb3P3mKZrbVOHXfBhaiJq.jpg
END:VEVENT
BEGIN:VEVENT
DTSTART;TZID=UTC:20260703T103000
DTEND;TZID=UTC:20260703T113000
DTSTAMP:20260421T191643
CREATED:20250715T204730Z
LAST-MODIFIED:20260220T021950Z
UID:10005560-1783074600-1783078200@www.tapatiosprings.com
SUMMARY:Mat Pilates with Props
DESCRIPTION:Location: Evergreen Room\nTime: Every Friday\, 10:30 – 11:30 AM\n*Complimentary for Resort Guests & Members
URL:https://www.tapatiosprings.com/event/mat-pilates-with-props/2026-07-03/
LOCATION:Evergreen Room
CATEGORIES:Wellness
ATTACH;FMTTYPE=image/webp:https://www.tapatiosprings.com/wp-content/uploads/2025/07/mat-pilates-website-pic-67a3c53b6f3f2.webp
END:VEVENT
BEGIN:VEVENT
DTSTART;TZID=UTC:20260703T160000
DTEND;TZID=UTC:20260703T180000
DTSTAMP:20260421T191643
CREATED:20250630T195610Z
LAST-MODIFIED:20260111T034134Z
UID:10002213-1783094400-1783101600@www.tapatiosprings.com
SUMMARY:Daily Happy Hour
DESCRIPTION:Location: La Cascada Table & Bar\nTime: Daily\, 4 PM – 6 PM\nDetails: Join us for daily Drink Specials at La Cascada Bar!
URL:https://www.tapatiosprings.com/event/daily-happy-hour/2026-07-03/
LOCATION:La Cascada Table & Bar
CATEGORIES:Eat & Drink
ATTACH;FMTTYPE=image/jpeg:https://www.tapatiosprings.com/wp-content/uploads/2025/06/ts-detail-FB-3-96-2-scaled.jpg
END:VEVENT
END:VCALENDAR