BEGIN:VCALENDAR
VERSION:2.0
PRODID:-//Tapatio Springs - ECPv6.15.20//NONSGML v1.0//EN
CALSCALE:GREGORIAN
METHOD:PUBLISH
X-WR-CALNAME:Tapatio Springs
X-ORIGINAL-URL:https://www.tapatiosprings.com
X-WR-CALDESC:Events for Tapatio Springs
REFRESH-INTERVAL;VALUE=DURATION:PT1H
X-Robots-Tag:noindex
X-PUBLISHED-TTL:PT1H
BEGIN:VTIMEZONE
TZID:UTC
BEGIN:STANDARD
TZOFFSETFROM:+0000
TZOFFSETTO:+0000
TZNAME:UTC
DTSTART:20250101T000000
END:STANDARD
END:VTIMEZONE
BEGIN:VEVENT
DTSTART;TZID=UTC:20260402T090000
DTEND;TZID=UTC:20260402T100000
DTSTAMP:20260422T034749
CREATED:20250719T015709Z
LAST-MODIFIED:20260220T021919Z
UID:10004542-1775120400-1775124000@www.tapatiosprings.com
SUMMARY:Yoga Flow
DESCRIPTION:Location: Oaks Pavilion\nTime: Mondays & Thursdays\, 9 AM – 10 AM\n*Complimentary for Resort Guests & Members
URL:https://www.tapatiosprings.com/event/yoga-flow-2/2026-04-02/
LOCATION:Oaks Pavilion
CATEGORIES:Wellness
ATTACH;FMTTYPE=image/webp:https://www.tapatiosprings.com/wp-content/uploads/2025/07/yoga-flow-website-pic-67a3c565a2ebc.webp
END:VEVENT
BEGIN:VEVENT
DTSTART;TZID=UTC:20260401T160000
DTEND;TZID=UTC:20260401T180000
DTSTAMP:20260422T034749
CREATED:20250630T195610Z
LAST-MODIFIED:20260111T034134Z
UID:10002120-1775059200-1775066400@www.tapatiosprings.com
SUMMARY:Daily Happy Hour
DESCRIPTION:Location: La Cascada Table & Bar\nTime: Daily\, 4 PM – 6 PM\nDetails: Join us for daily Drink Specials at La Cascada Bar!
URL:https://www.tapatiosprings.com/event/daily-happy-hour/2026-04-01/
LOCATION:La Cascada Table & Bar
CATEGORIES:Eat & Drink
ATTACH;FMTTYPE=image/jpeg:https://www.tapatiosprings.com/wp-content/uploads/2025/06/ts-detail-FB-3-96-2-scaled.jpg
END:VEVENT
BEGIN:VEVENT
DTSTART;TZID=UTC:20260401T110000
DTEND;TZID=UTC:20260401T210000
DTSTAMP:20260422T034749
CREATED:20250715T201631Z
LAST-MODIFIED:20260414T150920Z
UID:10003723-1775041200-1775077200@www.tapatiosprings.com
SUMMARY:Wine Wednesday
DESCRIPTION:Location: La Cascada Table & Bar\nTime: Wednesdays\, 11 AM – Close\nDetails: Half Off Bottles of Wine (Max. Discount $50)
URL:https://www.tapatiosprings.com/event/wine-wednesday/2026-04-01/
LOCATION:La Cascada Table & Bar
CATEGORIES:Eat & Drink
ATTACH;FMTTYPE=image/webp:https://www.tapatiosprings.com/wp-content/uploads/2025/07/tapatiospringshillcountryresort-boerneevents-eventcalendar-01-65b2b5b57d26a.webp
END:VEVENT
BEGIN:VEVENT
DTSTART;TZID=UTC:20260401T100000
DTEND;TZID=UTC:20260401T110000
DTSTAMP:20260422T034749
CREATED:20250704T150050Z
LAST-MODIFIED:20251013T232545Z
UID:10004021-1775037600-1775041200@www.tapatiosprings.com
SUMMARY:Tiffany's Bootcamp
DESCRIPTION:Location: Clubhouse Fitness Center\nTime: Mondays & Wednesdays\, 10 AM – 11 AM\nPrice: $10 (Cash Only) \nFirst time participants\, please text Tiffany directly for confirmation: \nPhone: 2103267094 \n 
URL:https://www.tapatiosprings.com/event/tiffanys-bootcamp/2026-04-01/
LOCATION:Clubhouse Fitness Center
CATEGORIES:Wellness
ATTACH;FMTTYPE=image/webp:https://www.tapatiosprings.com/wp-content/uploads/2025/07/fitness-bootcamp-website-pic-67a3c92c402d5.webp
END:VEVENT
BEGIN:VEVENT
DTSTART;TZID=UTC:20260331T160000
DTEND;TZID=UTC:20260331T180000
DTSTAMP:20260422T034749
CREATED:20250630T195610Z
LAST-MODIFIED:20260111T034134Z
UID:10002119-1774972800-1774980000@www.tapatiosprings.com
SUMMARY:Daily Happy Hour
DESCRIPTION:Location: La Cascada Table & Bar\nTime: Daily\, 4 PM – 6 PM\nDetails: Join us for daily Drink Specials at La Cascada Bar!
URL:https://www.tapatiosprings.com/event/daily-happy-hour/2026-03-31/
LOCATION:La Cascada Table & Bar
CATEGORIES:Eat & Drink
ATTACH;FMTTYPE=image/jpeg:https://www.tapatiosprings.com/wp-content/uploads/2025/06/ts-detail-FB-3-96-2-scaled.jpg
END:VEVENT
BEGIN:VEVENT
DTSTART;TZID=UTC:20260330T160000
DTEND;TZID=UTC:20260330T180000
DTSTAMP:20260422T034749
CREATED:20250630T195610Z
LAST-MODIFIED:20260111T034134Z
UID:10002118-1774886400-1774893600@www.tapatiosprings.com
SUMMARY:Daily Happy Hour
DESCRIPTION:Location: La Cascada Table & Bar\nTime: Daily\, 4 PM – 6 PM\nDetails: Join us for daily Drink Specials at La Cascada Bar!
URL:https://www.tapatiosprings.com/event/daily-happy-hour/2026-03-30/
LOCATION:La Cascada Table & Bar
CATEGORIES:Eat & Drink
ATTACH;FMTTYPE=image/jpeg:https://www.tapatiosprings.com/wp-content/uploads/2025/06/ts-detail-FB-3-96-2-scaled.jpg
END:VEVENT
BEGIN:VEVENT
DTSTART;TZID=UTC:20260330T100000
DTEND;TZID=UTC:20260330T110000
DTSTAMP:20260422T034749
CREATED:20250704T150050Z
LAST-MODIFIED:20251013T232545Z
UID:10004020-1774864800-1774868400@www.tapatiosprings.com
SUMMARY:Tiffany's Bootcamp
DESCRIPTION:Location: Clubhouse Fitness Center\nTime: Mondays & Wednesdays\, 10 AM – 11 AM\nPrice: $10 (Cash Only) \nFirst time participants\, please text Tiffany directly for confirmation: \nPhone: 2103267094 \n 
URL:https://www.tapatiosprings.com/event/tiffanys-bootcamp/2026-03-30/
LOCATION:Clubhouse Fitness Center
CATEGORIES:Wellness
ATTACH;FMTTYPE=image/webp:https://www.tapatiosprings.com/wp-content/uploads/2025/07/fitness-bootcamp-website-pic-67a3c92c402d5.webp
END:VEVENT
BEGIN:VEVENT
DTSTART;TZID=UTC:20260330T090000
DTEND;TZID=UTC:20260330T100000
DTSTAMP:20260422T034749
CREATED:20250719T015709Z
LAST-MODIFIED:20260220T021919Z
UID:10004541-1774861200-1774864800@www.tapatiosprings.com
SUMMARY:Yoga Flow
DESCRIPTION:Location: Oaks Pavilion\nTime: Mondays & Thursdays\, 9 AM – 10 AM\n*Complimentary for Resort Guests & Members
URL:https://www.tapatiosprings.com/event/yoga-flow-2/2026-03-30/
LOCATION:Oaks Pavilion
CATEGORIES:Wellness
ATTACH;FMTTYPE=image/webp:https://www.tapatiosprings.com/wp-content/uploads/2025/07/yoga-flow-website-pic-67a3c565a2ebc.webp
END:VEVENT
BEGIN:VEVENT
DTSTART;TZID=UTC:20260329T160000
DTEND;TZID=UTC:20260329T180000
DTSTAMP:20260422T034749
CREATED:20250630T195610Z
LAST-MODIFIED:20260111T034134Z
UID:10002117-1774800000-1774807200@www.tapatiosprings.com
SUMMARY:Daily Happy Hour
DESCRIPTION:Location: La Cascada Table & Bar\nTime: Daily\, 4 PM – 6 PM\nDetails: Join us for daily Drink Specials at La Cascada Bar!
URL:https://www.tapatiosprings.com/event/daily-happy-hour/2026-03-29/
LOCATION:La Cascada Table & Bar
CATEGORIES:Eat & Drink
ATTACH;FMTTYPE=image/jpeg:https://www.tapatiosprings.com/wp-content/uploads/2025/06/ts-detail-FB-3-96-2-scaled.jpg
END:VEVENT
BEGIN:VEVENT
DTSTART;TZID=UTC:20260328T190000
DTEND;TZID=UTC:20260328T220000
DTSTAMP:20260422T034749
CREATED:20260111T020126Z
LAST-MODIFIED:20260111T020126Z
UID:10007533-1774724400-1774735200@www.tapatiosprings.com
SUMMARY:Singer/Songwriter Series - Faith Jacobs
DESCRIPTION:Location: La Cascada Table & Bar – Patio\nTime: 7 PM – 10 PM\n*Reservations Required
URL:https://www.tapatiosprings.com/event/singer-songwriter-series-faith-jacobs-2/
LOCATION:La Cascada Table & Bar – Patio
CATEGORIES:Music
ATTACH;FMTTYPE=image/jpeg:https://www.tapatiosprings.com/wp-content/uploads/2025/12/Faith-Jacobs-Portrait.jpg
END:VEVENT
BEGIN:VEVENT
DTSTART;TZID=UTC:20260328T160000
DTEND;TZID=UTC:20260328T180000
DTSTAMP:20260422T034749
CREATED:20250630T195610Z
LAST-MODIFIED:20260111T034134Z
UID:10002116-1774713600-1774720800@www.tapatiosprings.com
SUMMARY:Daily Happy Hour
DESCRIPTION:Location: La Cascada Table & Bar\nTime: Daily\, 4 PM – 6 PM\nDetails: Join us for daily Drink Specials at La Cascada Bar!
URL:https://www.tapatiosprings.com/event/daily-happy-hour/2026-03-28/
LOCATION:La Cascada Table & Bar
CATEGORIES:Eat & Drink
ATTACH;FMTTYPE=image/jpeg:https://www.tapatiosprings.com/wp-content/uploads/2025/06/ts-detail-FB-3-96-2-scaled.jpg
END:VEVENT
BEGIN:VEVENT
DTSTART;TZID=UTC:20260327T190000
DTEND;TZID=UTC:20260327T220000
DTSTAMP:20260422T034749
CREATED:20260111T020054Z
LAST-MODIFIED:20260318T182702Z
UID:10007532-1774638000-1774648800@www.tapatiosprings.com
SUMMARY:Singer/Songwriter Series - Jorge & Nicole
DESCRIPTION:Location: La Cascada Table & Bar – Patio\nTime: 7 PM – 10 PM\n*Reservations Required
URL:https://www.tapatiosprings.com/event/singer-songwriter-series-autumn-michele-duo-2/
LOCATION:La Cascada Table & Bar – Patio
CATEGORIES:Music
ATTACH;FMTTYPE=image/jpeg:https://www.tapatiosprings.com/wp-content/uploads/2025/07/Tapatio-Music-068-scaled.jpg
END:VEVENT
BEGIN:VEVENT
DTSTART;TZID=UTC:20260327T160000
DTEND;TZID=UTC:20260327T180000
DTSTAMP:20260422T034749
CREATED:20250630T195610Z
LAST-MODIFIED:20260111T034134Z
UID:10002115-1774627200-1774634400@www.tapatiosprings.com
SUMMARY:Daily Happy Hour
DESCRIPTION:Location: La Cascada Table & Bar\nTime: Daily\, 4 PM – 6 PM\nDetails: Join us for daily Drink Specials at La Cascada Bar!
URL:https://www.tapatiosprings.com/event/daily-happy-hour/2026-03-27/
LOCATION:La Cascada Table & Bar
CATEGORIES:Eat & Drink
ATTACH;FMTTYPE=image/jpeg:https://www.tapatiosprings.com/wp-content/uploads/2025/06/ts-detail-FB-3-96-2-scaled.jpg
END:VEVENT
BEGIN:VEVENT
DTSTART;TZID=UTC:20260327T103000
DTEND;TZID=UTC:20260327T113000
DTSTAMP:20260422T034749
CREATED:20250715T204730Z
LAST-MODIFIED:20260220T021950Z
UID:10005546-1774607400-1774611000@www.tapatiosprings.com
SUMMARY:Mat Pilates with Props
DESCRIPTION:Location: Evergreen Room\nTime: Every Friday\, 10:30 – 11:30 AM\n*Complimentary for Resort Guests & Members
URL:https://www.tapatiosprings.com/event/mat-pilates-with-props/2026-03-27/
LOCATION:Evergreen Room
CATEGORIES:Wellness
ATTACH;FMTTYPE=image/webp:https://www.tapatiosprings.com/wp-content/uploads/2025/07/mat-pilates-website-pic-67a3c53b6f3f2.webp
END:VEVENT
BEGIN:VEVENT
DTSTART;TZID=UTC:20260326T160000
DTEND;TZID=UTC:20260326T180000
DTSTAMP:20260422T034749
CREATED:20250630T195610Z
LAST-MODIFIED:20260111T034134Z
UID:10002114-1774540800-1774548000@www.tapatiosprings.com
SUMMARY:Daily Happy Hour
DESCRIPTION:Location: La Cascada Table & Bar\nTime: Daily\, 4 PM – 6 PM\nDetails: Join us for daily Drink Specials at La Cascada Bar!
URL:https://www.tapatiosprings.com/event/daily-happy-hour/2026-03-26/
LOCATION:La Cascada Table & Bar
CATEGORIES:Eat & Drink
ATTACH;FMTTYPE=image/jpeg:https://www.tapatiosprings.com/wp-content/uploads/2025/06/ts-detail-FB-3-96-2-scaled.jpg
END:VEVENT
BEGIN:VEVENT
DTSTART;TZID=UTC:20260326T090000
DTEND;TZID=UTC:20260326T100000
DTSTAMP:20260422T034749
CREATED:20250719T015709Z
LAST-MODIFIED:20260220T021919Z
UID:10004540-1774515600-1774519200@www.tapatiosprings.com
SUMMARY:Yoga Flow
DESCRIPTION:Location: Oaks Pavilion\nTime: Mondays & Thursdays\, 9 AM – 10 AM\n*Complimentary for Resort Guests & Members
URL:https://www.tapatiosprings.com/event/yoga-flow-2/2026-03-26/
LOCATION:Oaks Pavilion
CATEGORIES:Wellness
ATTACH;FMTTYPE=image/webp:https://www.tapatiosprings.com/wp-content/uploads/2025/07/yoga-flow-website-pic-67a3c565a2ebc.webp
END:VEVENT
BEGIN:VEVENT
DTSTART;TZID=UTC:20260325T160000
DTEND;TZID=UTC:20260325T180000
DTSTAMP:20260422T034749
CREATED:20250630T195610Z
LAST-MODIFIED:20260111T034134Z
UID:10002113-1774454400-1774461600@www.tapatiosprings.com
SUMMARY:Daily Happy Hour
DESCRIPTION:Location: La Cascada Table & Bar\nTime: Daily\, 4 PM – 6 PM\nDetails: Join us for daily Drink Specials at La Cascada Bar!
URL:https://www.tapatiosprings.com/event/daily-happy-hour/2026-03-25/
LOCATION:La Cascada Table & Bar
CATEGORIES:Eat & Drink
ATTACH;FMTTYPE=image/jpeg:https://www.tapatiosprings.com/wp-content/uploads/2025/06/ts-detail-FB-3-96-2-scaled.jpg
END:VEVENT
BEGIN:VEVENT
DTSTART;TZID=UTC:20260325T110000
DTEND;TZID=UTC:20260325T210000
DTSTAMP:20260422T034749
CREATED:20250715T201631Z
LAST-MODIFIED:20260414T150920Z
UID:10003722-1774436400-1774472400@www.tapatiosprings.com
SUMMARY:Wine Wednesday
DESCRIPTION:Location: La Cascada Table & Bar\nTime: Wednesdays\, 11 AM – Close\nDetails: Half Off Bottles of Wine (Max. Discount $50)
URL:https://www.tapatiosprings.com/event/wine-wednesday/2026-03-25/
LOCATION:La Cascada Table & Bar
CATEGORIES:Eat & Drink
ATTACH;FMTTYPE=image/webp:https://www.tapatiosprings.com/wp-content/uploads/2025/07/tapatiospringshillcountryresort-boerneevents-eventcalendar-01-65b2b5b57d26a.webp
END:VEVENT
BEGIN:VEVENT
DTSTART;TZID=UTC:20260325T100000
DTEND;TZID=UTC:20260325T110000
DTSTAMP:20260422T034749
CREATED:20250704T150050Z
LAST-MODIFIED:20251013T232545Z
UID:10004019-1774432800-1774436400@www.tapatiosprings.com
SUMMARY:Tiffany's Bootcamp
DESCRIPTION:Location: Clubhouse Fitness Center\nTime: Mondays & Wednesdays\, 10 AM – 11 AM\nPrice: $10 (Cash Only) \nFirst time participants\, please text Tiffany directly for confirmation: \nPhone: 2103267094 \n 
URL:https://www.tapatiosprings.com/event/tiffanys-bootcamp/2026-03-25/
LOCATION:Clubhouse Fitness Center
CATEGORIES:Wellness
ATTACH;FMTTYPE=image/webp:https://www.tapatiosprings.com/wp-content/uploads/2025/07/fitness-bootcamp-website-pic-67a3c92c402d5.webp
END:VEVENT
BEGIN:VEVENT
DTSTART;TZID=UTC:20260324T160000
DTEND;TZID=UTC:20260324T180000
DTSTAMP:20260422T034749
CREATED:20250630T195610Z
LAST-MODIFIED:20260111T034134Z
UID:10002112-1774368000-1774375200@www.tapatiosprings.com
SUMMARY:Daily Happy Hour
DESCRIPTION:Location: La Cascada Table & Bar\nTime: Daily\, 4 PM – 6 PM\nDetails: Join us for daily Drink Specials at La Cascada Bar!
URL:https://www.tapatiosprings.com/event/daily-happy-hour/2026-03-24/
LOCATION:La Cascada Table & Bar
CATEGORIES:Eat & Drink
ATTACH;FMTTYPE=image/jpeg:https://www.tapatiosprings.com/wp-content/uploads/2025/06/ts-detail-FB-3-96-2-scaled.jpg
END:VEVENT
BEGIN:VEVENT
DTSTART;TZID=UTC:20260323T160000
DTEND;TZID=UTC:20260323T180000
DTSTAMP:20260422T034749
CREATED:20250630T195610Z
LAST-MODIFIED:20260111T034134Z
UID:10002111-1774281600-1774288800@www.tapatiosprings.com
SUMMARY:Daily Happy Hour
DESCRIPTION:Location: La Cascada Table & Bar\nTime: Daily\, 4 PM – 6 PM\nDetails: Join us for daily Drink Specials at La Cascada Bar!
URL:https://www.tapatiosprings.com/event/daily-happy-hour/2026-03-23/
LOCATION:La Cascada Table & Bar
CATEGORIES:Eat & Drink
ATTACH;FMTTYPE=image/jpeg:https://www.tapatiosprings.com/wp-content/uploads/2025/06/ts-detail-FB-3-96-2-scaled.jpg
END:VEVENT
BEGIN:VEVENT
DTSTART;TZID=UTC:20260323T100000
DTEND;TZID=UTC:20260323T110000
DTSTAMP:20260422T034749
CREATED:20250704T150050Z
LAST-MODIFIED:20251013T232545Z
UID:10004018-1774260000-1774263600@www.tapatiosprings.com
SUMMARY:Tiffany's Bootcamp
DESCRIPTION:Location: Clubhouse Fitness Center\nTime: Mondays & Wednesdays\, 10 AM – 11 AM\nPrice: $10 (Cash Only) \nFirst time participants\, please text Tiffany directly for confirmation: \nPhone: 2103267094 \n 
URL:https://www.tapatiosprings.com/event/tiffanys-bootcamp/2026-03-23/
LOCATION:Clubhouse Fitness Center
CATEGORIES:Wellness
ATTACH;FMTTYPE=image/webp:https://www.tapatiosprings.com/wp-content/uploads/2025/07/fitness-bootcamp-website-pic-67a3c92c402d5.webp
END:VEVENT
BEGIN:VEVENT
DTSTART;TZID=UTC:20260323T090000
DTEND;TZID=UTC:20260323T100000
DTSTAMP:20260422T034749
CREATED:20250719T015709Z
LAST-MODIFIED:20260220T021919Z
UID:10004539-1774256400-1774260000@www.tapatiosprings.com
SUMMARY:Yoga Flow
DESCRIPTION:Location: Oaks Pavilion\nTime: Mondays & Thursdays\, 9 AM – 10 AM\n*Complimentary for Resort Guests & Members
URL:https://www.tapatiosprings.com/event/yoga-flow-2/2026-03-23/
LOCATION:Oaks Pavilion
CATEGORIES:Wellness
ATTACH;FMTTYPE=image/webp:https://www.tapatiosprings.com/wp-content/uploads/2025/07/yoga-flow-website-pic-67a3c565a2ebc.webp
END:VEVENT
BEGIN:VEVENT
DTSTART;TZID=UTC:20260322T160000
DTEND;TZID=UTC:20260322T180000
DTSTAMP:20260422T034749
CREATED:20250630T195610Z
LAST-MODIFIED:20260111T034134Z
UID:10002110-1774195200-1774202400@www.tapatiosprings.com
SUMMARY:Daily Happy Hour
DESCRIPTION:Location: La Cascada Table & Bar\nTime: Daily\, 4 PM – 6 PM\nDetails: Join us for daily Drink Specials at La Cascada Bar!
URL:https://www.tapatiosprings.com/event/daily-happy-hour/2026-03-22/
LOCATION:La Cascada Table & Bar
CATEGORIES:Eat & Drink
ATTACH;FMTTYPE=image/jpeg:https://www.tapatiosprings.com/wp-content/uploads/2025/06/ts-detail-FB-3-96-2-scaled.jpg
END:VEVENT
BEGIN:VEVENT
DTSTART;TZID=UTC:20260321T190000
DTEND;TZID=UTC:20260321T220000
DTSTAMP:20260422T034749
CREATED:20260111T015942Z
LAST-MODIFIED:20260111T015942Z
UID:10007531-1774119600-1774130400@www.tapatiosprings.com
SUMMARY:Singer/Songwriter Series - Nick Zamora
DESCRIPTION:Location: La Cascada Table & Bar – Patio\nTime: 7 PM – 10 PM\n*Reservations Required
URL:https://www.tapatiosprings.com/event/singer-songwriter-series-nick-zamora-2/
LOCATION:La Cascada Table & Bar – Patio
CATEGORIES:Music
ATTACH;FMTTYPE=image/jpeg:https://www.tapatiosprings.com/wp-content/uploads/2025/07/people-2570652_1280.jpg
END:VEVENT
BEGIN:VEVENT
DTSTART;TZID=UTC:20260321T160000
DTEND;TZID=UTC:20260321T180000
DTSTAMP:20260422T034749
CREATED:20250630T195610Z
LAST-MODIFIED:20260111T034134Z
UID:10002109-1774108800-1774116000@www.tapatiosprings.com
SUMMARY:Daily Happy Hour
DESCRIPTION:Location: La Cascada Table & Bar\nTime: Daily\, 4 PM – 6 PM\nDetails: Join us for daily Drink Specials at La Cascada Bar!
URL:https://www.tapatiosprings.com/event/daily-happy-hour/2026-03-21/
LOCATION:La Cascada Table & Bar
CATEGORIES:Eat & Drink
ATTACH;FMTTYPE=image/jpeg:https://www.tapatiosprings.com/wp-content/uploads/2025/06/ts-detail-FB-3-96-2-scaled.jpg
END:VEVENT
BEGIN:VEVENT
DTSTART;TZID=UTC:20260320T190000
DTEND;TZID=UTC:20260320T220000
DTSTAMP:20260422T034749
CREATED:20260111T015803Z
LAST-MODIFIED:20260111T015803Z
UID:10007530-1774033200-1774044000@www.tapatiosprings.com
SUMMARY:Singer/Songwriter Series - Lacy Brinson
DESCRIPTION:Location: La Cascada Table & Bar – Patio\nTime: 7 PM – 10 PM\n*Reservations Required
URL:https://www.tapatiosprings.com/event/singer-songwriter-series-lacy-brinson-2/
LOCATION:La Cascada Table & Bar – Patio
CATEGORIES:Music
ATTACH;FMTTYPE=image/jpeg:https://www.tapatiosprings.com/wp-content/uploads/2025/07/0299-scaled.jpg
END:VEVENT
BEGIN:VEVENT
DTSTART;TZID=UTC:20260320T160000
DTEND;TZID=UTC:20260320T180000
DTSTAMP:20260422T034749
CREATED:20250630T195610Z
LAST-MODIFIED:20260111T034134Z
UID:10002108-1774022400-1774029600@www.tapatiosprings.com
SUMMARY:Daily Happy Hour
DESCRIPTION:Location: La Cascada Table & Bar\nTime: Daily\, 4 PM – 6 PM\nDetails: Join us for daily Drink Specials at La Cascada Bar!
URL:https://www.tapatiosprings.com/event/daily-happy-hour/2026-03-20/
LOCATION:La Cascada Table & Bar
CATEGORIES:Eat & Drink
ATTACH;FMTTYPE=image/jpeg:https://www.tapatiosprings.com/wp-content/uploads/2025/06/ts-detail-FB-3-96-2-scaled.jpg
END:VEVENT
BEGIN:VEVENT
DTSTART;TZID=UTC:20260320T103000
DTEND;TZID=UTC:20260320T113000
DTSTAMP:20260422T034749
CREATED:20250715T204730Z
LAST-MODIFIED:20260220T021950Z
UID:10005545-1774002600-1774006200@www.tapatiosprings.com
SUMMARY:Mat Pilates with Props
DESCRIPTION:Location: Evergreen Room\nTime: Every Friday\, 10:30 – 11:30 AM\n*Complimentary for Resort Guests & Members
URL:https://www.tapatiosprings.com/event/mat-pilates-with-props/2026-03-20/
LOCATION:Evergreen Room
CATEGORIES:Wellness
ATTACH;FMTTYPE=image/webp:https://www.tapatiosprings.com/wp-content/uploads/2025/07/mat-pilates-website-pic-67a3c53b6f3f2.webp
END:VEVENT
BEGIN:VEVENT
DTSTART;TZID=UTC:20260319T183000
DTEND;TZID=UTC:20260319T203000
DTSTAMP:20260422T034749
CREATED:20260120T040015Z
LAST-MODIFIED:20260120T040015Z
UID:10007695-1773945000-1773952200@www.tapatiosprings.com
SUMMARY:Name That Tune
DESCRIPTION:Location: La Cascada Table & Bar – Patio\nTime: 6:30 PM – 8:30 PM\nDetails: Win Gift Card prizes up to $50! \nEvery third Thursday of the month\, show off your musical knowledge and join us on La Cascada Patio for delicious food\, refreshing drinks\, spectacular views and great prizes! Come early for Happy Hour from 4-6PM\, then win your drinking money back. When hunger strikes\, you’ll discover elevated Texas fare perfect for pairing with our refreshing cocktails\, eclectic wines and craft beer selection.\n\n*Reservations are recommended.
URL:https://www.tapatiosprings.com/event/name-that-tune-6/
LOCATION:La Cascada Table & Bar – Patio
CATEGORIES:Children & Family,Eat & Drink,Hotel Events,Music
ATTACH;FMTTYPE=image/png:https://www.tapatiosprings.com/wp-content/uploads/2025/07/Trivia-Stock-Photo.png
END:VEVENT
END:VCALENDAR