BEGIN:VCALENDAR
VERSION:2.0
PRODID:-//Tapatio Springs - ECPv6.15.20//NONSGML v1.0//EN
CALSCALE:GREGORIAN
METHOD:PUBLISH
X-WR-CALNAME:Tapatio Springs
X-ORIGINAL-URL:https://www.tapatiosprings.com
X-WR-CALDESC:Events for Tapatio Springs
REFRESH-INTERVAL;VALUE=DURATION:PT1H
X-Robots-Tag:noindex
X-PUBLISHED-TTL:PT1H
BEGIN:VTIMEZONE
TZID:America/Mexico_City
BEGIN:STANDARD
TZOFFSETFROM:-0600
TZOFFSETTO:-0600
TZNAME:CST
DTSTART:20250101T000000
END:STANDARD
END:VTIMEZONE
BEGIN:VTIMEZONE
TZID:UTC
BEGIN:STANDARD
TZOFFSETFROM:+0000
TZOFFSETTO:+0000
TZNAME:UTC
DTSTART:20250101T000000
END:STANDARD
END:VTIMEZONE
BEGIN:VEVENT
DTSTART;TZID=America/Mexico_City:20260502T190000
DTEND;TZID=America/Mexico_City:20260502T220000
DTSTAMP:20260419T113350
CREATED:20260401T031956Z
LAST-MODIFIED:20260414T161359Z
UID:10007753-1777748400-1777759200@www.tapatiosprings.com
SUMMARY:Singer/Songwriter - Beckem Young
DESCRIPTION:Location: La Cascada Table & Bar – Patio\nTime: 7:00 PM – 10:00 PM\n*Reservations Required
URL:https://www.tapatiosprings.com/event/singer-songwriter-beckem-young/
CATEGORIES:Music
ATTACH;FMTTYPE=image/jpeg:https://www.tapatiosprings.com/wp-content/uploads/2026/03/518852441_122093243588955125_8204268193239158495_n.jpg
END:VEVENT
BEGIN:VEVENT
DTSTART;TZID=America/Mexico_City:20260505T170000
DTEND;TZID=America/Mexico_City:20260505T210000
DTSTAMP:20260419T113350
CREATED:20260413T182731Z
LAST-MODIFIED:20260413T182731Z
UID:10007970-1778000400-1778014800@www.tapatiosprings.com
SUMMARY:Cinco De Mayo at Tapatio
DESCRIPTION:Cinco De Mayo at Tapatio \nMay 5 | 5:00 PM – 9:00 PM\n$14/person \nDinner Special: Carne Asada Street Tacos [3 per person]:\nFlame-grilled carne asada\, finely chopped and served on warm heirloom corn tortillas\,\ngarnished with fresh cilantro\, shaved white onion\, and lime\, tomatillo Verde. \n 
URL:https://www.tapatiosprings.com/event/cinco-de-mayo-at-tapatio/
LOCATION:La Cascada Table & Bar
CATEGORIES:Eat & Drink
ATTACH;FMTTYPE=image/jpeg:https://www.tapatiosprings.com/wp-content/uploads/2026/04/cinco-de-mayo.jpg
END:VEVENT
BEGIN:VEVENT
DTSTART;TZID=America/Mexico_City:20260505T170000
DTEND;TZID=America/Mexico_City:20260505T210000
DTSTAMP:20260419T113350
CREATED:20260417T202253Z
LAST-MODIFIED:20260417T202910Z
UID:10007981-1778000400-1778014800@www.tapatiosprings.com
SUMMARY:Teacher Tuesdays
DESCRIPTION:Teacher Tuesdays\nEvery Tuesday in May\n5:00 PM – 9:00 PM \nBUY ONE ENTREE\, GET ONE FREE! \nIn appreciation of all teachers and administrators in our community\, Tapatio Springs would like to say thank you for your dedication\, leadership\, and commitment throughout the school year. Your hard work shapes our future and strengthens our local communities every single day.\nTo show our gratitude\, we’re offering a Buy One\, Get One Free special every Tuesday in May.\nEnjoy a well‑deserved break\, treat yourself\, and wrap up the school year on a high note—on us!\n\n*RESERVATION PREFERRED\n\n*Valid School ID required
URL:https://www.tapatiosprings.com/event/teacher-tuesdays/2026-05-05/
CATEGORIES:Eat & Drink,Special Events
ATTACH;FMTTYPE=image/jpeg:https://www.tapatiosprings.com/wp-content/uploads/2026/04/AdobeStock_254378731-scaled-1.jpeg
END:VEVENT
BEGIN:VEVENT
DTSTART;TZID=UTC:20260507T183000
DTEND;TZID=UTC:20260507T223000
DTSTAMP:20260419T113350
CREATED:20250715T211212Z
LAST-MODIFIED:20260121T022326Z
UID:10006300-1778178600-1778193000@www.tapatiosprings.com
SUMMARY:Trivia Night
DESCRIPTION:Location: La Cascada Table & Bar – Patio\nTime: First Thursday every Month\, 6:30 PM – 8:30 PM\nDetails: Win Gift Card prizes up to $50!
URL:https://www.tapatiosprings.com/event/trivia-night/2026-05-07/
LOCATION:La Cascada Table & Bar – Patio
CATEGORIES:Children & Family,Hotel Events
ATTACH;FMTTYPE=image/png:https://www.tapatiosprings.com/wp-content/uploads/2025/07/Trivia-Stock-Photo.png
END:VEVENT
BEGIN:VEVENT
DTSTART;TZID=America/Mexico_City:20260508T000000
DTEND;TZID=America/Mexico_City:20260508T000000
DTSTAMP:20260419T113350
CREATED:20260414T173935Z
LAST-MODIFIED:20260414T173935Z
UID:10007979-1778198400-1778198400@www.tapatiosprings.com
SUMMARY:Singer/Songwriter - Chris & Casi
DESCRIPTION:Location: La Cascada Table & Bar – Patio\nTime: 7:00 PM – 10:00 PM\n*Reservations Required
URL:https://www.tapatiosprings.com/event/singer-songwriter-terrell-scott-2-2/
CATEGORIES:Music
ATTACH;FMTTYPE=image/jpeg:https://www.tapatiosprings.com/wp-content/uploads/2026/04/IMG_0902.jpeg
END:VEVENT
BEGIN:VEVENT
DTSTART;TZID=America/Mexico_City:20260509T143000
DTEND;TZID=America/Mexico_City:20260509T163000
DTSTAMP:20260419T113350
CREATED:20260414T145643Z
LAST-MODIFIED:20260414T145716Z
UID:10007974-1778337000-1778344200@www.tapatiosprings.com
SUMMARY:Mother's Day Sip & Paint
DESCRIPTION:Mother’s Day Sip & Paint\npresented by: The Downtown DIY \nMay 9th | 2:30 PM – 4:30 PM\nLa Cascada Terrace (weather permitting)\n$25/Member | $35/Non-Member\n*includes 1 glass of wine \n(ages 12+) \nCelebrate Mom with an afternoon of creativity and connection at our Mother’s Day Sip & Paint!\nEnjoy guided painting\, sipping your favorite drink\, and making beautiful memories together—no experience needed\, just come ready to relax and have fun.\n\nFOR RESERVATIONS CONTACT ASHLEY – (830-537-6249) OR AERMIS@TAPATIO.COM
URL:https://www.tapatiosprings.com/event/mothers-day-sip-paint/
LOCATION:La Cascada Table & Bar
ATTACH;FMTTYPE=image/jpeg:https://www.tapatiosprings.com/wp-content/uploads/2026/04/istockphoto-1414953064-612x612-1.jpg
END:VEVENT
BEGIN:VEVENT
DTSTART;TZID=America/Mexico_City:20260509T190000
DTEND;TZID=America/Mexico_City:20260509T220000
DTSTAMP:20260419T113350
CREATED:20260418T195633Z
LAST-MODIFIED:20260418T200001Z
UID:10008038-1778353200-1778364000@www.tapatiosprings.com
SUMMARY:Singer/Songwriter - Nick Zamora
DESCRIPTION:Location: La Cascada Table & Bar – Patio\nTime: 7:00 PM – 10:00 PM\n*Reservations Required
URL:https://www.tapatiosprings.com/event/singer-songwriter-terrell-scott-2-2-3/
LOCATION:La Cascada Table & Bar – Patio
CATEGORIES:Music
ATTACH;FMTTYPE=image/jpeg:https://www.tapatiosprings.com/wp-content/uploads/2026/04/471052746_981268690484742_2924219685800614718_n.jpg
END:VEVENT
BEGIN:VEVENT
DTSTART;TZID=America/Mexico_City:20260510T100000
DTEND;TZID=America/Mexico_City:20260510T150000
DTSTAMP:20260419T113350
CREATED:20260401T034158Z
LAST-MODIFIED:20260408T174700Z
UID:10007756-1778407200-1778425200@www.tapatiosprings.com
SUMMARY:Mother's Day Brunch
DESCRIPTION:MOTHER’S DAY BRUNCH\nLocation: Tapatio Springs Hill Country Resort\nDate: May 10\, 2026\nTime: 10:00 AM – 3:00 PM \n$78/Adult | $30/Child (ages 3 – 12)\ntax and gratuity not included \n  \nCelebrate Mom with a brunch as beautiful as she is. Join us for Mother’s Day Brunch at Tapatio Springs\, featuring delicious bites\, refreshing sips\, and springtime vibes. From flavorful favorites to floral touches\, it’s the perfect way to wine\, dine\, and spoil Mom on her special day.
URL:https://www.tapatiosprings.com/event/mothers-day-bloom-brunch/
CATEGORIES:Eat & Drink,Special Events
ATTACH;FMTTYPE=image/png:https://www.tapatiosprings.com/wp-content/uploads/2026/03/website-feature-mothers-day-second-sunday-in-may.png
END:VEVENT
BEGIN:VEVENT
DTSTART;TZID=America/Mexico_City:20260510T100000
DTEND;TZID=America/Mexico_City:20260510T150000
DTSTAMP:20260419T113350
CREATED:20260418T200249Z
LAST-MODIFIED:20260418T200249Z
UID:10008039-1778407200-1778425200@www.tapatiosprings.com
SUMMARY:Singer/Songwriter - Jaime Varela
DESCRIPTION:Location: La Cascada Table & Bar – Lobby\nTime: 10:00 AM – 3:00 PM\n*Reservations Required
URL:https://www.tapatiosprings.com/event/singer-songwriter-terrell-scott-2-2-3-8/
CATEGORIES:Music
ATTACH;FMTTYPE=image/png:https://www.tapatiosprings.com/wp-content/uploads/2025/10/Jaime-Varela-Portrait-Compressed.png
END:VEVENT
BEGIN:VEVENT
DTSTART;VALUE=DATE:20260514
DTEND;VALUE=DATE:20260516
DTSTAMP:20260419T113350
CREATED:20260414T022307Z
LAST-MODIFIED:20260414T023252Z
UID:10007973-1778716800-1778889599@www.tapatiosprings.com
SUMMARY:5th Annual Swing Strong Tournament
DESCRIPTION:Swing Strong ’til It’s Gone\n5th Annual Golf Tournament Benefiting the Michael J. Foxx Foundation \nMay 14th & 15th\n$400 per Golfer – includes 2 dinner & 2 concert tickets\n$100 per Non-Golfer – dinner & concert only \nRegister for tournament here \nBOOK YOUR ROOM HERE \nThursday\, May 14th –\n11:30 AM – registration\n1:00 PM shotgun start\n6:30 pm kick off party-bbq buffet & Faith Jacobs\n(tickets required) \nFriday\, May 15th –\n10:30 AM – registration/lunch\n12:00 PM shotgun start\n6:30 pm Award’s dinner with live & silent auction (tickets required)\n8:00 PM Concert ft. Gary P. Nunn (tickets required)
URL:https://www.tapatiosprings.com/event/5th-annual-swing-strong-tournament/
CATEGORIES:Hotel Events,Music,Special Events
ATTACH;FMTTYPE=image/png:https://www.tapatiosprings.com/wp-content/uploads/2026/04/Screenshot-2026-04-13-211037.png
END:VEVENT
BEGIN:VEVENT
DTSTART;TZID=America/Mexico_City:20260516T190000
DTEND;TZID=America/Mexico_City:20260516T220000
DTSTAMP:20260419T113350
CREATED:20260418T200649Z
LAST-MODIFIED:20260418T200649Z
UID:10008040-1778958000-1778968800@www.tapatiosprings.com
SUMMARY:Singer/Songwriter - Chris Lopez
DESCRIPTION:Location: La Cascada Table & Bar – Patio\nTime: 7:00 PM – 10:00 PM\n*Reservations Required
URL:https://www.tapatiosprings.com/event/singer-songwriter-terrell-scott-2-2-3-1/
LOCATION:La Cascada Table & Bar – Patio
CATEGORIES:Music
ATTACH;FMTTYPE=image/jpeg:https://www.tapatiosprings.com/wp-content/uploads/2026/04/122872787_4400998549974136_3883979491606866433_n.jpg
END:VEVENT
BEGIN:VEVENT
DTSTART;TZID=America/Mexico_City:20260521T183000
DTEND;TZID=America/Mexico_City:20260521T203000
DTSTAMP:20260419T113350
CREATED:20260414T150802Z
LAST-MODIFIED:20260414T150802Z
UID:10007975-1779388200-1779395400@www.tapatiosprings.com
SUMMARY:Name That Tune
DESCRIPTION:Location: La Cascada Table & Bar – Patio\nTime: 6:30 PM – 8:30 PM\nDetails: Win Gift Card prizes up to $50! \nEvery third Thursday of the month\, show off your musical knowledge and join us on La Cascada Patio for delicious food\, refreshing drinks\, spectacular views and great prizes! Come early for Happy Hour from 4-6PM\, then win your drinking money back. When hunger strikes\, you’ll discover elevated Texas fare perfect for pairing with our refreshing cocktails\, eclectic wines and craft beer selection.\n\n*Reservations are recommended.
URL:https://www.tapatiosprings.com/event/name-that-tune-7-2/
LOCATION:La Cascada Table & Bar – Patio
CATEGORIES:Children & Family,Eat & Drink,Hotel Events,Music
ATTACH;FMTTYPE=image/png:https://www.tapatiosprings.com/wp-content/uploads/2025/07/Trivia-Stock-Photo.png
END:VEVENT
BEGIN:VEVENT
DTSTART;VALUE=DATE:20260522
DTEND;VALUE=DATE:20260526
DTSTAMP:20260419T113350
CREATED:20260409T172304Z
LAST-MODIFIED:20260409T172508Z
UID:10007967-1779408000-1779753599@www.tapatiosprings.com
SUMMARY:Memorial Day at Tapatio Springs
DESCRIPTION:Memorial Day Weekend at Tapatio Springs\nMay 22nd – May 25th \nSummer starts here!\nJoin us at Tapatio Resort this Memorial Day weekend for nonstop fun—family fishing and picnics\, poolside movies\, live music\, a DJ\, games by the pool\, and delicious dinner buffets. Come for the vibes\, stay for the memories!
URL:https://www.tapatiosprings.com/event/memorial-day-at-tapatio-springs/
ATTACH;FMTTYPE=image/jpeg:https://www.tapatiosprings.com/wp-content/uploads/2026/04/360_F_269161978_XvCj9MGvODZBQKTdsD1sKDq05o7Oy07L.jpg
END:VEVENT
BEGIN:VEVENT
DTSTART;TZID=America/Mexico_City:20260522T190000
DTEND;TZID=America/Mexico_City:20260522T220000
DTSTAMP:20260419T113350
CREATED:20260418T201120Z
LAST-MODIFIED:20260418T201120Z
UID:10008041-1779476400-1779487200@www.tapatiosprings.com
SUMMARY:Singer/Songwriter - Chris Boss
DESCRIPTION:Location: La Cascada Table & Bar – Patio\nTime: 7:00 PM – 10:00 PM\n*Reservations Required
URL:https://www.tapatiosprings.com/event/singer-songwriter-terrell-scott-2-2-3-2/
LOCATION:La Cascada Table & Bar – Patio
CATEGORIES:Music
ATTACH;FMTTYPE=image/jpeg:https://www.tapatiosprings.com/wp-content/uploads/2026/04/maxresdefault.jpg
END:VEVENT
BEGIN:VEVENT
DTSTART;TZID=UTC:20260522T203000
DTEND;TZID=UTC:20260522T223000
DTSTAMP:20260419T113350
CREATED:20260408T203230Z
LAST-MODIFIED:20260408T203230Z
UID:10005845-1779481800-1779489000@www.tapatiosprings.com
SUMMARY:Family Dive-In Movies
DESCRIPTION:Location: Resort Pool\nTime: Fridays & Saturdays at 8:30 PM (Sunset) \n*Complimentary for Resort Guests & Members. Weather dependent.
URL:https://www.tapatiosprings.com/event/family-dive-in-movies-2/
LOCATION:Resort Pool
CATEGORIES:Children & Family
ATTACH;FMTTYPE=image/webp:https://www.tapatiosprings.com/wp-content/uploads/2025/07/dive-in-movie-website-pic-6660ae3284d10.webp
END:VEVENT
BEGIN:VEVENT
DTSTART;TZID=America/Mexico_City:20260523T080000
DTEND;TZID=America/Mexico_City:20260523T110000
DTSTAMP:20260419T113350
CREATED:20260417T213531Z
LAST-MODIFIED:20260417T213531Z
UID:10008037-1779523200-1779534000@www.tapatiosprings.com
SUMMARY:Superhero Breakfast
DESCRIPTION:Superhero Breakfast \nMay 23 | 8:00 AM – 11:00 AM\nLa Cascada Table & Bar\n$21 per Adult | $12 per Child (ages 3-12) \n\nSuit up for a heroic morning at La Cascada with our Superhero Breakfast Buffet! Enjoy a delicious\, action‑packed breakfast featuring a bountiful buffet of breakfast favorites perfect for heroes of all ages. While you dine\, little superheroes will have the chance to meet Supergirl and Spider‑Man\, snap photos\, and enjoy unforgettable face‑to‑face moments with their favorite crime‑fighting characters. \nThis lively\, family‑friendly event is filled with fun\, flavor\, and superhero magic—so don your capes\, bring your appetite\, and start the day like a true hero. It’s the perfect morning adventure for families looking to create lasting memories!
URL:https://www.tapatiosprings.com/event/superhero-breakfast/
ATTACH;FMTTYPE=image/jpeg:https://www.tapatiosprings.com/wp-content/uploads/2026/04/21parenting-superhero-mediumSquareAt3X.jpg
END:VEVENT
BEGIN:VEVENT
DTSTART;TZID=America/Mexico_City:20260523T190000
DTEND;TZID=America/Mexico_City:20260523T220000
DTSTAMP:20260419T113350
CREATED:20260414T160017Z
LAST-MODIFIED:20260414T160132Z
UID:10007976-1779562800-1779573600@www.tapatiosprings.com
SUMMARY:Tapatio Two-Steppin' Night
DESCRIPTION:Tapatio Two-Steppin’ Night \nMay 23rd | 7:00 PM – 10:00 PM\nLa Cascada Patio\nClass Presented by: Ministry of Dance \nLearn it. Sip it. Dance it. Two‑Steppin’ Class followed by open floor fun on Tapatio’s Patio! \nMake Reservation Thru Open Table
URL:https://www.tapatiosprings.com/event/tapatio-two-steppin-night/
LOCATION:La Cascada Table & Bar – Patio
ATTACH;FMTTYPE=image/jpeg:https://www.tapatiosprings.com/wp-content/uploads/2026/04/TwoStepAM0779_HiRes.jpg
END:VEVENT
BEGIN:VEVENT
DTSTART;TZID=America/Mexico_City:20260523T190000
DTEND;TZID=America/Mexico_City:20260523T220000
DTSTAMP:20260419T113350
CREATED:20260418T201219Z
LAST-MODIFIED:20260418T201219Z
UID:10008042-1779562800-1779573600@www.tapatiosprings.com
SUMMARY:Singer/Songwriter - Noah Kurtis
DESCRIPTION:Location: La Cascada Table & Bar – Patio\nTime: 7:00 PM – 10:00 PM\n*Reservations Required
URL:https://www.tapatiosprings.com/event/singer-songwriter-terrell-scott-2-2-3-3/
LOCATION:La Cascada Table & Bar – Patio
CATEGORIES:Music
ATTACH;FMTTYPE=image/jpeg:https://www.tapatiosprings.com/wp-content/uploads/2026/04/ab6761610000e5eb416df8a096ad02d7610586d5.jpg
END:VEVENT
BEGIN:VEVENT
DTSTART;TZID=America/Mexico_City:20260523T203000
DTEND;TZID=America/Mexico_City:20260523T223000
DTSTAMP:20260419T113350
CREATED:20260418T202103Z
LAST-MODIFIED:20260418T202620Z
UID:10008044-1779568200-1779575400@www.tapatiosprings.com
SUMMARY:Family Dive-In Movies
DESCRIPTION:Location: Resort Pool\nTime: Fridays & Saturdays at 8:30 PM (Sunset) \n*Complimentary for Resort Guests & Members. Weather dependent.
URL:https://www.tapatiosprings.com/event/family-dive-in-movies-2-2/
CATEGORIES:Children & Family
ATTACH;FMTTYPE=image/webp:https://www.tapatiosprings.com/wp-content/uploads/2025/07/dive-in-movie-website-pic-6660ae3284d10.webp
END:VEVENT
BEGIN:VEVENT
DTSTART;TZID=America/Mexico_City:20260524T203000
DTEND;TZID=America/Mexico_City:20260524T223000
DTSTAMP:20260419T113350
CREATED:20260418T202533Z
LAST-MODIFIED:20260418T202653Z
UID:10008045-1779654600-1779661800@www.tapatiosprings.com
SUMMARY:Family Dive-In Movies
DESCRIPTION:Location: Resort Pool\nTime: 8:30 PM (Sunset) \n*Complimentary for Resort Guests & Members. Weather dependent.
URL:https://www.tapatiosprings.com/event/family-dive-in-movies-3/
CATEGORIES:Children & Family
ATTACH;FMTTYPE=image/webp:https://www.tapatiosprings.com/wp-content/uploads/2025/07/dive-in-movie-website-pic-6660ae3284d10.webp
END:VEVENT
BEGIN:VEVENT
DTSTART;TZID=America/Mexico_City:20260529T180000
DTEND;TZID=America/Mexico_City:20260529T210000
DTSTAMP:20260419T113350
CREATED:20260408T150028Z
LAST-MODIFIED:20260409T154714Z
UID:10007757-1780077600-1780088400@www.tapatiosprings.com
SUMMARY:Tapatio's Night of Comedy
DESCRIPTION:Tapatio Springs’ Night of Comedy\nFeaturing: Cleto Rodriguez\nwith Danny Ingle & Roman Garcia\nHosted by: Rose Daniel\nMAY 29 | 6:00 PM | CIBOLO BALLROOM\n1 RESORT WAY\, BOERNE\, TX 78006 \nTICKETS STARTING AT $40/person\nVIP OPPORTUNITIES AVAILABLE\nAges 18+ \nPURCHASE TICKETS HERE\nLive comedy is coming to Tapatio Springs! Catch talented San Antonio comedians serving up big laughs in an intimate\, unforgettable show. Join us for a fun night you won’t forget.\n*Hill Country Dinner Buffet Available | +$40/person 
URL:https://www.tapatiosprings.com/event/tapatios-night-of-comedy/
LOCATION:Cibolo Ballroom
CATEGORIES:Eat & Drink,Hotel Events,Special Events
ATTACH;FMTTYPE=image/jpeg:https://www.tapatiosprings.com/wp-content/uploads/2026/04/ratio3x2_1920.jpg
END:VEVENT
BEGIN:VEVENT
DTSTART;TZID=America/Mexico_City:20260529T190000
DTEND;TZID=America/Mexico_City:20260529T220000
DTSTAMP:20260419T113350
CREATED:20260418T201635Z
LAST-MODIFIED:20260418T201931Z
UID:10008043-1780081200-1780092000@www.tapatiosprings.com
SUMMARY:Singer/Songwriter - Johnny Murphy
DESCRIPTION:Location: La Cascada Table & Bar – Patio\nTime: 7:00 PM – 10:00 PM\n*Reservations Required
URL:https://www.tapatiosprings.com/event/singer-songwriter-terrell-scott-2-2-3-4/
LOCATION:La Cascada Table & Bar – Patio
CATEGORIES:Music
ATTACH;FMTTYPE=image/jpeg:https://www.tapatiosprings.com/wp-content/uploads/2026/04/0040654440_10.jpg
END:VEVENT
BEGIN:VEVENT
DTSTART;TZID=UTC:20260613T183000
DTEND;TZID=UTC:20260613T210000
DTSTAMP:20260419T113350
CREATED:20250715T213957Z
LAST-MODIFIED:20260418T213958Z
UID:10001861-1781375400-1781384400@www.tapatiosprings.com
SUMMARY:Summer Luau Night
DESCRIPTION:Location: Resort Pool – Event Lawn\nTime: 6:30 PM – 9 PM\nPrice: $65 Adults | $25 Kids (under 12)\n*Open to the Public\, Resort Guests & Members \n  \nTICKET LINK COMING SOON!
URL:https://www.tapatiosprings.com/event/hawaiian-luau-night/
LOCATION:Resort Pool – Event Lawn
ATTACH;FMTTYPE=image/webp:https://www.tapatiosprings.com/wp-content/uploads/2025/07/luau-email-image-662fe5a5ad293.webp
END:VEVENT
BEGIN:VEVENT
DTSTART;TZID=America/Mexico_City:20260618T080000
DTEND;TZID=America/Mexico_City:20260621T170000
DTSTAMP:20260419T113350
CREATED:20260409T184153Z
LAST-MODIFIED:20260409T193649Z
UID:10007969-1781769600-1782061200@www.tapatiosprings.com
SUMMARY:Father's Day
DESCRIPTION:Father’s Day Weekend\nJune 21st\nCelebrate Dad with a relaxing Father’s Day at Tapatio Springs. Spend meaningful time together enjoying the pool\, hitting the golf course\, and soaking in the beauty of the Hill Country. It’s the perfect setting to unwind\, connect\, and celebrate Dad his way.
URL:https://www.tapatiosprings.com/event/fathers-day/
ATTACH;FMTTYPE=image/jpeg:https://www.tapatiosprings.com/wp-content/uploads/2026/04/pexels-photo-9207387.jpeg
END:VEVENT
BEGIN:VEVENT
DTSTART;TZID=America/Mexico_City:20260621T110000
DTEND;TZID=America/Mexico_City:20260621T160000
DTSTAMP:20260419T113350
CREATED:20260417T024230Z
LAST-MODIFIED:20260417T025200Z
UID:10007980-1782039600-1782057600@www.tapatiosprings.com
SUMMARY:Father's Day BBQ
DESCRIPTION:Father’s Day BBQ \nSunday\, June 21st\nLa Cascada Table & Bar\n11:00 AM – 4:00 PM \n  \nCelebrate Dad with great food\, cold drinks\, and Hill Country vibes at Tapatio’s La Cascada Table & Bar! Join us for a Father’s Day BBQ on Sunday\, June 21\, from 11:00 AM to 4:00 PM\, featuring mouthwatering BBQ favorites\, chef-inspired specials\, and refreshing beverages from the bar. Whether you’re treating Dad to a relaxed afternoon meal or gathering the whole family together\, La Cascada offers the perfect setting to unwind\, enjoy delicious food\, and make the day memorable. Come celebrate the fathers and father figures in your life with a feast worthy of them. Date: Sunday\, June 21 Time: 11:00 AM – 4:00 PM Location: Tapatio’s La Cascada Table & Bar
URL:https://www.tapatiosprings.com/event/fathers-day-bbq/
ATTACH;FMTTYPE=image/jpeg:https://www.tapatiosprings.com/wp-content/uploads/2026/04/fathers-day-bbq.jpg
END:VEVENT
BEGIN:VEVENT
DTSTART;VALUE=DATE:20260703
DTEND;VALUE=DATE:20260706
DTSTAMP:20260419T113350
CREATED:20260409T180718Z
LAST-MODIFIED:20260409T181829Z
UID:10007968-1783036800-1783295999@www.tapatiosprings.com
SUMMARY:July 4th Weekend at Tapatio Springs
DESCRIPTION:America’s 250th Celebration at Tapatio Springs!\nJuly 3rd – 5th\n\nCelebrate America’s Birthday Weekend at Tapatio Springs! Enjoy live music\, a DJ\, pool games\, festive buffets\, and a special First Responders Breakfast honoring our heroes. Top it all off with a spectacular festival and fireworks show on July 5.\n\n✨ Make it a weekend to remember—book your stay at Tapatio Springs and celebrate in Hill Country style!
URL:https://www.tapatiosprings.com/event/july-4th-weekend-at-tapatio-springs/
ATTACH;FMTTYPE=image/jpeg:https://www.tapatiosprings.com/wp-content/uploads/2026/04/360_F_1036175153_SnvrCGgXuUjMb3P3mKZrbVOHXfBhaiJq.jpg
END:VEVENT
END:VCALENDAR