BEGIN:VCALENDAR
VERSION:2.0
PRODID:-//Tapatio Springs - ECPv6.15.20//NONSGML v1.0//EN
CALSCALE:GREGORIAN
METHOD:PUBLISH
X-WR-CALNAME:Tapatio Springs
X-ORIGINAL-URL:https://www.tapatiosprings.com
X-WR-CALDESC:Events for Tapatio Springs
REFRESH-INTERVAL;VALUE=DURATION:PT1H
X-Robots-Tag:noindex
X-PUBLISHED-TTL:PT1H
BEGIN:VTIMEZONE
TZID:UTC
BEGIN:STANDARD
TZOFFSETFROM:+0000
TZOFFSETTO:+0000
TZNAME:UTC
DTSTART:20250101T000000
END:STANDARD
END:VTIMEZONE
BEGIN:VEVENT
DTSTART;TZID=UTC:20261205T160000
DTEND;TZID=UTC:20261205T180000
DTSTAMP:20260424T164924
CREATED:20250630T195610Z
LAST-MODIFIED:20260111T034134Z
UID:10002368-1796486400-1796493600@www.tapatiosprings.com
SUMMARY:Daily Happy Hour
DESCRIPTION:Location: La Cascada Table & Bar\nTime: Daily\, 4 PM – 6 PM\nDetails: Join us for daily Drink Specials at La Cascada Bar!
URL:https://www.tapatiosprings.com/event/daily-happy-hour/2026-12-05/
LOCATION:La Cascada Table & Bar
CATEGORIES:Eat & Drink
ATTACH;FMTTYPE=image/jpeg:https://www.tapatiosprings.com/wp-content/uploads/2025/06/ts-detail-FB-3-96-2-scaled.jpg
END:VEVENT
BEGIN:VEVENT
DTSTART;TZID=UTC:20261206T160000
DTEND;TZID=UTC:20261206T180000
DTSTAMP:20260424T164924
CREATED:20250630T195610Z
LAST-MODIFIED:20260111T034134Z
UID:10002369-1796572800-1796580000@www.tapatiosprings.com
SUMMARY:Daily Happy Hour
DESCRIPTION:Location: La Cascada Table & Bar\nTime: Daily\, 4 PM – 6 PM\nDetails: Join us for daily Drink Specials at La Cascada Bar!
URL:https://www.tapatiosprings.com/event/daily-happy-hour/2026-12-06/
LOCATION:La Cascada Table & Bar
CATEGORIES:Eat & Drink
ATTACH;FMTTYPE=image/jpeg:https://www.tapatiosprings.com/wp-content/uploads/2025/06/ts-detail-FB-3-96-2-scaled.jpg
END:VEVENT
BEGIN:VEVENT
DTSTART;TZID=UTC:20261207T100000
DTEND;TZID=UTC:20261207T110000
DTSTAMP:20260424T164924
CREATED:20250704T150050Z
LAST-MODIFIED:20251013T232545Z
UID:10004092-1796637600-1796641200@www.tapatiosprings.com
SUMMARY:Tiffany's Bootcamp
DESCRIPTION:Location: Clubhouse Fitness Center\nTime: Mondays & Wednesdays\, 10 AM – 11 AM\nPrice: $10 (Cash Only) \nFirst time participants\, please text Tiffany directly for confirmation: \nPhone: 2103267094 \n 
URL:https://www.tapatiosprings.com/event/tiffanys-bootcamp/2026-12-07/
LOCATION:Clubhouse Fitness Center
CATEGORIES:Wellness
ATTACH;FMTTYPE=image/webp:https://www.tapatiosprings.com/wp-content/uploads/2025/07/fitness-bootcamp-website-pic-67a3c92c402d5.webp
END:VEVENT
BEGIN:VEVENT
DTSTART;TZID=UTC:20261207T160000
DTEND;TZID=UTC:20261207T180000
DTSTAMP:20260424T164924
CREATED:20250630T195610Z
LAST-MODIFIED:20260111T034134Z
UID:10002370-1796659200-1796666400@www.tapatiosprings.com
SUMMARY:Daily Happy Hour
DESCRIPTION:Location: La Cascada Table & Bar\nTime: Daily\, 4 PM – 6 PM\nDetails: Join us for daily Drink Specials at La Cascada Bar!
URL:https://www.tapatiosprings.com/event/daily-happy-hour/2026-12-07/
LOCATION:La Cascada Table & Bar
CATEGORIES:Eat & Drink
ATTACH;FMTTYPE=image/jpeg:https://www.tapatiosprings.com/wp-content/uploads/2025/06/ts-detail-FB-3-96-2-scaled.jpg
END:VEVENT
BEGIN:VEVENT
DTSTART;TZID=UTC:20261208T160000
DTEND;TZID=UTC:20261208T180000
DTSTAMP:20260424T164924
CREATED:20250630T195610Z
LAST-MODIFIED:20260111T034134Z
UID:10002371-1796745600-1796752800@www.tapatiosprings.com
SUMMARY:Daily Happy Hour
DESCRIPTION:Location: La Cascada Table & Bar\nTime: Daily\, 4 PM – 6 PM\nDetails: Join us for daily Drink Specials at La Cascada Bar!
URL:https://www.tapatiosprings.com/event/daily-happy-hour/2026-12-08/
LOCATION:La Cascada Table & Bar
CATEGORIES:Eat & Drink
ATTACH;FMTTYPE=image/jpeg:https://www.tapatiosprings.com/wp-content/uploads/2025/06/ts-detail-FB-3-96-2-scaled.jpg
END:VEVENT
BEGIN:VEVENT
DTSTART;TZID=UTC:20261209T100000
DTEND;TZID=UTC:20261209T110000
DTSTAMP:20260424T164924
CREATED:20250704T150050Z
LAST-MODIFIED:20251013T232545Z
UID:10004093-1796810400-1796814000@www.tapatiosprings.com
SUMMARY:Tiffany's Bootcamp
DESCRIPTION:Location: Clubhouse Fitness Center\nTime: Mondays & Wednesdays\, 10 AM – 11 AM\nPrice: $10 (Cash Only) \nFirst time participants\, please text Tiffany directly for confirmation: \nPhone: 2103267094 \n 
URL:https://www.tapatiosprings.com/event/tiffanys-bootcamp/2026-12-09/
LOCATION:Clubhouse Fitness Center
CATEGORIES:Wellness
ATTACH;FMTTYPE=image/webp:https://www.tapatiosprings.com/wp-content/uploads/2025/07/fitness-bootcamp-website-pic-67a3c92c402d5.webp
END:VEVENT
BEGIN:VEVENT
DTSTART;TZID=UTC:20261209T110000
DTEND;TZID=UTC:20261209T210000
DTSTAMP:20260424T164924
CREATED:20250715T201631Z
LAST-MODIFIED:20260414T150920Z
UID:10003759-1796814000-1796850000@www.tapatiosprings.com
SUMMARY:Wine Wednesday
DESCRIPTION:Location: La Cascada Table & Bar\nTime: Wednesdays\, 11 AM – Close\nDetails: Half Off Bottles of Wine (Max. Discount $50)
URL:https://www.tapatiosprings.com/event/wine-wednesday/2026-12-09/
LOCATION:La Cascada Table & Bar
CATEGORIES:Eat & Drink
ATTACH;FMTTYPE=image/webp:https://www.tapatiosprings.com/wp-content/uploads/2025/07/tapatiospringshillcountryresort-boerneevents-eventcalendar-01-65b2b5b57d26a.webp
END:VEVENT
BEGIN:VEVENT
DTSTART;TZID=UTC:20261209T160000
DTEND;TZID=UTC:20261209T180000
DTSTAMP:20260424T164924
CREATED:20250630T195610Z
LAST-MODIFIED:20260111T034134Z
UID:10002372-1796832000-1796839200@www.tapatiosprings.com
SUMMARY:Daily Happy Hour
DESCRIPTION:Location: La Cascada Table & Bar\nTime: Daily\, 4 PM – 6 PM\nDetails: Join us for daily Drink Specials at La Cascada Bar!
URL:https://www.tapatiosprings.com/event/daily-happy-hour/2026-12-09/
LOCATION:La Cascada Table & Bar
CATEGORIES:Eat & Drink
ATTACH;FMTTYPE=image/jpeg:https://www.tapatiosprings.com/wp-content/uploads/2025/06/ts-detail-FB-3-96-2-scaled.jpg
END:VEVENT
BEGIN:VEVENT
DTSTART;TZID=UTC:20261210T160000
DTEND;TZID=UTC:20261210T180000
DTSTAMP:20260424T164924
CREATED:20250630T195610Z
LAST-MODIFIED:20260111T034134Z
UID:10002373-1796918400-1796925600@www.tapatiosprings.com
SUMMARY:Daily Happy Hour
DESCRIPTION:Location: La Cascada Table & Bar\nTime: Daily\, 4 PM – 6 PM\nDetails: Join us for daily Drink Specials at La Cascada Bar!
URL:https://www.tapatiosprings.com/event/daily-happy-hour/2026-12-10/
LOCATION:La Cascada Table & Bar
CATEGORIES:Eat & Drink
ATTACH;FMTTYPE=image/jpeg:https://www.tapatiosprings.com/wp-content/uploads/2025/06/ts-detail-FB-3-96-2-scaled.jpg
END:VEVENT
BEGIN:VEVENT
DTSTART;TZID=UTC:20261211T160000
DTEND;TZID=UTC:20261211T180000
DTSTAMP:20260424T164924
CREATED:20250630T195610Z
LAST-MODIFIED:20260111T034134Z
UID:10002374-1797004800-1797012000@www.tapatiosprings.com
SUMMARY:Daily Happy Hour
DESCRIPTION:Location: La Cascada Table & Bar\nTime: Daily\, 4 PM – 6 PM\nDetails: Join us for daily Drink Specials at La Cascada Bar!
URL:https://www.tapatiosprings.com/event/daily-happy-hour/2026-12-11/
LOCATION:La Cascada Table & Bar
CATEGORIES:Eat & Drink
ATTACH;FMTTYPE=image/jpeg:https://www.tapatiosprings.com/wp-content/uploads/2025/06/ts-detail-FB-3-96-2-scaled.jpg
END:VEVENT
BEGIN:VEVENT
DTSTART;TZID=UTC:20261212T160000
DTEND;TZID=UTC:20261212T180000
DTSTAMP:20260424T164924
CREATED:20250630T195610Z
LAST-MODIFIED:20260111T034134Z
UID:10002375-1797091200-1797098400@www.tapatiosprings.com
SUMMARY:Daily Happy Hour
DESCRIPTION:Location: La Cascada Table & Bar\nTime: Daily\, 4 PM – 6 PM\nDetails: Join us for daily Drink Specials at La Cascada Bar!
URL:https://www.tapatiosprings.com/event/daily-happy-hour/2026-12-12/
LOCATION:La Cascada Table & Bar
CATEGORIES:Eat & Drink
ATTACH;FMTTYPE=image/jpeg:https://www.tapatiosprings.com/wp-content/uploads/2025/06/ts-detail-FB-3-96-2-scaled.jpg
END:VEVENT
BEGIN:VEVENT
DTSTART;TZID=UTC:20261213T160000
DTEND;TZID=UTC:20261213T180000
DTSTAMP:20260424T164924
CREATED:20250630T195610Z
LAST-MODIFIED:20260111T034134Z
UID:10002376-1797177600-1797184800@www.tapatiosprings.com
SUMMARY:Daily Happy Hour
DESCRIPTION:Location: La Cascada Table & Bar\nTime: Daily\, 4 PM – 6 PM\nDetails: Join us for daily Drink Specials at La Cascada Bar!
URL:https://www.tapatiosprings.com/event/daily-happy-hour/2026-12-13/
LOCATION:La Cascada Table & Bar
CATEGORIES:Eat & Drink
ATTACH;FMTTYPE=image/jpeg:https://www.tapatiosprings.com/wp-content/uploads/2025/06/ts-detail-FB-3-96-2-scaled.jpg
END:VEVENT
BEGIN:VEVENT
DTSTART;TZID=UTC:20261214T100000
DTEND;TZID=UTC:20261214T110000
DTSTAMP:20260424T164924
CREATED:20250704T150050Z
LAST-MODIFIED:20251013T232545Z
UID:10004094-1797242400-1797246000@www.tapatiosprings.com
SUMMARY:Tiffany's Bootcamp
DESCRIPTION:Location: Clubhouse Fitness Center\nTime: Mondays & Wednesdays\, 10 AM – 11 AM\nPrice: $10 (Cash Only) \nFirst time participants\, please text Tiffany directly for confirmation: \nPhone: 2103267094 \n 
URL:https://www.tapatiosprings.com/event/tiffanys-bootcamp/2026-12-14/
LOCATION:Clubhouse Fitness Center
CATEGORIES:Wellness
ATTACH;FMTTYPE=image/webp:https://www.tapatiosprings.com/wp-content/uploads/2025/07/fitness-bootcamp-website-pic-67a3c92c402d5.webp
END:VEVENT
BEGIN:VEVENT
DTSTART;TZID=UTC:20261214T160000
DTEND;TZID=UTC:20261214T180000
DTSTAMP:20260424T164924
CREATED:20250630T195610Z
LAST-MODIFIED:20260111T034134Z
UID:10002377-1797264000-1797271200@www.tapatiosprings.com
SUMMARY:Daily Happy Hour
DESCRIPTION:Location: La Cascada Table & Bar\nTime: Daily\, 4 PM – 6 PM\nDetails: Join us for daily Drink Specials at La Cascada Bar!
URL:https://www.tapatiosprings.com/event/daily-happy-hour/2026-12-14/
LOCATION:La Cascada Table & Bar
CATEGORIES:Eat & Drink
ATTACH;FMTTYPE=image/jpeg:https://www.tapatiosprings.com/wp-content/uploads/2025/06/ts-detail-FB-3-96-2-scaled.jpg
END:VEVENT
BEGIN:VEVENT
DTSTART;TZID=UTC:20261215T160000
DTEND;TZID=UTC:20261215T180000
DTSTAMP:20260424T164924
CREATED:20250630T195610Z
LAST-MODIFIED:20260111T034134Z
UID:10002378-1797350400-1797357600@www.tapatiosprings.com
SUMMARY:Daily Happy Hour
DESCRIPTION:Location: La Cascada Table & Bar\nTime: Daily\, 4 PM – 6 PM\nDetails: Join us for daily Drink Specials at La Cascada Bar!
URL:https://www.tapatiosprings.com/event/daily-happy-hour/2026-12-15/
LOCATION:La Cascada Table & Bar
CATEGORIES:Eat & Drink
ATTACH;FMTTYPE=image/jpeg:https://www.tapatiosprings.com/wp-content/uploads/2025/06/ts-detail-FB-3-96-2-scaled.jpg
END:VEVENT
BEGIN:VEVENT
DTSTART;TZID=UTC:20261216T100000
DTEND;TZID=UTC:20261216T110000
DTSTAMP:20260424T164924
CREATED:20250704T150050Z
LAST-MODIFIED:20251013T232545Z
UID:10004095-1797415200-1797418800@www.tapatiosprings.com
SUMMARY:Tiffany's Bootcamp
DESCRIPTION:Location: Clubhouse Fitness Center\nTime: Mondays & Wednesdays\, 10 AM – 11 AM\nPrice: $10 (Cash Only) \nFirst time participants\, please text Tiffany directly for confirmation: \nPhone: 2103267094 \n 
URL:https://www.tapatiosprings.com/event/tiffanys-bootcamp/2026-12-16/
LOCATION:Clubhouse Fitness Center
CATEGORIES:Wellness
ATTACH;FMTTYPE=image/webp:https://www.tapatiosprings.com/wp-content/uploads/2025/07/fitness-bootcamp-website-pic-67a3c92c402d5.webp
END:VEVENT
BEGIN:VEVENT
DTSTART;TZID=UTC:20261216T110000
DTEND;TZID=UTC:20261216T210000
DTSTAMP:20260424T164924
CREATED:20250715T201631Z
LAST-MODIFIED:20260414T150920Z
UID:10003760-1797418800-1797454800@www.tapatiosprings.com
SUMMARY:Wine Wednesday
DESCRIPTION:Location: La Cascada Table & Bar\nTime: Wednesdays\, 11 AM – Close\nDetails: Half Off Bottles of Wine (Max. Discount $50)
URL:https://www.tapatiosprings.com/event/wine-wednesday/2026-12-16/
LOCATION:La Cascada Table & Bar
CATEGORIES:Eat & Drink
ATTACH;FMTTYPE=image/webp:https://www.tapatiosprings.com/wp-content/uploads/2025/07/tapatiospringshillcountryresort-boerneevents-eventcalendar-01-65b2b5b57d26a.webp
END:VEVENT
BEGIN:VEVENT
DTSTART;TZID=UTC:20261216T160000
DTEND;TZID=UTC:20261216T180000
DTSTAMP:20260424T164924
CREATED:20250630T195610Z
LAST-MODIFIED:20260111T034134Z
UID:10002379-1797436800-1797444000@www.tapatiosprings.com
SUMMARY:Daily Happy Hour
DESCRIPTION:Location: La Cascada Table & Bar\nTime: Daily\, 4 PM – 6 PM\nDetails: Join us for daily Drink Specials at La Cascada Bar!
URL:https://www.tapatiosprings.com/event/daily-happy-hour/2026-12-16/
LOCATION:La Cascada Table & Bar
CATEGORIES:Eat & Drink
ATTACH;FMTTYPE=image/jpeg:https://www.tapatiosprings.com/wp-content/uploads/2025/06/ts-detail-FB-3-96-2-scaled.jpg
END:VEVENT
BEGIN:VEVENT
DTSTART;TZID=UTC:20261217T160000
DTEND;TZID=UTC:20261217T180000
DTSTAMP:20260424T164924
CREATED:20250630T195610Z
LAST-MODIFIED:20260111T034134Z
UID:10002380-1797523200-1797530400@www.tapatiosprings.com
SUMMARY:Daily Happy Hour
DESCRIPTION:Location: La Cascada Table & Bar\nTime: Daily\, 4 PM – 6 PM\nDetails: Join us for daily Drink Specials at La Cascada Bar!
URL:https://www.tapatiosprings.com/event/daily-happy-hour/2026-12-17/
LOCATION:La Cascada Table & Bar
CATEGORIES:Eat & Drink
ATTACH;FMTTYPE=image/jpeg:https://www.tapatiosprings.com/wp-content/uploads/2025/06/ts-detail-FB-3-96-2-scaled.jpg
END:VEVENT
BEGIN:VEVENT
DTSTART;TZID=UTC:20261218T160000
DTEND;TZID=UTC:20261218T180000
DTSTAMP:20260424T164924
CREATED:20250630T195610Z
LAST-MODIFIED:20260111T034134Z
UID:10002381-1797609600-1797616800@www.tapatiosprings.com
SUMMARY:Daily Happy Hour
DESCRIPTION:Location: La Cascada Table & Bar\nTime: Daily\, 4 PM – 6 PM\nDetails: Join us for daily Drink Specials at La Cascada Bar!
URL:https://www.tapatiosprings.com/event/daily-happy-hour/2026-12-18/
LOCATION:La Cascada Table & Bar
CATEGORIES:Eat & Drink
ATTACH;FMTTYPE=image/jpeg:https://www.tapatiosprings.com/wp-content/uploads/2025/06/ts-detail-FB-3-96-2-scaled.jpg
END:VEVENT
BEGIN:VEVENT
DTSTART;TZID=UTC:20261219T160000
DTEND;TZID=UTC:20261219T180000
DTSTAMP:20260424T164924
CREATED:20250630T195610Z
LAST-MODIFIED:20260111T034134Z
UID:10002382-1797696000-1797703200@www.tapatiosprings.com
SUMMARY:Daily Happy Hour
DESCRIPTION:Location: La Cascada Table & Bar\nTime: Daily\, 4 PM – 6 PM\nDetails: Join us for daily Drink Specials at La Cascada Bar!
URL:https://www.tapatiosprings.com/event/daily-happy-hour/2026-12-19/
LOCATION:La Cascada Table & Bar
CATEGORIES:Eat & Drink
ATTACH;FMTTYPE=image/jpeg:https://www.tapatiosprings.com/wp-content/uploads/2025/06/ts-detail-FB-3-96-2-scaled.jpg
END:VEVENT
BEGIN:VEVENT
DTSTART;TZID=UTC:20261220T160000
DTEND;TZID=UTC:20261220T180000
DTSTAMP:20260424T164924
CREATED:20250630T195610Z
LAST-MODIFIED:20260111T034134Z
UID:10002383-1797782400-1797789600@www.tapatiosprings.com
SUMMARY:Daily Happy Hour
DESCRIPTION:Location: La Cascada Table & Bar\nTime: Daily\, 4 PM – 6 PM\nDetails: Join us for daily Drink Specials at La Cascada Bar!
URL:https://www.tapatiosprings.com/event/daily-happy-hour/2026-12-20/
LOCATION:La Cascada Table & Bar
CATEGORIES:Eat & Drink
ATTACH;FMTTYPE=image/jpeg:https://www.tapatiosprings.com/wp-content/uploads/2025/06/ts-detail-FB-3-96-2-scaled.jpg
END:VEVENT
BEGIN:VEVENT
DTSTART;TZID=UTC:20261221T100000
DTEND;TZID=UTC:20261221T110000
DTSTAMP:20260424T164924
CREATED:20250704T150050Z
LAST-MODIFIED:20251013T232545Z
UID:10004096-1797847200-1797850800@www.tapatiosprings.com
SUMMARY:Tiffany's Bootcamp
DESCRIPTION:Location: Clubhouse Fitness Center\nTime: Mondays & Wednesdays\, 10 AM – 11 AM\nPrice: $10 (Cash Only) \nFirst time participants\, please text Tiffany directly for confirmation: \nPhone: 2103267094 \n 
URL:https://www.tapatiosprings.com/event/tiffanys-bootcamp/2026-12-21/
LOCATION:Clubhouse Fitness Center
CATEGORIES:Wellness
ATTACH;FMTTYPE=image/webp:https://www.tapatiosprings.com/wp-content/uploads/2025/07/fitness-bootcamp-website-pic-67a3c92c402d5.webp
END:VEVENT
BEGIN:VEVENT
DTSTART;TZID=UTC:20261221T160000
DTEND;TZID=UTC:20261221T180000
DTSTAMP:20260424T164924
CREATED:20250630T195610Z
LAST-MODIFIED:20260111T034134Z
UID:10002384-1797868800-1797876000@www.tapatiosprings.com
SUMMARY:Daily Happy Hour
DESCRIPTION:Location: La Cascada Table & Bar\nTime: Daily\, 4 PM – 6 PM\nDetails: Join us for daily Drink Specials at La Cascada Bar!
URL:https://www.tapatiosprings.com/event/daily-happy-hour/2026-12-21/
LOCATION:La Cascada Table & Bar
CATEGORIES:Eat & Drink
ATTACH;FMTTYPE=image/jpeg:https://www.tapatiosprings.com/wp-content/uploads/2025/06/ts-detail-FB-3-96-2-scaled.jpg
END:VEVENT
BEGIN:VEVENT
DTSTART;TZID=UTC:20261222T160000
DTEND;TZID=UTC:20261222T180000
DTSTAMP:20260424T164924
CREATED:20250630T195610Z
LAST-MODIFIED:20260111T034134Z
UID:10002385-1797955200-1797962400@www.tapatiosprings.com
SUMMARY:Daily Happy Hour
DESCRIPTION:Location: La Cascada Table & Bar\nTime: Daily\, 4 PM – 6 PM\nDetails: Join us for daily Drink Specials at La Cascada Bar!
URL:https://www.tapatiosprings.com/event/daily-happy-hour/2026-12-22/
LOCATION:La Cascada Table & Bar
CATEGORIES:Eat & Drink
ATTACH;FMTTYPE=image/jpeg:https://www.tapatiosprings.com/wp-content/uploads/2025/06/ts-detail-FB-3-96-2-scaled.jpg
END:VEVENT
BEGIN:VEVENT
DTSTART;TZID=UTC:20261223T100000
DTEND;TZID=UTC:20261223T110000
DTSTAMP:20260424T164924
CREATED:20250704T150050Z
LAST-MODIFIED:20251013T232545Z
UID:10004097-1798020000-1798023600@www.tapatiosprings.com
SUMMARY:Tiffany's Bootcamp
DESCRIPTION:Location: Clubhouse Fitness Center\nTime: Mondays & Wednesdays\, 10 AM – 11 AM\nPrice: $10 (Cash Only) \nFirst time participants\, please text Tiffany directly for confirmation: \nPhone: 2103267094 \n 
URL:https://www.tapatiosprings.com/event/tiffanys-bootcamp/2026-12-23/
LOCATION:Clubhouse Fitness Center
CATEGORIES:Wellness
ATTACH;FMTTYPE=image/webp:https://www.tapatiosprings.com/wp-content/uploads/2025/07/fitness-bootcamp-website-pic-67a3c92c402d5.webp
END:VEVENT
BEGIN:VEVENT
DTSTART;TZID=UTC:20261223T110000
DTEND;TZID=UTC:20261223T210000
DTSTAMP:20260424T164924
CREATED:20250715T201631Z
LAST-MODIFIED:20260414T150920Z
UID:10003761-1798023600-1798059600@www.tapatiosprings.com
SUMMARY:Wine Wednesday
DESCRIPTION:Location: La Cascada Table & Bar\nTime: Wednesdays\, 11 AM – Close\nDetails: Half Off Bottles of Wine (Max. Discount $50)
URL:https://www.tapatiosprings.com/event/wine-wednesday/2026-12-23/
LOCATION:La Cascada Table & Bar
CATEGORIES:Eat & Drink
ATTACH;FMTTYPE=image/webp:https://www.tapatiosprings.com/wp-content/uploads/2025/07/tapatiospringshillcountryresort-boerneevents-eventcalendar-01-65b2b5b57d26a.webp
END:VEVENT
BEGIN:VEVENT
DTSTART;TZID=UTC:20261223T160000
DTEND;TZID=UTC:20261223T180000
DTSTAMP:20260424T164924
CREATED:20250630T195610Z
LAST-MODIFIED:20260111T034134Z
UID:10002386-1798041600-1798048800@www.tapatiosprings.com
SUMMARY:Daily Happy Hour
DESCRIPTION:Location: La Cascada Table & Bar\nTime: Daily\, 4 PM – 6 PM\nDetails: Join us for daily Drink Specials at La Cascada Bar!
URL:https://www.tapatiosprings.com/event/daily-happy-hour/2026-12-23/
LOCATION:La Cascada Table & Bar
CATEGORIES:Eat & Drink
ATTACH;FMTTYPE=image/jpeg:https://www.tapatiosprings.com/wp-content/uploads/2025/06/ts-detail-FB-3-96-2-scaled.jpg
END:VEVENT
BEGIN:VEVENT
DTSTART;TZID=UTC:20261224T160000
DTEND;TZID=UTC:20261224T180000
DTSTAMP:20260424T164924
CREATED:20250630T195610Z
LAST-MODIFIED:20260111T034134Z
UID:10002387-1798128000-1798135200@www.tapatiosprings.com
SUMMARY:Daily Happy Hour
DESCRIPTION:Location: La Cascada Table & Bar\nTime: Daily\, 4 PM – 6 PM\nDetails: Join us for daily Drink Specials at La Cascada Bar!
URL:https://www.tapatiosprings.com/event/daily-happy-hour/2026-12-24/
LOCATION:La Cascada Table & Bar
CATEGORIES:Eat & Drink
ATTACH;FMTTYPE=image/jpeg:https://www.tapatiosprings.com/wp-content/uploads/2025/06/ts-detail-FB-3-96-2-scaled.jpg
END:VEVENT
BEGIN:VEVENT
DTSTART;TZID=UTC:20261225T160000
DTEND;TZID=UTC:20261225T180000
DTSTAMP:20260424T164924
CREATED:20250630T195610Z
LAST-MODIFIED:20260111T034134Z
UID:10002388-1798214400-1798221600@www.tapatiosprings.com
SUMMARY:Daily Happy Hour
DESCRIPTION:Location: La Cascada Table & Bar\nTime: Daily\, 4 PM – 6 PM\nDetails: Join us for daily Drink Specials at La Cascada Bar!
URL:https://www.tapatiosprings.com/event/daily-happy-hour/2026-12-25/
LOCATION:La Cascada Table & Bar
CATEGORIES:Eat & Drink
ATTACH;FMTTYPE=image/jpeg:https://www.tapatiosprings.com/wp-content/uploads/2025/06/ts-detail-FB-3-96-2-scaled.jpg
END:VEVENT
END:VCALENDAR