BEGIN:VCALENDAR
VERSION:2.0
PRODID:-//Tapatio Springs - ECPv6.15.20//NONSGML v1.0//EN
CALSCALE:GREGORIAN
METHOD:PUBLISH
X-ORIGINAL-URL:https://www.tapatiosprings.com
X-WR-CALDESC:Events for Tapatio Springs
REFRESH-INTERVAL;VALUE=DURATION:PT1H
X-Robots-Tag:noindex
X-PUBLISHED-TTL:PT1H
BEGIN:VTIMEZONE
TZID:America/Mexico_City
BEGIN:STANDARD
TZOFFSETFROM:-0600
TZOFFSETTO:-0600
TZNAME:CST
DTSTART:20250101T000000
END:STANDARD
END:VTIMEZONE
BEGIN:VTIMEZONE
TZID:UTC
BEGIN:STANDARD
TZOFFSETFROM:+0000
TZOFFSETTO:+0000
TZNAME:UTC
DTSTART:20250101T000000
END:STANDARD
END:VTIMEZONE
BEGIN:VEVENT
DTSTART;TZID=America/Mexico_City:20260410T190000
DTEND;TZID=America/Mexico_City:20260410T220000
DTSTAMP:20260422T181857
CREATED:20260401T031604Z
LAST-MODIFIED:20260401T031604Z
UID:10007751-1775847600-1775858400@www.tapatiosprings.com
SUMMARY:Singer/Songwriter - Juanski
DESCRIPTION:Location: La Cascada Table & Bar – Patio\nTime: 7:00 PM – 10:00 PM\n*Reservations Required
URL:https://www.tapatiosprings.com/event/singer-songwriter-juanski/
CATEGORIES:Music
ATTACH;FMTTYPE=image/jpeg:https://www.tapatiosprings.com/wp-content/uploads/2025/12/tapatiosprings-concertseries-quad-64835d1a99571.jpg
END:VEVENT
BEGIN:VEVENT
DTSTART;TZID=UTC:20260411T160000
DTEND;TZID=UTC:20260411T180000
DTSTAMP:20260422T181857
CREATED:20250630T195610Z
LAST-MODIFIED:20260111T034134Z
UID:10002130-1775923200-1775930400@www.tapatiosprings.com
SUMMARY:Daily Happy Hour
DESCRIPTION:Location: La Cascada Table & Bar\nTime: Daily\, 4 PM – 6 PM\nDetails: Join us for daily Drink Specials at La Cascada Bar!
URL:https://www.tapatiosprings.com/event/daily-happy-hour/2026-04-11/
LOCATION:La Cascada Table & Bar
CATEGORIES:Eat & Drink
ATTACH;FMTTYPE=image/jpeg:https://www.tapatiosprings.com/wp-content/uploads/2025/06/ts-detail-FB-3-96-2-scaled.jpg
END:VEVENT
BEGIN:VEVENT
DTSTART;TZID=America/Mexico_City:20260411T190000
DTEND;TZID=America/Mexico_City:20260411T220000
DTSTAMP:20260422T181857
CREATED:20260401T025347Z
LAST-MODIFIED:20260401T025347Z
UID:10007748-1775934000-1775944800@www.tapatiosprings.com
SUMMARY:Singer/Songwriter Series
DESCRIPTION:Location: La Cascada Table & Bar – Patio\nTime: 7 PM – 10 PM\n*Reservations Required
URL:https://www.tapatiosprings.com/event/singer-songwriter-series-faith-jacobs-2-2/
CATEGORIES:Music
ATTACH;FMTTYPE=image/jpeg:https://www.tapatiosprings.com/wp-content/uploads/2025/12/Faith-Jacobs-Portrait.jpg
END:VEVENT
BEGIN:VEVENT
DTSTART;TZID=UTC:20260412T160000
DTEND;TZID=UTC:20260412T180000
DTSTAMP:20260422T181857
CREATED:20250630T195610Z
LAST-MODIFIED:20260111T034134Z
UID:10002131-1776009600-1776016800@www.tapatiosprings.com
SUMMARY:Daily Happy Hour
DESCRIPTION:Location: La Cascada Table & Bar\nTime: Daily\, 4 PM – 6 PM\nDetails: Join us for daily Drink Specials at La Cascada Bar!
URL:https://www.tapatiosprings.com/event/daily-happy-hour/2026-04-12/
LOCATION:La Cascada Table & Bar
CATEGORIES:Eat & Drink
ATTACH;FMTTYPE=image/jpeg:https://www.tapatiosprings.com/wp-content/uploads/2025/06/ts-detail-FB-3-96-2-scaled.jpg
END:VEVENT
BEGIN:VEVENT
DTSTART;TZID=UTC:20260413T090000
DTEND;TZID=UTC:20260413T100000
DTSTAMP:20260422T181857
CREATED:20250719T015709Z
LAST-MODIFIED:20260220T021919Z
UID:10004545-1776070800-1776074400@www.tapatiosprings.com
SUMMARY:Yoga Flow
DESCRIPTION:Location: Oaks Pavilion\nTime: Mondays & Thursdays\, 9 AM – 10 AM\n*Complimentary for Resort Guests & Members
URL:https://www.tapatiosprings.com/event/yoga-flow-2/2026-04-13/
LOCATION:Oaks Pavilion
CATEGORIES:Wellness
ATTACH;FMTTYPE=image/webp:https://www.tapatiosprings.com/wp-content/uploads/2025/07/yoga-flow-website-pic-67a3c565a2ebc.webp
END:VEVENT
BEGIN:VEVENT
DTSTART;TZID=UTC:20260413T100000
DTEND;TZID=UTC:20260413T110000
DTSTAMP:20260422T181857
CREATED:20250704T150050Z
LAST-MODIFIED:20251013T232545Z
UID:10004024-1776074400-1776078000@www.tapatiosprings.com
SUMMARY:Tiffany's Bootcamp
DESCRIPTION:Location: Clubhouse Fitness Center\nTime: Mondays & Wednesdays\, 10 AM – 11 AM\nPrice: $10 (Cash Only) \nFirst time participants\, please text Tiffany directly for confirmation: \nPhone: 2103267094 \n 
URL:https://www.tapatiosprings.com/event/tiffanys-bootcamp/2026-04-13/
LOCATION:Clubhouse Fitness Center
CATEGORIES:Wellness
ATTACH;FMTTYPE=image/webp:https://www.tapatiosprings.com/wp-content/uploads/2025/07/fitness-bootcamp-website-pic-67a3c92c402d5.webp
END:VEVENT
BEGIN:VEVENT
DTSTART;TZID=UTC:20260413T160000
DTEND;TZID=UTC:20260413T180000
DTSTAMP:20260422T181857
CREATED:20250630T195610Z
LAST-MODIFIED:20260111T034134Z
UID:10002132-1776096000-1776103200@www.tapatiosprings.com
SUMMARY:Daily Happy Hour
DESCRIPTION:Location: La Cascada Table & Bar\nTime: Daily\, 4 PM – 6 PM\nDetails: Join us for daily Drink Specials at La Cascada Bar!
URL:https://www.tapatiosprings.com/event/daily-happy-hour/2026-04-13/
LOCATION:La Cascada Table & Bar
CATEGORIES:Eat & Drink
ATTACH;FMTTYPE=image/jpeg:https://www.tapatiosprings.com/wp-content/uploads/2025/06/ts-detail-FB-3-96-2-scaled.jpg
END:VEVENT
BEGIN:VEVENT
DTSTART;TZID=America/Mexico_City:20260413T170000
DTEND;TZID=America/Mexico_City:20260413T210000
DTSTAMP:20260422T181857
CREATED:20260319T184949Z
LAST-MODIFIED:20260320T182524Z
UID:10007741-1776099600-1776114000@www.tapatiosprings.com
SUMMARY:Monday Pasta Table
DESCRIPTION:Live‑Action Pasta Station | April 13th\nLocation: La Cascada Table & Bar\nTime: 5:00 PM – 9:00 PM\nDetails:  \nBuild Your Own Pasta\nCreate the pasta of your dreams at our Live‑Action Pasta Station!\n-Entrée only\n-$29 per person \n(does not include tax or gratuity) \n\n\nChoose your pasta\, pick your favorite sauces and toppings\, and watch it come together fresh before your eyes.\nA fun\, interactive dining experience that lets you build it your way. \n*Reservations preferred
URL:https://www.tapatiosprings.com/event/monday_pasta/
LOCATION:La Cascada Table & Bar
CATEGORIES:Children & Family,Eat & Drink,Hotel Events,Music
ATTACH;FMTTYPE=image/jpeg:https://www.tapatiosprings.com/wp-content/uploads/2026/03/472761519_1296805958229946_6774432502339723703_n.jpg
END:VEVENT
BEGIN:VEVENT
DTSTART;TZID=UTC:20260414T160000
DTEND;TZID=UTC:20260414T180000
DTSTAMP:20260422T181857
CREATED:20250630T195610Z
LAST-MODIFIED:20260111T034134Z
UID:10002133-1776182400-1776189600@www.tapatiosprings.com
SUMMARY:Daily Happy Hour
DESCRIPTION:Location: La Cascada Table & Bar\nTime: Daily\, 4 PM – 6 PM\nDetails: Join us for daily Drink Specials at La Cascada Bar!
URL:https://www.tapatiosprings.com/event/daily-happy-hour/2026-04-14/
LOCATION:La Cascada Table & Bar
CATEGORIES:Eat & Drink
ATTACH;FMTTYPE=image/jpeg:https://www.tapatiosprings.com/wp-content/uploads/2025/06/ts-detail-FB-3-96-2-scaled.jpg
END:VEVENT
BEGIN:VEVENT
DTSTART;TZID=UTC:20260415T100000
DTEND;TZID=UTC:20260415T110000
DTSTAMP:20260422T181857
CREATED:20250704T150050Z
LAST-MODIFIED:20251013T232545Z
UID:10004025-1776247200-1776250800@www.tapatiosprings.com
SUMMARY:Tiffany's Bootcamp
DESCRIPTION:Location: Clubhouse Fitness Center\nTime: Mondays & Wednesdays\, 10 AM – 11 AM\nPrice: $10 (Cash Only) \nFirst time participants\, please text Tiffany directly for confirmation: \nPhone: 2103267094 \n 
URL:https://www.tapatiosprings.com/event/tiffanys-bootcamp/2026-04-15/
LOCATION:Clubhouse Fitness Center
CATEGORIES:Wellness
ATTACH;FMTTYPE=image/webp:https://www.tapatiosprings.com/wp-content/uploads/2025/07/fitness-bootcamp-website-pic-67a3c92c402d5.webp
END:VEVENT
BEGIN:VEVENT
DTSTART;TZID=UTC:20260415T110000
DTEND;TZID=UTC:20260415T210000
DTSTAMP:20260422T181857
CREATED:20250715T201631Z
LAST-MODIFIED:20260414T150920Z
UID:10003725-1776250800-1776286800@www.tapatiosprings.com
SUMMARY:Wine Wednesday
DESCRIPTION:Location: La Cascada Table & Bar\nTime: Wednesdays\, 11 AM – Close\nDetails: Half Off Bottles of Wine (Max. Discount $50)
URL:https://www.tapatiosprings.com/event/wine-wednesday/2026-04-15/
LOCATION:La Cascada Table & Bar
CATEGORIES:Eat & Drink
ATTACH;FMTTYPE=image/webp:https://www.tapatiosprings.com/wp-content/uploads/2025/07/tapatiospringshillcountryresort-boerneevents-eventcalendar-01-65b2b5b57d26a.webp
END:VEVENT
BEGIN:VEVENT
DTSTART;TZID=UTC:20260415T160000
DTEND;TZID=UTC:20260415T180000
DTSTAMP:20260422T181857
CREATED:20250630T195610Z
LAST-MODIFIED:20260111T034134Z
UID:10002134-1776268800-1776276000@www.tapatiosprings.com
SUMMARY:Daily Happy Hour
DESCRIPTION:Location: La Cascada Table & Bar\nTime: Daily\, 4 PM – 6 PM\nDetails: Join us for daily Drink Specials at La Cascada Bar!
URL:https://www.tapatiosprings.com/event/daily-happy-hour/2026-04-15/
LOCATION:La Cascada Table & Bar
CATEGORIES:Eat & Drink
ATTACH;FMTTYPE=image/jpeg:https://www.tapatiosprings.com/wp-content/uploads/2025/06/ts-detail-FB-3-96-2-scaled.jpg
END:VEVENT
BEGIN:VEVENT
DTSTART;TZID=UTC:20260416T090000
DTEND;TZID=UTC:20260416T100000
DTSTAMP:20260422T181857
CREATED:20250719T015709Z
LAST-MODIFIED:20260220T021919Z
UID:10004546-1776330000-1776333600@www.tapatiosprings.com
SUMMARY:Yoga Flow
DESCRIPTION:Location: Oaks Pavilion\nTime: Mondays & Thursdays\, 9 AM – 10 AM\n*Complimentary for Resort Guests & Members
URL:https://www.tapatiosprings.com/event/yoga-flow-2/2026-04-16/
LOCATION:Oaks Pavilion
CATEGORIES:Wellness
ATTACH;FMTTYPE=image/webp:https://www.tapatiosprings.com/wp-content/uploads/2025/07/yoga-flow-website-pic-67a3c565a2ebc.webp
END:VEVENT
BEGIN:VEVENT
DTSTART;TZID=UTC:20260416T160000
DTEND;TZID=UTC:20260416T180000
DTSTAMP:20260422T181857
CREATED:20250630T195610Z
LAST-MODIFIED:20260111T034134Z
UID:10002135-1776355200-1776362400@www.tapatiosprings.com
SUMMARY:Daily Happy Hour
DESCRIPTION:Location: La Cascada Table & Bar\nTime: Daily\, 4 PM – 6 PM\nDetails: Join us for daily Drink Specials at La Cascada Bar!
URL:https://www.tapatiosprings.com/event/daily-happy-hour/2026-04-16/
LOCATION:La Cascada Table & Bar
CATEGORIES:Eat & Drink
ATTACH;FMTTYPE=image/jpeg:https://www.tapatiosprings.com/wp-content/uploads/2025/06/ts-detail-FB-3-96-2-scaled.jpg
END:VEVENT
BEGIN:VEVENT
DTSTART;TZID=UTC:20260417T103000
DTEND;TZID=UTC:20260417T113000
DTSTAMP:20260422T181857
CREATED:20250715T204730Z
LAST-MODIFIED:20260220T021950Z
UID:10005549-1776421800-1776425400@www.tapatiosprings.com
SUMMARY:Mat Pilates with Props
DESCRIPTION:Location: Evergreen Room\nTime: Every Friday\, 10:30 – 11:30 AM\n*Complimentary for Resort Guests & Members
URL:https://www.tapatiosprings.com/event/mat-pilates-with-props/2026-04-17/
LOCATION:Evergreen Room
CATEGORIES:Wellness
ATTACH;FMTTYPE=image/webp:https://www.tapatiosprings.com/wp-content/uploads/2025/07/mat-pilates-website-pic-67a3c53b6f3f2.webp
END:VEVENT
BEGIN:VEVENT
DTSTART;TZID=UTC:20260417T160000
DTEND;TZID=UTC:20260417T180000
DTSTAMP:20260422T181857
CREATED:20250630T195610Z
LAST-MODIFIED:20260111T034134Z
UID:10002136-1776441600-1776448800@www.tapatiosprings.com
SUMMARY:Daily Happy Hour
DESCRIPTION:Location: La Cascada Table & Bar\nTime: Daily\, 4 PM – 6 PM\nDetails: Join us for daily Drink Specials at La Cascada Bar!
URL:https://www.tapatiosprings.com/event/daily-happy-hour/2026-04-17/
LOCATION:La Cascada Table & Bar
CATEGORIES:Eat & Drink
ATTACH;FMTTYPE=image/jpeg:https://www.tapatiosprings.com/wp-content/uploads/2025/06/ts-detail-FB-3-96-2-scaled.jpg
END:VEVENT
BEGIN:VEVENT
DTSTART;TZID=America/Mexico_City:20260417T190000
DTEND;TZID=America/Mexico_City:20260417T220000
DTSTAMP:20260422T181857
CREATED:20260401T031723Z
LAST-MODIFIED:20260401T031723Z
UID:10007752-1776452400-1776463200@www.tapatiosprings.com
SUMMARY:Singer/Songwriter - Jefferson Clay
DESCRIPTION:Location: La Cascada Table & Bar – Patio\nTime: 7:00 PM – 10:00 PM\n*Reservations Required
URL:https://www.tapatiosprings.com/event/singer-songwriter-jefferson-clay/
CATEGORIES:Music
ATTACH;FMTTYPE=image/jpeg:https://www.tapatiosprings.com/wp-content/uploads/2025/07/guitar-366301_1920.jpg
END:VEVENT
BEGIN:VEVENT
DTSTART;TZID=UTC:20260418T160000
DTEND;TZID=UTC:20260418T180000
DTSTAMP:20260422T181857
CREATED:20250630T195610Z
LAST-MODIFIED:20260111T034134Z
UID:10002137-1776528000-1776535200@www.tapatiosprings.com
SUMMARY:Daily Happy Hour
DESCRIPTION:Location: La Cascada Table & Bar\nTime: Daily\, 4 PM – 6 PM\nDetails: Join us for daily Drink Specials at La Cascada Bar!
URL:https://www.tapatiosprings.com/event/daily-happy-hour/2026-04-18/
LOCATION:La Cascada Table & Bar
CATEGORIES:Eat & Drink
ATTACH;FMTTYPE=image/jpeg:https://www.tapatiosprings.com/wp-content/uploads/2025/06/ts-detail-FB-3-96-2-scaled.jpg
END:VEVENT
BEGIN:VEVENT
DTSTART;TZID=America/Mexico_City:20260418T190000
DTEND;TZID=America/Mexico_City:20260418T220000
DTSTAMP:20260422T181857
CREATED:20260401T032119Z
LAST-MODIFIED:20260414T151713Z
UID:10007754-1776538800-1776549600@www.tapatiosprings.com
SUMMARY:Singer/Songwriter - Noah Kurtis
DESCRIPTION:Location: La Cascada Table & Bar – Patio\nTime: 7:00 PM – 10:00 PM\n*Reservations Required
URL:https://www.tapatiosprings.com/event/singer-songwriter-noah-kurtis/
ATTACH;FMTTYPE=image/png:https://www.tapatiosprings.com/wp-content/uploads/2025/10/Noah-Kurtis-Solo_compressed.png
END:VEVENT
BEGIN:VEVENT
DTSTART;TZID=UTC:20260419T160000
DTEND;TZID=UTC:20260419T180000
DTSTAMP:20260422T181857
CREATED:20250630T195610Z
LAST-MODIFIED:20260111T034134Z
UID:10002138-1776614400-1776621600@www.tapatiosprings.com
SUMMARY:Daily Happy Hour
DESCRIPTION:Location: La Cascada Table & Bar\nTime: Daily\, 4 PM – 6 PM\nDetails: Join us for daily Drink Specials at La Cascada Bar!
URL:https://www.tapatiosprings.com/event/daily-happy-hour/2026-04-19/
LOCATION:La Cascada Table & Bar
CATEGORIES:Eat & Drink
ATTACH;FMTTYPE=image/jpeg:https://www.tapatiosprings.com/wp-content/uploads/2025/06/ts-detail-FB-3-96-2-scaled.jpg
END:VEVENT
BEGIN:VEVENT
DTSTART;TZID=UTC:20260420T090000
DTEND;TZID=UTC:20260420T100000
DTSTAMP:20260422T181857
CREATED:20250719T015709Z
LAST-MODIFIED:20260220T021919Z
UID:10004547-1776675600-1776679200@www.tapatiosprings.com
SUMMARY:Yoga Flow
DESCRIPTION:Location: Oaks Pavilion\nTime: Mondays & Thursdays\, 9 AM – 10 AM\n*Complimentary for Resort Guests & Members
URL:https://www.tapatiosprings.com/event/yoga-flow-2/2026-04-20/
LOCATION:Oaks Pavilion
CATEGORIES:Wellness
ATTACH;FMTTYPE=image/webp:https://www.tapatiosprings.com/wp-content/uploads/2025/07/yoga-flow-website-pic-67a3c565a2ebc.webp
END:VEVENT
BEGIN:VEVENT
DTSTART;TZID=UTC:20260420T100000
DTEND;TZID=UTC:20260420T110000
DTSTAMP:20260422T181857
CREATED:20250704T150050Z
LAST-MODIFIED:20251013T232545Z
UID:10004026-1776679200-1776682800@www.tapatiosprings.com
SUMMARY:Tiffany's Bootcamp
DESCRIPTION:Location: Clubhouse Fitness Center\nTime: Mondays & Wednesdays\, 10 AM – 11 AM\nPrice: $10 (Cash Only) \nFirst time participants\, please text Tiffany directly for confirmation: \nPhone: 2103267094 \n 
URL:https://www.tapatiosprings.com/event/tiffanys-bootcamp/2026-04-20/
LOCATION:Clubhouse Fitness Center
CATEGORIES:Wellness
ATTACH;FMTTYPE=image/webp:https://www.tapatiosprings.com/wp-content/uploads/2025/07/fitness-bootcamp-website-pic-67a3c92c402d5.webp
END:VEVENT
BEGIN:VEVENT
DTSTART;TZID=UTC:20260420T160000
DTEND;TZID=UTC:20260420T180000
DTSTAMP:20260422T181857
CREATED:20250630T195610Z
LAST-MODIFIED:20260111T034134Z
UID:10002139-1776700800-1776708000@www.tapatiosprings.com
SUMMARY:Daily Happy Hour
DESCRIPTION:Location: La Cascada Table & Bar\nTime: Daily\, 4 PM – 6 PM\nDetails: Join us for daily Drink Specials at La Cascada Bar!
URL:https://www.tapatiosprings.com/event/daily-happy-hour/2026-04-20/
LOCATION:La Cascada Table & Bar
CATEGORIES:Eat & Drink
ATTACH;FMTTYPE=image/jpeg:https://www.tapatiosprings.com/wp-content/uploads/2025/06/ts-detail-FB-3-96-2-scaled.jpg
END:VEVENT
BEGIN:VEVENT
DTSTART;TZID=America/Mexico_City:20260421T110000
DTEND;TZID=America/Mexico_City:20260421T153000
DTSTAMP:20260422T181857
CREATED:20260324T210600Z
LAST-MODIFIED:20260324T211201Z
UID:10007742-1776769200-1776785400@www.tapatiosprings.com
SUMMARY:Fiesta at Tapatio- Taco Tuesday
DESCRIPTION:Fiesta at Tapatio- Taco Tuesday | April 21st\nLocation: La Cascada Table & Bar\nTime: 11:00 AM – 3:00 PM\nDetails:  \nBuild Your Own Taco Bar —\ncustomize your tacos with your favorite tortillas\, fillings\, and toppings. Delicious\, fresh\, and fun.\n$24 per person\n(does not include tax or gratuity)\n\n  \n*Reservations preferred
URL:https://www.tapatiosprings.com/event/monday_pasta-2/
CATEGORIES:Children & Family,Eat & Drink,Hotel Events,Music
ATTACH;FMTTYPE=image/jpeg:https://www.tapatiosprings.com/wp-content/uploads/2026/03/bigstock-Chili-con-carne-in-frying-pan-303654466.jpeg
END:VEVENT
BEGIN:VEVENT
DTSTART;TZID=UTC:20260421T160000
DTEND;TZID=UTC:20260421T180000
DTSTAMP:20260422T181857
CREATED:20250630T195610Z
LAST-MODIFIED:20260111T034134Z
UID:10002140-1776787200-1776794400@www.tapatiosprings.com
SUMMARY:Daily Happy Hour
DESCRIPTION:Location: La Cascada Table & Bar\nTime: Daily\, 4 PM – 6 PM\nDetails: Join us for daily Drink Specials at La Cascada Bar!
URL:https://www.tapatiosprings.com/event/daily-happy-hour/2026-04-21/
LOCATION:La Cascada Table & Bar
CATEGORIES:Eat & Drink
ATTACH;FMTTYPE=image/jpeg:https://www.tapatiosprings.com/wp-content/uploads/2025/06/ts-detail-FB-3-96-2-scaled.jpg
END:VEVENT
BEGIN:VEVENT
DTSTART;VALUE=DATE:20260422
DTEND;VALUE=DATE:20260423
DTSTAMP:20260422T181857
CREATED:20260401T025228Z
LAST-MODIFIED:20260401T025228Z
UID:10007747-1776816000-1776902399@www.tapatiosprings.com
SUMMARY:Earth Day
DESCRIPTION:EARTH DAY | April 22nd\nLocation: La Cascada Table & Bar\nAll Day \n\nRaise a glass to the planet with our Bombay Sapphire Greenhouse Bloom Cocktail\, on special for $10. \nFresh\, botanical\, and sustainably inspired—available for Earth Day only.
URL:https://www.tapatiosprings.com/event/earth-day/
ATTACH;FMTTYPE=image/jpeg:https://www.tapatiosprings.com/wp-content/uploads/2026/03/Bombay-Sapphire.jpg
END:VEVENT
BEGIN:VEVENT
DTSTART;TZID=UTC:20260422T100000
DTEND;TZID=UTC:20260422T110000
DTSTAMP:20260422T181857
CREATED:20250704T150050Z
LAST-MODIFIED:20251013T232545Z
UID:10004027-1776852000-1776855600@www.tapatiosprings.com
SUMMARY:Tiffany's Bootcamp
DESCRIPTION:Location: Clubhouse Fitness Center\nTime: Mondays & Wednesdays\, 10 AM – 11 AM\nPrice: $10 (Cash Only) \nFirst time participants\, please text Tiffany directly for confirmation: \nPhone: 2103267094 \n 
URL:https://www.tapatiosprings.com/event/tiffanys-bootcamp/2026-04-22/
LOCATION:Clubhouse Fitness Center
CATEGORIES:Wellness
ATTACH;FMTTYPE=image/webp:https://www.tapatiosprings.com/wp-content/uploads/2025/07/fitness-bootcamp-website-pic-67a3c92c402d5.webp
END:VEVENT
BEGIN:VEVENT
DTSTART;TZID=UTC:20260422T110000
DTEND;TZID=UTC:20260422T210000
DTSTAMP:20260422T181857
CREATED:20250715T201631Z
LAST-MODIFIED:20260414T150920Z
UID:10003726-1776855600-1776891600@www.tapatiosprings.com
SUMMARY:Wine Wednesday
DESCRIPTION:Location: La Cascada Table & Bar\nTime: Wednesdays\, 11 AM – Close\nDetails: Half Off Bottles of Wine (Max. Discount $50)
URL:https://www.tapatiosprings.com/event/wine-wednesday/2026-04-22/
LOCATION:La Cascada Table & Bar
CATEGORIES:Eat & Drink
ATTACH;FMTTYPE=image/webp:https://www.tapatiosprings.com/wp-content/uploads/2025/07/tapatiospringshillcountryresort-boerneevents-eventcalendar-01-65b2b5b57d26a.webp
END:VEVENT
BEGIN:VEVENT
DTSTART;TZID=UTC:20260422T160000
DTEND;TZID=UTC:20260422T180000
DTSTAMP:20260422T181857
CREATED:20250630T195610Z
LAST-MODIFIED:20260111T034134Z
UID:10002141-1776873600-1776880800@www.tapatiosprings.com
SUMMARY:Daily Happy Hour
DESCRIPTION:Location: La Cascada Table & Bar\nTime: Daily\, 4 PM – 6 PM\nDetails: Join us for daily Drink Specials at La Cascada Bar!
URL:https://www.tapatiosprings.com/event/daily-happy-hour/2026-04-22/
LOCATION:La Cascada Table & Bar
CATEGORIES:Eat & Drink
ATTACH;FMTTYPE=image/jpeg:https://www.tapatiosprings.com/wp-content/uploads/2025/06/ts-detail-FB-3-96-2-scaled.jpg
END:VEVENT
BEGIN:VEVENT
DTSTART;TZID=UTC:20260423T090000
DTEND;TZID=UTC:20260423T100000
DTSTAMP:20260422T181857
CREATED:20250719T015709Z
LAST-MODIFIED:20260220T021919Z
UID:10004548-1776934800-1776938400@www.tapatiosprings.com
SUMMARY:Yoga Flow
DESCRIPTION:Location: Oaks Pavilion\nTime: Mondays & Thursdays\, 9 AM – 10 AM\n*Complimentary for Resort Guests & Members
URL:https://www.tapatiosprings.com/event/yoga-flow-2/2026-04-23/
LOCATION:Oaks Pavilion
CATEGORIES:Wellness
ATTACH;FMTTYPE=image/webp:https://www.tapatiosprings.com/wp-content/uploads/2025/07/yoga-flow-website-pic-67a3c565a2ebc.webp
END:VEVENT
END:VCALENDAR