BEGIN:VCALENDAR
VERSION:2.0
PRODID:-//Tapatio Springs - ECPv6.15.20//NONSGML v1.0//EN
CALSCALE:GREGORIAN
METHOD:PUBLISH
X-WR-CALNAME:Tapatio Springs
X-ORIGINAL-URL:https://www.tapatiosprings.com
X-WR-CALDESC:Events for Tapatio Springs
REFRESH-INTERVAL;VALUE=DURATION:PT1H
X-Robots-Tag:noindex
X-PUBLISHED-TTL:PT1H
BEGIN:VTIMEZONE
TZID:UTC
BEGIN:STANDARD
TZOFFSETFROM:+0000
TZOFFSETTO:+0000
TZNAME:UTC
DTSTART:20250101T000000
END:STANDARD
END:VTIMEZONE
BEGIN:VTIMEZONE
TZID:America/Mexico_City
BEGIN:STANDARD
TZOFFSETFROM:-0600
TZOFFSETTO:-0600
TZNAME:CST
DTSTART:20250101T000000
END:STANDARD
END:VTIMEZONE
BEGIN:VEVENT
DTSTART;TZID=UTC:20260401T100000
DTEND;TZID=UTC:20260401T110000
DTSTAMP:20260423T041915
CREATED:20250704T150050Z
LAST-MODIFIED:20251013T232545Z
UID:10004021-1775037600-1775041200@www.tapatiosprings.com
SUMMARY:Tiffany's Bootcamp
DESCRIPTION:Location: Clubhouse Fitness Center\nTime: Mondays & Wednesdays\, 10 AM – 11 AM\nPrice: $10 (Cash Only) \nFirst time participants\, please text Tiffany directly for confirmation: \nPhone: 2103267094 \n 
URL:https://www.tapatiosprings.com/event/tiffanys-bootcamp/2026-04-01/
LOCATION:Clubhouse Fitness Center
CATEGORIES:Wellness
ATTACH;FMTTYPE=image/webp:https://www.tapatiosprings.com/wp-content/uploads/2025/07/fitness-bootcamp-website-pic-67a3c92c402d5.webp
END:VEVENT
BEGIN:VEVENT
DTSTART;TZID=UTC:20260401T110000
DTEND;TZID=UTC:20260401T210000
DTSTAMP:20260423T041915
CREATED:20250715T201631Z
LAST-MODIFIED:20260414T150920Z
UID:10003723-1775041200-1775077200@www.tapatiosprings.com
SUMMARY:Wine Wednesday
DESCRIPTION:Location: La Cascada Table & Bar\nTime: Wednesdays\, 11 AM – Close\nDetails: Half Off Bottles of Wine (Max. Discount $50)
URL:https://www.tapatiosprings.com/event/wine-wednesday/2026-04-01/
LOCATION:La Cascada Table & Bar
CATEGORIES:Eat & Drink
ATTACH;FMTTYPE=image/webp:https://www.tapatiosprings.com/wp-content/uploads/2025/07/tapatiospringshillcountryresort-boerneevents-eventcalendar-01-65b2b5b57d26a.webp
END:VEVENT
BEGIN:VEVENT
DTSTART;TZID=UTC:20260401T160000
DTEND;TZID=UTC:20260401T180000
DTSTAMP:20260423T041915
CREATED:20250630T195610Z
LAST-MODIFIED:20260111T034134Z
UID:10002120-1775059200-1775066400@www.tapatiosprings.com
SUMMARY:Daily Happy Hour
DESCRIPTION:Location: La Cascada Table & Bar\nTime: Daily\, 4 PM – 6 PM\nDetails: Join us for daily Drink Specials at La Cascada Bar!
URL:https://www.tapatiosprings.com/event/daily-happy-hour/2026-04-01/
LOCATION:La Cascada Table & Bar
CATEGORIES:Eat & Drink
ATTACH;FMTTYPE=image/jpeg:https://www.tapatiosprings.com/wp-content/uploads/2025/06/ts-detail-FB-3-96-2-scaled.jpg
END:VEVENT
BEGIN:VEVENT
DTSTART;TZID=UTC:20260402T090000
DTEND;TZID=UTC:20260402T100000
DTSTAMP:20260423T041915
CREATED:20250719T015709Z
LAST-MODIFIED:20260220T021919Z
UID:10004542-1775120400-1775124000@www.tapatiosprings.com
SUMMARY:Yoga Flow
DESCRIPTION:Location: Oaks Pavilion\nTime: Mondays & Thursdays\, 9 AM – 10 AM\n*Complimentary for Resort Guests & Members
URL:https://www.tapatiosprings.com/event/yoga-flow-2/2026-04-02/
LOCATION:Oaks Pavilion
CATEGORIES:Wellness
ATTACH;FMTTYPE=image/webp:https://www.tapatiosprings.com/wp-content/uploads/2025/07/yoga-flow-website-pic-67a3c565a2ebc.webp
END:VEVENT
BEGIN:VEVENT
DTSTART;TZID=UTC:20260402T160000
DTEND;TZID=UTC:20260402T180000
DTSTAMP:20260423T041915
CREATED:20250630T195610Z
LAST-MODIFIED:20260111T034134Z
UID:10002121-1775145600-1775152800@www.tapatiosprings.com
SUMMARY:Daily Happy Hour
DESCRIPTION:Location: La Cascada Table & Bar\nTime: Daily\, 4 PM – 6 PM\nDetails: Join us for daily Drink Specials at La Cascada Bar!
URL:https://www.tapatiosprings.com/event/daily-happy-hour/2026-04-02/
LOCATION:La Cascada Table & Bar
CATEGORIES:Eat & Drink
ATTACH;FMTTYPE=image/jpeg:https://www.tapatiosprings.com/wp-content/uploads/2025/06/ts-detail-FB-3-96-2-scaled.jpg
END:VEVENT
BEGIN:VEVENT
DTSTART;TZID=UTC:20260402T183000
DTEND;TZID=UTC:20260402T223000
DTSTAMP:20260423T041915
CREATED:20250715T211212Z
LAST-MODIFIED:20260121T022326Z
UID:10006299-1775154600-1775169000@www.tapatiosprings.com
SUMMARY:Trivia Night
DESCRIPTION:Location: La Cascada Table & Bar – Patio\nTime: First Thursday every Month\, 6:30 PM – 8:30 PM\nDetails: Win Gift Card prizes up to $50!
URL:https://www.tapatiosprings.com/event/trivia-night/2026-04-02/
LOCATION:La Cascada Table & Bar – Patio
CATEGORIES:Children & Family,Hotel Events
ATTACH;FMTTYPE=image/png:https://www.tapatiosprings.com/wp-content/uploads/2025/07/Trivia-Stock-Photo.png
END:VEVENT
BEGIN:VEVENT
DTSTART;TZID=UTC:20260403T103000
DTEND;TZID=UTC:20260403T113000
DTSTAMP:20260423T041915
CREATED:20250715T204730Z
LAST-MODIFIED:20260220T021950Z
UID:10005547-1775212200-1775215800@www.tapatiosprings.com
SUMMARY:Mat Pilates with Props
DESCRIPTION:Location: Evergreen Room\nTime: Every Friday\, 10:30 – 11:30 AM\n*Complimentary for Resort Guests & Members
URL:https://www.tapatiosprings.com/event/mat-pilates-with-props/2026-04-03/
LOCATION:Evergreen Room
CATEGORIES:Wellness
ATTACH;FMTTYPE=image/webp:https://www.tapatiosprings.com/wp-content/uploads/2025/07/mat-pilates-website-pic-67a3c53b6f3f2.webp
END:VEVENT
BEGIN:VEVENT
DTSTART;TZID=UTC:20260403T160000
DTEND;TZID=UTC:20260403T180000
DTSTAMP:20260423T041915
CREATED:20250630T195610Z
LAST-MODIFIED:20260111T034134Z
UID:10002122-1775232000-1775239200@www.tapatiosprings.com
SUMMARY:Daily Happy Hour
DESCRIPTION:Location: La Cascada Table & Bar\nTime: Daily\, 4 PM – 6 PM\nDetails: Join us for daily Drink Specials at La Cascada Bar!
URL:https://www.tapatiosprings.com/event/daily-happy-hour/2026-04-03/
LOCATION:La Cascada Table & Bar
CATEGORIES:Eat & Drink
ATTACH;FMTTYPE=image/jpeg:https://www.tapatiosprings.com/wp-content/uploads/2025/06/ts-detail-FB-3-96-2-scaled.jpg
END:VEVENT
BEGIN:VEVENT
DTSTART;TZID=UTC:20260403T190000
DTEND;TZID=UTC:20260403T220000
DTSTAMP:20260423T041915
CREATED:20251223T054516Z
LAST-MODIFIED:20260401T025504Z
UID:10007521-1775242800-1775253600@www.tapatiosprings.com
SUMMARY:Singer/Songwriter Series - Johnny Murphy
DESCRIPTION:Location: La Cascada Table & Bar – Patio\nTime: 7 PM – 10 PM\n*Reservations Required
URL:https://www.tapatiosprings.com/event/singer-songwriter-series-johnny-murphy-3-2-2/
LOCATION:La Cascada Table & Bar – Patio
CATEGORIES:Music
ATTACH;FMTTYPE=image/jpeg:https://www.tapatiosprings.com/wp-content/uploads/2025/07/0299-scaled.jpg
END:VEVENT
BEGIN:VEVENT
DTSTART;TZID=UTC:20260404T080000
DTEND;TZID=UTC:20260404T110000
DTSTAMP:20260423T041915
CREATED:20260309T212637Z
LAST-MODIFIED:20260309T212637Z
UID:10007735-1775289600-1775300400@www.tapatiosprings.com
SUMMARY:Bunny Breakfast
DESCRIPTION:Celebrate Easter weekend with a family-friendly Bunny Breakfast at La Cascada Table & Bar inside Tapatio Springs Hill Country Resort. \nJoin us on Saturday\, April 4 from 8:00 AM – 11:00 AM for a festive breakfast buffet perfect for guests of all ages. Enjoy a delicious spread of morning favorites in the beautiful Texas Hill Country setting while celebrating the season with family and friends. \nEvent Details:\nDate: Saturday\, April 4\nTime: 8:00 AM – 11:00 AM\nLocation: La Cascada Table & Bar at Tapatio Springs Resort\nPricing: Adults $21 | Kids $12 \nReservations are recommended and can be made through OpenTable or by calling 830-537-6245. \nBring the whole family and start your morning with a fun and festive Easter celebration!
URL:https://www.tapatiosprings.com/event/bunny-breakfast/
ATTACH;FMTTYPE=image/png:https://www.tapatiosprings.com/wp-content/uploads/2026/03/BUNNY-BREAKFAST.png
END:VEVENT
BEGIN:VEVENT
DTSTART;TZID=UTC:20260404T160000
DTEND;TZID=UTC:20260404T180000
DTSTAMP:20260423T041915
CREATED:20250630T195610Z
LAST-MODIFIED:20260111T034134Z
UID:10002123-1775318400-1775325600@www.tapatiosprings.com
SUMMARY:Daily Happy Hour
DESCRIPTION:Location: La Cascada Table & Bar\nTime: Daily\, 4 PM – 6 PM\nDetails: Join us for daily Drink Specials at La Cascada Bar!
URL:https://www.tapatiosprings.com/event/daily-happy-hour/2026-04-04/
LOCATION:La Cascada Table & Bar
CATEGORIES:Eat & Drink
ATTACH;FMTTYPE=image/jpeg:https://www.tapatiosprings.com/wp-content/uploads/2025/06/ts-detail-FB-3-96-2-scaled.jpg
END:VEVENT
BEGIN:VEVENT
DTSTART;TZID=America/Mexico_City:20260404T190000
DTEND;TZID=America/Mexico_City:20260404T220000
DTSTAMP:20260423T041915
CREATED:20260401T030924Z
LAST-MODIFIED:20260401T031312Z
UID:10007750-1775329200-1775340000@www.tapatiosprings.com
SUMMARY:Singer/Songwriter Series - Jordan Matthew Young
DESCRIPTION:Location: La Cascada Table & Bar – Patio\nTime: 7:00 PM – 10:00 PM\n*Reservations Required
URL:https://www.tapatiosprings.com/event/singer-songwriter-series-jaime-varela-3-2-2/
CATEGORIES:Music
ATTACH;FMTTYPE=image/jpeg:https://www.tapatiosprings.com/wp-content/uploads/2026/03/ab67616100005174cf631660bc0b9d3278f6d72e.jpg
END:VEVENT
BEGIN:VEVENT
DTSTART;TZID=UTC:20260405T100000
DTEND;TZID=UTC:20260405T150000
DTSTAMP:20260423T041915
CREATED:20260309T062651Z
LAST-MODIFIED:20260325T132902Z
UID:10007733-1775383200-1775401200@www.tapatiosprings.com
SUMMARY:Easter Experience & Brunch
DESCRIPTION:Celebrate Easter Sunday in the heart of Hill Country with a spectacular brunch and family festivities! The day is packed with family fun\, including an egg hunt\, petting zoo and a special visit from the Easter Bunny. \nDate: Sunday\, April 5\, 2025\nTime: 10:00 AM – 3:00 PM\nLocation: La Cascada Table & Bar at Tapatio Springs\, Boerne\, TX\nPrice: $78 Adults | $30 Children \nEgg Hunts: 10:30 AM\, 12:30 PM\, 2:30 PM \nPetting Zoo: 11:00 AM – 1:00 PM \nReservations: Recommended; call (830) 537-6245 or book online. \nReserve Now
URL:https://www.tapatiosprings.com/event/easter-experience-brunch/
LOCATION:La Cascada Table & Bar
CATEGORIES:Eat & Drink,Special Events
ATTACH;FMTTYPE=image/png:https://www.tapatiosprings.com/wp-content/uploads/2026/03/original-1772DDDD-8943-4B4B-A9A7-7456F885880A.png
END:VEVENT
BEGIN:VEVENT
DTSTART;TZID=America/Mexico_City:20260405T100000
DTEND;TZID=America/Mexico_City:20260405T150000
DTSTAMP:20260423T041915
CREATED:20260401T025938Z
LAST-MODIFIED:20260401T031508Z
UID:10007749-1775383200-1775401200@www.tapatiosprings.com
SUMMARY:Singer/Songwriter Series - Jaime Varela
DESCRIPTION:Location: La Cascada Table & Bar – Patio\nTime:10:00 AM – 3:00 PM\n*Reservations Required
URL:https://www.tapatiosprings.com/event/singer-songwriter-series-jaime-varela-3-2/
CATEGORIES:Music
ATTACH;FMTTYPE=image/webp:https://www.tapatiosprings.com/wp-content/uploads/2025/07/jaime-varela-portrait-compressed2-662ffb4b8e6bb.webp
END:VEVENT
BEGIN:VEVENT
DTSTART;TZID=UTC:20260405T160000
DTEND;TZID=UTC:20260405T180000
DTSTAMP:20260423T041915
CREATED:20250630T195610Z
LAST-MODIFIED:20260111T034134Z
UID:10002124-1775404800-1775412000@www.tapatiosprings.com
SUMMARY:Daily Happy Hour
DESCRIPTION:Location: La Cascada Table & Bar\nTime: Daily\, 4 PM – 6 PM\nDetails: Join us for daily Drink Specials at La Cascada Bar!
URL:https://www.tapatiosprings.com/event/daily-happy-hour/2026-04-05/
LOCATION:La Cascada Table & Bar
CATEGORIES:Eat & Drink
ATTACH;FMTTYPE=image/jpeg:https://www.tapatiosprings.com/wp-content/uploads/2025/06/ts-detail-FB-3-96-2-scaled.jpg
END:VEVENT
BEGIN:VEVENT
DTSTART;TZID=UTC:20260406T090000
DTEND;TZID=UTC:20260406T100000
DTSTAMP:20260423T041915
CREATED:20250719T015709Z
LAST-MODIFIED:20260220T021919Z
UID:10004543-1775466000-1775469600@www.tapatiosprings.com
SUMMARY:Yoga Flow
DESCRIPTION:Location: Oaks Pavilion\nTime: Mondays & Thursdays\, 9 AM – 10 AM\n*Complimentary for Resort Guests & Members
URL:https://www.tapatiosprings.com/event/yoga-flow-2/2026-04-06/
LOCATION:Oaks Pavilion
CATEGORIES:Wellness
ATTACH;FMTTYPE=image/webp:https://www.tapatiosprings.com/wp-content/uploads/2025/07/yoga-flow-website-pic-67a3c565a2ebc.webp
END:VEVENT
BEGIN:VEVENT
DTSTART;TZID=UTC:20260406T100000
DTEND;TZID=UTC:20260406T110000
DTSTAMP:20260423T041915
CREATED:20250704T150050Z
LAST-MODIFIED:20251013T232545Z
UID:10004022-1775469600-1775473200@www.tapatiosprings.com
SUMMARY:Tiffany's Bootcamp
DESCRIPTION:Location: Clubhouse Fitness Center\nTime: Mondays & Wednesdays\, 10 AM – 11 AM\nPrice: $10 (Cash Only) \nFirst time participants\, please text Tiffany directly for confirmation: \nPhone: 2103267094 \n 
URL:https://www.tapatiosprings.com/event/tiffanys-bootcamp/2026-04-06/
LOCATION:Clubhouse Fitness Center
CATEGORIES:Wellness
ATTACH;FMTTYPE=image/webp:https://www.tapatiosprings.com/wp-content/uploads/2025/07/fitness-bootcamp-website-pic-67a3c92c402d5.webp
END:VEVENT
BEGIN:VEVENT
DTSTART;TZID=UTC:20260406T160000
DTEND;TZID=UTC:20260406T180000
DTSTAMP:20260423T041915
CREATED:20250630T195610Z
LAST-MODIFIED:20260111T034134Z
UID:10002125-1775491200-1775498400@www.tapatiosprings.com
SUMMARY:Daily Happy Hour
DESCRIPTION:Location: La Cascada Table & Bar\nTime: Daily\, 4 PM – 6 PM\nDetails: Join us for daily Drink Specials at La Cascada Bar!
URL:https://www.tapatiosprings.com/event/daily-happy-hour/2026-04-06/
LOCATION:La Cascada Table & Bar
CATEGORIES:Eat & Drink
ATTACH;FMTTYPE=image/jpeg:https://www.tapatiosprings.com/wp-content/uploads/2025/06/ts-detail-FB-3-96-2-scaled.jpg
END:VEVENT
BEGIN:VEVENT
DTSTART;TZID=UTC:20260407T160000
DTEND;TZID=UTC:20260407T180000
DTSTAMP:20260423T041915
CREATED:20250630T195610Z
LAST-MODIFIED:20260111T034134Z
UID:10002126-1775577600-1775584800@www.tapatiosprings.com
SUMMARY:Daily Happy Hour
DESCRIPTION:Location: La Cascada Table & Bar\nTime: Daily\, 4 PM – 6 PM\nDetails: Join us for daily Drink Specials at La Cascada Bar!
URL:https://www.tapatiosprings.com/event/daily-happy-hour/2026-04-07/
LOCATION:La Cascada Table & Bar
CATEGORIES:Eat & Drink
ATTACH;FMTTYPE=image/jpeg:https://www.tapatiosprings.com/wp-content/uploads/2025/06/ts-detail-FB-3-96-2-scaled.jpg
END:VEVENT
BEGIN:VEVENT
DTSTART;TZID=America/Mexico_City:20260407T170000
DTEND;TZID=America/Mexico_City:20260412T210000
DTSTAMP:20260423T041915
CREATED:20260401T022509Z
LAST-MODIFIED:20260401T135157Z
UID:10007745-1775581200-1776027600@www.tapatiosprings.com
SUMMARY:Taste of the Masters
DESCRIPTION:Taste of the Masters: Dinner Special | April 7th – 12th\nLocation: La Cascada Table & Bar\nTime: 5:00 PM – 9:00 PM\nDetails: \nJoin us for a dining experience inspired by the 2026 Masters Dinner: Rory McIlroy Menu. \n\n\nMenu Highlights:\nAppetizer: Rock Shrimp ($16)\nEntree: Wagyu Steak ($85)\nDessert: Sticky Toffee Pudding ($10) \nEach item is sold separately\, so mix and match your favorites! \nCome savor championship‑level flavors and celebrate in true Masters style. \n\n(tax and gratuity not included) \n\nRESERVATION PREFFERED
URL:https://www.tapatiosprings.com/event/monday_pasta-2-2-2/
CATEGORIES:Children & Family,Eat & Drink,Hotel Events,Music
ATTACH;FMTTYPE=image/png:https://www.tapatiosprings.com/wp-content/uploads/2026/03/Designer-61.png
END:VEVENT
BEGIN:VEVENT
DTSTART;TZID=UTC:20260408T100000
DTEND;TZID=UTC:20260408T110000
DTSTAMP:20260423T041915
CREATED:20250704T150050Z
LAST-MODIFIED:20251013T232545Z
UID:10004023-1775642400-1775646000@www.tapatiosprings.com
SUMMARY:Tiffany's Bootcamp
DESCRIPTION:Location: Clubhouse Fitness Center\nTime: Mondays & Wednesdays\, 10 AM – 11 AM\nPrice: $10 (Cash Only) \nFirst time participants\, please text Tiffany directly for confirmation: \nPhone: 2103267094 \n 
URL:https://www.tapatiosprings.com/event/tiffanys-bootcamp/2026-04-08/
LOCATION:Clubhouse Fitness Center
CATEGORIES:Wellness
ATTACH;FMTTYPE=image/webp:https://www.tapatiosprings.com/wp-content/uploads/2025/07/fitness-bootcamp-website-pic-67a3c92c402d5.webp
END:VEVENT
BEGIN:VEVENT
DTSTART;TZID=UTC:20260408T110000
DTEND;TZID=UTC:20260408T210000
DTSTAMP:20260423T041915
CREATED:20250715T201631Z
LAST-MODIFIED:20260414T150920Z
UID:10003724-1775646000-1775682000@www.tapatiosprings.com
SUMMARY:Wine Wednesday
DESCRIPTION:Location: La Cascada Table & Bar\nTime: Wednesdays\, 11 AM – Close\nDetails: Half Off Bottles of Wine (Max. Discount $50)
URL:https://www.tapatiosprings.com/event/wine-wednesday/2026-04-08/
LOCATION:La Cascada Table & Bar
CATEGORIES:Eat & Drink
ATTACH;FMTTYPE=image/webp:https://www.tapatiosprings.com/wp-content/uploads/2025/07/tapatiospringshillcountryresort-boerneevents-eventcalendar-01-65b2b5b57d26a.webp
END:VEVENT
BEGIN:VEVENT
DTSTART;TZID=America/Mexico_City:20260408T110000
DTEND;TZID=America/Mexico_City:20260412T170000
DTSTAMP:20260423T041915
CREATED:20260401T021703Z
LAST-MODIFIED:20260401T021703Z
UID:10007744-1775646000-1776013200@www.tapatiosprings.com
SUMMARY:Green Jacket Special
DESCRIPTION:Taste of the Masters | April 8 – 12th\nLocation: La Cascada Table & Bar\nTime: 11:00 AM – 5:00 PM\nDetails: \n\n\nBring tradition to your plate with the Green Jacket Special—classic pimento cheese and egg salad sandwiches\n\n$6 ea.\n(does not include tax or gratuity)\n\n  \n*Reservations preferred
URL:https://www.tapatiosprings.com/event/monday_pasta-2-3/
CATEGORIES:Children & Family,Eat & Drink,Hotel Events,Music
ATTACH;FMTTYPE=image/jpeg:https://www.tapatiosprings.com/wp-content/uploads/2026/03/Masters-Pimento-Cheese-Recipe-1.jpg
END:VEVENT
BEGIN:VEVENT
DTSTART;TZID=UTC:20260408T160000
DTEND;TZID=UTC:20260408T180000
DTSTAMP:20260423T041915
CREATED:20250630T195610Z
LAST-MODIFIED:20260111T034134Z
UID:10002127-1775664000-1775671200@www.tapatiosprings.com
SUMMARY:Daily Happy Hour
DESCRIPTION:Location: La Cascada Table & Bar\nTime: Daily\, 4 PM – 6 PM\nDetails: Join us for daily Drink Specials at La Cascada Bar!
URL:https://www.tapatiosprings.com/event/daily-happy-hour/2026-04-08/
LOCATION:La Cascada Table & Bar
CATEGORIES:Eat & Drink
ATTACH;FMTTYPE=image/jpeg:https://www.tapatiosprings.com/wp-content/uploads/2025/06/ts-detail-FB-3-96-2-scaled.jpg
END:VEVENT
BEGIN:VEVENT
DTSTART;VALUE=DATE:20260409
DTEND;VALUE=DATE:20260410
DTSTAMP:20260423T041915
CREATED:20260401T024641Z
LAST-MODIFIED:20260401T024641Z
UID:10007746-1775692800-1775779199@www.tapatiosprings.com
SUMMARY:National Gin & Tonic Day
DESCRIPTION:National Gin & Tonic Day – April 9th\nLocation: La Cascada Table & Bar \nJoin us at La Cascada for National Gin & Tonic Day and enjoy $10 Hendrick’s Gin & Tonics ALL DAY.\nA timeless cocktail\, perfectly crafted.
URL:https://www.tapatiosprings.com/event/national-gin-tonic-day/
ATTACH;FMTTYPE=image/jpeg:https://www.tapatiosprings.com/wp-content/uploads/2026/03/Hendrick_s-Neptunia-Neptunia-and-Tonic_Global_IMG_5078x3514_Landscape__FillWzE0ODAsMTAwMF0.jpg
END:VEVENT
BEGIN:VEVENT
DTSTART;TZID=UTC:20260409T090000
DTEND;TZID=UTC:20260409T100000
DTSTAMP:20260423T041915
CREATED:20250719T015709Z
LAST-MODIFIED:20260220T021919Z
UID:10004544-1775725200-1775728800@www.tapatiosprings.com
SUMMARY:Yoga Flow
DESCRIPTION:Location: Oaks Pavilion\nTime: Mondays & Thursdays\, 9 AM – 10 AM\n*Complimentary for Resort Guests & Members
URL:https://www.tapatiosprings.com/event/yoga-flow-2/2026-04-09/
LOCATION:Oaks Pavilion
CATEGORIES:Wellness
ATTACH;FMTTYPE=image/webp:https://www.tapatiosprings.com/wp-content/uploads/2025/07/yoga-flow-website-pic-67a3c565a2ebc.webp
END:VEVENT
BEGIN:VEVENT
DTSTART;TZID=UTC:20260409T160000
DTEND;TZID=UTC:20260409T180000
DTSTAMP:20260423T041915
CREATED:20250630T195610Z
LAST-MODIFIED:20260111T034134Z
UID:10002128-1775750400-1775757600@www.tapatiosprings.com
SUMMARY:Daily Happy Hour
DESCRIPTION:Location: La Cascada Table & Bar\nTime: Daily\, 4 PM – 6 PM\nDetails: Join us for daily Drink Specials at La Cascada Bar!
URL:https://www.tapatiosprings.com/event/daily-happy-hour/2026-04-09/
LOCATION:La Cascada Table & Bar
CATEGORIES:Eat & Drink
ATTACH;FMTTYPE=image/jpeg:https://www.tapatiosprings.com/wp-content/uploads/2025/06/ts-detail-FB-3-96-2-scaled.jpg
END:VEVENT
BEGIN:VEVENT
DTSTART;TZID=UTC:20260410T103000
DTEND;TZID=UTC:20260410T113000
DTSTAMP:20260423T041915
CREATED:20250715T204730Z
LAST-MODIFIED:20260220T021950Z
UID:10005548-1775817000-1775820600@www.tapatiosprings.com
SUMMARY:Mat Pilates with Props
DESCRIPTION:Location: Evergreen Room\nTime: Every Friday\, 10:30 – 11:30 AM\n*Complimentary for Resort Guests & Members
URL:https://www.tapatiosprings.com/event/mat-pilates-with-props/2026-04-10/
LOCATION:Evergreen Room
CATEGORIES:Wellness
ATTACH;FMTTYPE=image/webp:https://www.tapatiosprings.com/wp-content/uploads/2025/07/mat-pilates-website-pic-67a3c53b6f3f2.webp
END:VEVENT
BEGIN:VEVENT
DTSTART;TZID=UTC:20260410T160000
DTEND;TZID=UTC:20260410T180000
DTSTAMP:20260423T041915
CREATED:20250630T195610Z
LAST-MODIFIED:20260111T034134Z
UID:10002129-1775836800-1775844000@www.tapatiosprings.com
SUMMARY:Daily Happy Hour
DESCRIPTION:Location: La Cascada Table & Bar\nTime: Daily\, 4 PM – 6 PM\nDetails: Join us for daily Drink Specials at La Cascada Bar!
URL:https://www.tapatiosprings.com/event/daily-happy-hour/2026-04-10/
LOCATION:La Cascada Table & Bar
CATEGORIES:Eat & Drink
ATTACH;FMTTYPE=image/jpeg:https://www.tapatiosprings.com/wp-content/uploads/2025/06/ts-detail-FB-3-96-2-scaled.jpg
END:VEVENT
BEGIN:VEVENT
DTSTART;TZID=America/Mexico_City:20260410T190000
DTEND;TZID=America/Mexico_City:20260410T220000
DTSTAMP:20260423T041915
CREATED:20260401T031604Z
LAST-MODIFIED:20260401T031604Z
UID:10007751-1775847600-1775858400@www.tapatiosprings.com
SUMMARY:Singer/Songwriter - Juanski
DESCRIPTION:Location: La Cascada Table & Bar – Patio\nTime: 7:00 PM – 10:00 PM\n*Reservations Required
URL:https://www.tapatiosprings.com/event/singer-songwriter-juanski/
CATEGORIES:Music
ATTACH;FMTTYPE=image/jpeg:https://www.tapatiosprings.com/wp-content/uploads/2025/12/tapatiosprings-concertseries-quad-64835d1a99571.jpg
END:VEVENT
END:VCALENDAR