BEGIN:VCALENDAR
VERSION:2.0
PRODID:-//Tapatio Springs - ECPv6.15.20//NONSGML v1.0//EN
CALSCALE:GREGORIAN
METHOD:PUBLISH
X-WR-CALNAME:Tapatio Springs
X-ORIGINAL-URL:https://www.tapatiosprings.com
X-WR-CALDESC:Events for Tapatio Springs
REFRESH-INTERVAL;VALUE=DURATION:PT1H
X-Robots-Tag:noindex
X-PUBLISHED-TTL:PT1H
BEGIN:VTIMEZONE
TZID:UTC
BEGIN:STANDARD
TZOFFSETFROM:+0000
TZOFFSETTO:+0000
TZNAME:UTC
DTSTART:20250101T000000
END:STANDARD
END:VTIMEZONE
BEGIN:VEVENT
DTSTART;TZID=UTC:20260202T160000
DTEND;TZID=UTC:20260202T180000
DTSTAMP:20260424T074118
CREATED:20250630T195610Z
LAST-MODIFIED:20260111T034134Z
UID:10002062-1770048000-1770055200@www.tapatiosprings.com
SUMMARY:Daily Happy Hour
DESCRIPTION:Location: La Cascada Table & Bar\nTime: Daily\, 4 PM – 6 PM\nDetails: Join us for daily Drink Specials at La Cascada Bar!
URL:https://www.tapatiosprings.com/event/daily-happy-hour/2026-02-02/
LOCATION:La Cascada Table & Bar
CATEGORIES:Eat & Drink
ATTACH;FMTTYPE=image/jpeg:https://www.tapatiosprings.com/wp-content/uploads/2025/06/ts-detail-FB-3-96-2-scaled.jpg
END:VEVENT
BEGIN:VEVENT
DTSTART;TZID=UTC:20260202T100000
DTEND;TZID=UTC:20260202T110000
DTSTAMP:20260424T074118
CREATED:20250704T150050Z
LAST-MODIFIED:20251013T232545Z
UID:10004004-1770026400-1770030000@www.tapatiosprings.com
SUMMARY:Tiffany's Bootcamp
DESCRIPTION:Location: Clubhouse Fitness Center\nTime: Mondays & Wednesdays\, 10 AM – 11 AM\nPrice: $10 (Cash Only) \nFirst time participants\, please text Tiffany directly for confirmation: \nPhone: 2103267094 \n 
URL:https://www.tapatiosprings.com/event/tiffanys-bootcamp/2026-02-02/
LOCATION:Clubhouse Fitness Center
CATEGORIES:Wellness
ATTACH;FMTTYPE=image/webp:https://www.tapatiosprings.com/wp-content/uploads/2025/07/fitness-bootcamp-website-pic-67a3c92c402d5.webp
END:VEVENT
BEGIN:VEVENT
DTSTART;TZID=UTC:20260202T090000
DTEND;TZID=UTC:20260202T100000
DTSTAMP:20260424T074118
CREATED:20250719T015709Z
LAST-MODIFIED:20260220T021919Z
UID:10004525-1770022800-1770026400@www.tapatiosprings.com
SUMMARY:Yoga Flow
DESCRIPTION:Location: Oaks Pavilion\nTime: Mondays & Thursdays\, 9 AM – 10 AM\n*Complimentary for Resort Guests & Members
URL:https://www.tapatiosprings.com/event/yoga-flow-2/2026-02-02/
LOCATION:Oaks Pavilion
CATEGORIES:Wellness
ATTACH;FMTTYPE=image/webp:https://www.tapatiosprings.com/wp-content/uploads/2025/07/yoga-flow-website-pic-67a3c565a2ebc.webp
END:VEVENT
BEGIN:VEVENT
DTSTART;TZID=UTC:20260201T160000
DTEND;TZID=UTC:20260201T180000
DTSTAMP:20260424T074118
CREATED:20250630T195610Z
LAST-MODIFIED:20260111T034134Z
UID:10002061-1769961600-1769968800@www.tapatiosprings.com
SUMMARY:Daily Happy Hour
DESCRIPTION:Location: La Cascada Table & Bar\nTime: Daily\, 4 PM – 6 PM\nDetails: Join us for daily Drink Specials at La Cascada Bar!
URL:https://www.tapatiosprings.com/event/daily-happy-hour/2026-02-01/
LOCATION:La Cascada Table & Bar
CATEGORIES:Eat & Drink
ATTACH;FMTTYPE=image/jpeg:https://www.tapatiosprings.com/wp-content/uploads/2025/06/ts-detail-FB-3-96-2-scaled.jpg
END:VEVENT
BEGIN:VEVENT
DTSTART;TZID=UTC:20260131T160000
DTEND;TZID=UTC:20260131T180000
DTSTAMP:20260424T074118
CREATED:20250630T195610Z
LAST-MODIFIED:20260111T034134Z
UID:10002060-1769875200-1769882400@www.tapatiosprings.com
SUMMARY:Daily Happy Hour
DESCRIPTION:Location: La Cascada Table & Bar\nTime: Daily\, 4 PM – 6 PM\nDetails: Join us for daily Drink Specials at La Cascada Bar!
URL:https://www.tapatiosprings.com/event/daily-happy-hour/2026-01-31/
LOCATION:La Cascada Table & Bar
CATEGORIES:Eat & Drink
ATTACH;FMTTYPE=image/jpeg:https://www.tapatiosprings.com/wp-content/uploads/2025/06/ts-detail-FB-3-96-2-scaled.jpg
END:VEVENT
BEGIN:VEVENT
DTSTART;TZID=UTC:20260130T160000
DTEND;TZID=UTC:20260130T180000
DTSTAMP:20260424T074118
CREATED:20250630T195610Z
LAST-MODIFIED:20260111T034134Z
UID:10002059-1769788800-1769796000@www.tapatiosprings.com
SUMMARY:Daily Happy Hour
DESCRIPTION:Location: La Cascada Table & Bar\nTime: Daily\, 4 PM – 6 PM\nDetails: Join us for daily Drink Specials at La Cascada Bar!
URL:https://www.tapatiosprings.com/event/daily-happy-hour/2026-01-30/
LOCATION:La Cascada Table & Bar
CATEGORIES:Eat & Drink
ATTACH;FMTTYPE=image/jpeg:https://www.tapatiosprings.com/wp-content/uploads/2025/06/ts-detail-FB-3-96-2-scaled.jpg
END:VEVENT
BEGIN:VEVENT
DTSTART;TZID=UTC:20260130T103000
DTEND;TZID=UTC:20260130T113000
DTSTAMP:20260424T074118
CREATED:20250715T204730Z
LAST-MODIFIED:20260220T021950Z
UID:10005538-1769769000-1769772600@www.tapatiosprings.com
SUMMARY:Mat Pilates with Props
DESCRIPTION:Location: Evergreen Room\nTime: Every Friday\, 10:30 – 11:30 AM\n*Complimentary for Resort Guests & Members
URL:https://www.tapatiosprings.com/event/mat-pilates-with-props/2026-01-30/
LOCATION:Evergreen Room
CATEGORIES:Wellness
ATTACH;FMTTYPE=image/webp:https://www.tapatiosprings.com/wp-content/uploads/2025/07/mat-pilates-website-pic-67a3c53b6f3f2.webp
END:VEVENT
BEGIN:VEVENT
DTSTART;TZID=UTC:20260129T170000
DTEND;TZID=UTC:20260129T200000
DTSTAMP:20260424T074118
CREATED:20260121T021737Z
LAST-MODIFIED:20260121T021737Z
UID:10007726-1769706000-1769716800@www.tapatiosprings.com
SUMMARY:Karaoke Night
DESCRIPTION:Release your inner superstar for a Karaoke Night at Tapatio Springs Hill Country Resort! Grab your crew and make the heated La Cascada Patio your stage. \nEnjoy dinner bites with the entertainment\, or come early for daily Happy Hour from 4-6pm. \nFree to attend; reservations highly recommended.
URL:https://www.tapatiosprings.com/event/karaoke-night-2/
LOCATION:La Cascada Table & Bar – Patio
CATEGORIES:Children & Family,Eat & Drink,Hotel Events,Music
ATTACH;FMTTYPE=image/jpeg:https://www.tapatiosprings.com/wp-content/uploads/2025/07/tapatio-singo-653a7d686fb31.jpg
END:VEVENT
BEGIN:VEVENT
DTSTART;TZID=UTC:20260129T160000
DTEND;TZID=UTC:20260129T180000
DTSTAMP:20260424T074118
CREATED:20250630T195610Z
LAST-MODIFIED:20260111T034134Z
UID:10002058-1769702400-1769709600@www.tapatiosprings.com
SUMMARY:Daily Happy Hour
DESCRIPTION:Location: La Cascada Table & Bar\nTime: Daily\, 4 PM – 6 PM\nDetails: Join us for daily Drink Specials at La Cascada Bar!
URL:https://www.tapatiosprings.com/event/daily-happy-hour/2026-01-29/
LOCATION:La Cascada Table & Bar
CATEGORIES:Eat & Drink
ATTACH;FMTTYPE=image/jpeg:https://www.tapatiosprings.com/wp-content/uploads/2025/06/ts-detail-FB-3-96-2-scaled.jpg
END:VEVENT
BEGIN:VEVENT
DTSTART;TZID=UTC:20260129T090000
DTEND;TZID=UTC:20260129T100000
DTSTAMP:20260424T074118
CREATED:20250719T015709Z
LAST-MODIFIED:20260220T021919Z
UID:10004524-1769677200-1769680800@www.tapatiosprings.com
SUMMARY:Yoga Flow
DESCRIPTION:Location: Oaks Pavilion\nTime: Mondays & Thursdays\, 9 AM – 10 AM\n*Complimentary for Resort Guests & Members
URL:https://www.tapatiosprings.com/event/yoga-flow-2/2026-01-29/
LOCATION:Oaks Pavilion
CATEGORIES:Wellness
ATTACH;FMTTYPE=image/webp:https://www.tapatiosprings.com/wp-content/uploads/2025/07/yoga-flow-website-pic-67a3c565a2ebc.webp
END:VEVENT
BEGIN:VEVENT
DTSTART;TZID=UTC:20260128T160000
DTEND;TZID=UTC:20260128T180000
DTSTAMP:20260424T074118
CREATED:20250630T195610Z
LAST-MODIFIED:20260111T034134Z
UID:10002057-1769616000-1769623200@www.tapatiosprings.com
SUMMARY:Daily Happy Hour
DESCRIPTION:Location: La Cascada Table & Bar\nTime: Daily\, 4 PM – 6 PM\nDetails: Join us for daily Drink Specials at La Cascada Bar!
URL:https://www.tapatiosprings.com/event/daily-happy-hour/2026-01-28/
LOCATION:La Cascada Table & Bar
CATEGORIES:Eat & Drink
ATTACH;FMTTYPE=image/jpeg:https://www.tapatiosprings.com/wp-content/uploads/2025/06/ts-detail-FB-3-96-2-scaled.jpg
END:VEVENT
BEGIN:VEVENT
DTSTART;TZID=UTC:20260128T110000
DTEND;TZID=UTC:20260128T210000
DTSTAMP:20260424T074118
CREATED:20250715T201631Z
LAST-MODIFIED:20260414T150920Z
UID:10003714-1769598000-1769634000@www.tapatiosprings.com
SUMMARY:Wine Wednesday
DESCRIPTION:Location: La Cascada Table & Bar\nTime: Wednesdays\, 11 AM – Close\nDetails: Half Off Bottles of Wine (Max. Discount $50)
URL:https://www.tapatiosprings.com/event/wine-wednesday/2026-01-28/
LOCATION:La Cascada Table & Bar
CATEGORIES:Eat & Drink
ATTACH;FMTTYPE=image/webp:https://www.tapatiosprings.com/wp-content/uploads/2025/07/tapatiospringshillcountryresort-boerneevents-eventcalendar-01-65b2b5b57d26a.webp
END:VEVENT
BEGIN:VEVENT
DTSTART;TZID=UTC:20260128T100000
DTEND;TZID=UTC:20260128T110000
DTSTAMP:20260424T074118
CREATED:20250704T150050Z
LAST-MODIFIED:20251013T232545Z
UID:10004003-1769594400-1769598000@www.tapatiosprings.com
SUMMARY:Tiffany's Bootcamp
DESCRIPTION:Location: Clubhouse Fitness Center\nTime: Mondays & Wednesdays\, 10 AM – 11 AM\nPrice: $10 (Cash Only) \nFirst time participants\, please text Tiffany directly for confirmation: \nPhone: 2103267094 \n 
URL:https://www.tapatiosprings.com/event/tiffanys-bootcamp/2026-01-28/
LOCATION:Clubhouse Fitness Center
CATEGORIES:Wellness
ATTACH;FMTTYPE=image/webp:https://www.tapatiosprings.com/wp-content/uploads/2025/07/fitness-bootcamp-website-pic-67a3c92c402d5.webp
END:VEVENT
BEGIN:VEVENT
DTSTART;TZID=UTC:20260127T160000
DTEND;TZID=UTC:20260127T180000
DTSTAMP:20260424T074118
CREATED:20250630T195610Z
LAST-MODIFIED:20260111T034134Z
UID:10002056-1769529600-1769536800@www.tapatiosprings.com
SUMMARY:Daily Happy Hour
DESCRIPTION:Location: La Cascada Table & Bar\nTime: Daily\, 4 PM – 6 PM\nDetails: Join us for daily Drink Specials at La Cascada Bar!
URL:https://www.tapatiosprings.com/event/daily-happy-hour/2026-01-27/
LOCATION:La Cascada Table & Bar
CATEGORIES:Eat & Drink
ATTACH;FMTTYPE=image/jpeg:https://www.tapatiosprings.com/wp-content/uploads/2025/06/ts-detail-FB-3-96-2-scaled.jpg
END:VEVENT
BEGIN:VEVENT
DTSTART;TZID=UTC:20260126T160000
DTEND;TZID=UTC:20260126T180000
DTSTAMP:20260424T074118
CREATED:20250630T195610Z
LAST-MODIFIED:20260111T034134Z
UID:10002055-1769443200-1769450400@www.tapatiosprings.com
SUMMARY:Daily Happy Hour
DESCRIPTION:Location: La Cascada Table & Bar\nTime: Daily\, 4 PM – 6 PM\nDetails: Join us for daily Drink Specials at La Cascada Bar!
URL:https://www.tapatiosprings.com/event/daily-happy-hour/2026-01-26/
LOCATION:La Cascada Table & Bar
CATEGORIES:Eat & Drink
ATTACH;FMTTYPE=image/jpeg:https://www.tapatiosprings.com/wp-content/uploads/2025/06/ts-detail-FB-3-96-2-scaled.jpg
END:VEVENT
BEGIN:VEVENT
DTSTART;TZID=UTC:20260126T100000
DTEND;TZID=UTC:20260126T110000
DTSTAMP:20260424T074118
CREATED:20250704T150050Z
LAST-MODIFIED:20251013T232545Z
UID:10004002-1769421600-1769425200@www.tapatiosprings.com
SUMMARY:Tiffany's Bootcamp
DESCRIPTION:Location: Clubhouse Fitness Center\nTime: Mondays & Wednesdays\, 10 AM – 11 AM\nPrice: $10 (Cash Only) \nFirst time participants\, please text Tiffany directly for confirmation: \nPhone: 2103267094 \n 
URL:https://www.tapatiosprings.com/event/tiffanys-bootcamp/2026-01-26/
LOCATION:Clubhouse Fitness Center
CATEGORIES:Wellness
ATTACH;FMTTYPE=image/webp:https://www.tapatiosprings.com/wp-content/uploads/2025/07/fitness-bootcamp-website-pic-67a3c92c402d5.webp
END:VEVENT
BEGIN:VEVENT
DTSTART;TZID=UTC:20260126T090000
DTEND;TZID=UTC:20260126T100000
DTSTAMP:20260424T074118
CREATED:20250719T015709Z
LAST-MODIFIED:20260220T021919Z
UID:10004523-1769418000-1769421600@www.tapatiosprings.com
SUMMARY:Yoga Flow
DESCRIPTION:Location: Oaks Pavilion\nTime: Mondays & Thursdays\, 9 AM – 10 AM\n*Complimentary for Resort Guests & Members
URL:https://www.tapatiosprings.com/event/yoga-flow-2/2026-01-26/
LOCATION:Oaks Pavilion
CATEGORIES:Wellness
ATTACH;FMTTYPE=image/webp:https://www.tapatiosprings.com/wp-content/uploads/2025/07/yoga-flow-website-pic-67a3c565a2ebc.webp
END:VEVENT
BEGIN:VEVENT
DTSTART;TZID=UTC:20260125T160000
DTEND;TZID=UTC:20260125T180000
DTSTAMP:20260424T074118
CREATED:20250630T195610Z
LAST-MODIFIED:20260111T034134Z
UID:10002054-1769356800-1769364000@www.tapatiosprings.com
SUMMARY:Daily Happy Hour
DESCRIPTION:Location: La Cascada Table & Bar\nTime: Daily\, 4 PM – 6 PM\nDetails: Join us for daily Drink Specials at La Cascada Bar!
URL:https://www.tapatiosprings.com/event/daily-happy-hour/2026-01-25/
LOCATION:La Cascada Table & Bar
CATEGORIES:Eat & Drink
ATTACH;FMTTYPE=image/jpeg:https://www.tapatiosprings.com/wp-content/uploads/2025/06/ts-detail-FB-3-96-2-scaled.jpg
END:VEVENT
BEGIN:VEVENT
DTSTART;TZID=UTC:20260124T160000
DTEND;TZID=UTC:20260124T180000
DTSTAMP:20260424T074118
CREATED:20250630T195610Z
LAST-MODIFIED:20260111T034134Z
UID:10002053-1769270400-1769277600@www.tapatiosprings.com
SUMMARY:Daily Happy Hour
DESCRIPTION:Location: La Cascada Table & Bar\nTime: Daily\, 4 PM – 6 PM\nDetails: Join us for daily Drink Specials at La Cascada Bar!
URL:https://www.tapatiosprings.com/event/daily-happy-hour/2026-01-24/
LOCATION:La Cascada Table & Bar
CATEGORIES:Eat & Drink
ATTACH;FMTTYPE=image/jpeg:https://www.tapatiosprings.com/wp-content/uploads/2025/06/ts-detail-FB-3-96-2-scaled.jpg
END:VEVENT
BEGIN:VEVENT
DTSTART;TZID=UTC:20260123T160000
DTEND;TZID=UTC:20260123T180000
DTSTAMP:20260424T074118
CREATED:20250630T195610Z
LAST-MODIFIED:20260111T034134Z
UID:10002052-1769184000-1769191200@www.tapatiosprings.com
SUMMARY:Daily Happy Hour
DESCRIPTION:Location: La Cascada Table & Bar\nTime: Daily\, 4 PM – 6 PM\nDetails: Join us for daily Drink Specials at La Cascada Bar!
URL:https://www.tapatiosprings.com/event/daily-happy-hour/2026-01-23/
LOCATION:La Cascada Table & Bar
CATEGORIES:Eat & Drink
ATTACH;FMTTYPE=image/jpeg:https://www.tapatiosprings.com/wp-content/uploads/2025/06/ts-detail-FB-3-96-2-scaled.jpg
END:VEVENT
BEGIN:VEVENT
DTSTART;TZID=UTC:20260123T103000
DTEND;TZID=UTC:20260123T113000
DTSTAMP:20260424T074118
CREATED:20250715T204730Z
LAST-MODIFIED:20260220T021950Z
UID:10005537-1769164200-1769167800@www.tapatiosprings.com
SUMMARY:Mat Pilates with Props
DESCRIPTION:Location: Evergreen Room\nTime: Every Friday\, 10:30 – 11:30 AM\n*Complimentary for Resort Guests & Members
URL:https://www.tapatiosprings.com/event/mat-pilates-with-props/2026-01-23/
LOCATION:Evergreen Room
CATEGORIES:Wellness
ATTACH;FMTTYPE=image/webp:https://www.tapatiosprings.com/wp-content/uploads/2025/07/mat-pilates-website-pic-67a3c53b6f3f2.webp
END:VEVENT
BEGIN:VEVENT
DTSTART;TZID=UTC:20260122T160000
DTEND;TZID=UTC:20260122T180000
DTSTAMP:20260424T074118
CREATED:20250630T195610Z
LAST-MODIFIED:20260111T034134Z
UID:10002051-1769097600-1769104800@www.tapatiosprings.com
SUMMARY:Daily Happy Hour
DESCRIPTION:Location: La Cascada Table & Bar\nTime: Daily\, 4 PM – 6 PM\nDetails: Join us for daily Drink Specials at La Cascada Bar!
URL:https://www.tapatiosprings.com/event/daily-happy-hour/2026-01-22/
LOCATION:La Cascada Table & Bar
CATEGORIES:Eat & Drink
ATTACH;FMTTYPE=image/jpeg:https://www.tapatiosprings.com/wp-content/uploads/2025/06/ts-detail-FB-3-96-2-scaled.jpg
END:VEVENT
BEGIN:VEVENT
DTSTART;TZID=UTC:20260122T090000
DTEND;TZID=UTC:20260122T100000
DTSTAMP:20260424T074118
CREATED:20250719T015709Z
LAST-MODIFIED:20260220T021919Z
UID:10004522-1769072400-1769076000@www.tapatiosprings.com
SUMMARY:Yoga Flow
DESCRIPTION:Location: Oaks Pavilion\nTime: Mondays & Thursdays\, 9 AM – 10 AM\n*Complimentary for Resort Guests & Members
URL:https://www.tapatiosprings.com/event/yoga-flow-2/2026-01-22/
LOCATION:Oaks Pavilion
CATEGORIES:Wellness
ATTACH;FMTTYPE=image/webp:https://www.tapatiosprings.com/wp-content/uploads/2025/07/yoga-flow-website-pic-67a3c565a2ebc.webp
END:VEVENT
BEGIN:VEVENT
DTSTART;TZID=UTC:20260121T160000
DTEND;TZID=UTC:20260121T180000
DTSTAMP:20260424T074118
CREATED:20250630T195610Z
LAST-MODIFIED:20260111T034134Z
UID:10002050-1769011200-1769018400@www.tapatiosprings.com
SUMMARY:Daily Happy Hour
DESCRIPTION:Location: La Cascada Table & Bar\nTime: Daily\, 4 PM – 6 PM\nDetails: Join us for daily Drink Specials at La Cascada Bar!
URL:https://www.tapatiosprings.com/event/daily-happy-hour/2026-01-21/
LOCATION:La Cascada Table & Bar
CATEGORIES:Eat & Drink
ATTACH;FMTTYPE=image/jpeg:https://www.tapatiosprings.com/wp-content/uploads/2025/06/ts-detail-FB-3-96-2-scaled.jpg
END:VEVENT
BEGIN:VEVENT
DTSTART;TZID=UTC:20260121T110000
DTEND;TZID=UTC:20260121T210000
DTSTAMP:20260424T074118
CREATED:20250715T201631Z
LAST-MODIFIED:20260414T150920Z
UID:10003713-1768993200-1769029200@www.tapatiosprings.com
SUMMARY:Wine Wednesday
DESCRIPTION:Location: La Cascada Table & Bar\nTime: Wednesdays\, 11 AM – Close\nDetails: Half Off Bottles of Wine (Max. Discount $50)
URL:https://www.tapatiosprings.com/event/wine-wednesday/2026-01-21/
LOCATION:La Cascada Table & Bar
CATEGORIES:Eat & Drink
ATTACH;FMTTYPE=image/webp:https://www.tapatiosprings.com/wp-content/uploads/2025/07/tapatiospringshillcountryresort-boerneevents-eventcalendar-01-65b2b5b57d26a.webp
END:VEVENT
BEGIN:VEVENT
DTSTART;TZID=UTC:20260121T100000
DTEND;TZID=UTC:20260121T110000
DTSTAMP:20260424T074118
CREATED:20250704T150050Z
LAST-MODIFIED:20251013T232545Z
UID:10004001-1768989600-1768993200@www.tapatiosprings.com
SUMMARY:Tiffany's Bootcamp
DESCRIPTION:Location: Clubhouse Fitness Center\nTime: Mondays & Wednesdays\, 10 AM – 11 AM\nPrice: $10 (Cash Only) \nFirst time participants\, please text Tiffany directly for confirmation: \nPhone: 2103267094 \n 
URL:https://www.tapatiosprings.com/event/tiffanys-bootcamp/2026-01-21/
LOCATION:Clubhouse Fitness Center
CATEGORIES:Wellness
ATTACH;FMTTYPE=image/webp:https://www.tapatiosprings.com/wp-content/uploads/2025/07/fitness-bootcamp-website-pic-67a3c92c402d5.webp
END:VEVENT
BEGIN:VEVENT
DTSTART;TZID=UTC:20260120T160000
DTEND;TZID=UTC:20260120T180000
DTSTAMP:20260424T074118
CREATED:20250630T195610Z
LAST-MODIFIED:20260111T034134Z
UID:10002049-1768924800-1768932000@www.tapatiosprings.com
SUMMARY:Daily Happy Hour
DESCRIPTION:Location: La Cascada Table & Bar\nTime: Daily\, 4 PM – 6 PM\nDetails: Join us for daily Drink Specials at La Cascada Bar!
URL:https://www.tapatiosprings.com/event/daily-happy-hour/2026-01-20/
LOCATION:La Cascada Table & Bar
CATEGORIES:Eat & Drink
ATTACH;FMTTYPE=image/jpeg:https://www.tapatiosprings.com/wp-content/uploads/2025/06/ts-detail-FB-3-96-2-scaled.jpg
END:VEVENT
BEGIN:VEVENT
DTSTART;TZID=UTC:20260119T160000
DTEND;TZID=UTC:20260119T180000
DTSTAMP:20260424T074118
CREATED:20250630T195610Z
LAST-MODIFIED:20260111T034134Z
UID:10002048-1768838400-1768845600@www.tapatiosprings.com
SUMMARY:Daily Happy Hour
DESCRIPTION:Location: La Cascada Table & Bar\nTime: Daily\, 4 PM – 6 PM\nDetails: Join us for daily Drink Specials at La Cascada Bar!
URL:https://www.tapatiosprings.com/event/daily-happy-hour/2026-01-19/
LOCATION:La Cascada Table & Bar
CATEGORIES:Eat & Drink
ATTACH;FMTTYPE=image/jpeg:https://www.tapatiosprings.com/wp-content/uploads/2025/06/ts-detail-FB-3-96-2-scaled.jpg
END:VEVENT
BEGIN:VEVENT
DTSTART;TZID=UTC:20260119T100000
DTEND;TZID=UTC:20260119T110000
DTSTAMP:20260424T074118
CREATED:20250704T150050Z
LAST-MODIFIED:20251013T232545Z
UID:10004000-1768816800-1768820400@www.tapatiosprings.com
SUMMARY:Tiffany's Bootcamp
DESCRIPTION:Location: Clubhouse Fitness Center\nTime: Mondays & Wednesdays\, 10 AM – 11 AM\nPrice: $10 (Cash Only) \nFirst time participants\, please text Tiffany directly for confirmation: \nPhone: 2103267094 \n 
URL:https://www.tapatiosprings.com/event/tiffanys-bootcamp/2026-01-19/
LOCATION:Clubhouse Fitness Center
CATEGORIES:Wellness
ATTACH;FMTTYPE=image/webp:https://www.tapatiosprings.com/wp-content/uploads/2025/07/fitness-bootcamp-website-pic-67a3c92c402d5.webp
END:VEVENT
BEGIN:VEVENT
DTSTART;TZID=UTC:20260119T090000
DTEND;TZID=UTC:20260119T100000
DTSTAMP:20260424T074118
CREATED:20250719T015709Z
LAST-MODIFIED:20260220T021919Z
UID:10004521-1768813200-1768816800@www.tapatiosprings.com
SUMMARY:Yoga Flow
DESCRIPTION:Location: Oaks Pavilion\nTime: Mondays & Thursdays\, 9 AM – 10 AM\n*Complimentary for Resort Guests & Members
URL:https://www.tapatiosprings.com/event/yoga-flow-2/2026-01-19/
LOCATION:Oaks Pavilion
CATEGORIES:Wellness
ATTACH;FMTTYPE=image/webp:https://www.tapatiosprings.com/wp-content/uploads/2025/07/yoga-flow-website-pic-67a3c565a2ebc.webp
END:VEVENT
END:VCALENDAR