BEGIN:VCALENDAR
VERSION:2.0
PRODID:-//Tapatio Springs - ECPv6.15.20//NONSGML v1.0//EN
CALSCALE:GREGORIAN
METHOD:PUBLISH
X-WR-CALNAME:Tapatio Springs
X-ORIGINAL-URL:https://www.tapatiosprings.com
X-WR-CALDESC:Events for Tapatio Springs
REFRESH-INTERVAL;VALUE=DURATION:PT1H
X-Robots-Tag:noindex
X-PUBLISHED-TTL:PT1H
BEGIN:VTIMEZONE
TZID:UTC
BEGIN:STANDARD
TZOFFSETFROM:+0000
TZOFFSETTO:+0000
TZNAME:UTC
DTSTART:20240101T000000
END:STANDARD
END:VTIMEZONE
BEGIN:VEVENT
DTSTART;TZID=UTC:20260405T100000
DTEND;TZID=UTC:20260405T150000
DTSTAMP:20260421T081736
CREATED:20260309T062651Z
LAST-MODIFIED:20260325T132902Z
UID:10007733-1775383200-1775401200@www.tapatiosprings.com
SUMMARY:Easter Experience & Brunch
DESCRIPTION:Celebrate Easter Sunday in the heart of Hill Country with a spectacular brunch and family festivities! The day is packed with family fun\, including an egg hunt\, petting zoo and a special visit from the Easter Bunny. \nDate: Sunday\, April 5\, 2025\nTime: 10:00 AM – 3:00 PM\nLocation: La Cascada Table & Bar at Tapatio Springs\, Boerne\, TX\nPrice: $78 Adults | $30 Children \nEgg Hunts: 10:30 AM\, 12:30 PM\, 2:30 PM \nPetting Zoo: 11:00 AM – 1:00 PM \nReservations: Recommended; call (830) 537-6245 or book online. \nReserve Now
URL:https://www.tapatiosprings.com/event/easter-experience-brunch/
LOCATION:La Cascada Table & Bar
CATEGORIES:Eat & Drink,Special Events
ATTACH;FMTTYPE=image/png:https://www.tapatiosprings.com/wp-content/uploads/2026/03/original-1772DDDD-8943-4B4B-A9A7-7456F885880A.png
END:VEVENT
BEGIN:VEVENT
DTSTART;TZID=UTC:20260314T180000
DTEND;TZID=UTC:20260314T210000
DTSTAMP:20260421T081737
CREATED:20260221T001923Z
LAST-MODIFIED:20260224T211933Z
UID:10007730-1773511200-1773522000@www.tapatiosprings.com
SUMMARY:Pink Boots Concert - Featuring Music by Big Country
DESCRIPTION:Join us for the Pink Boots Concert at Tapatio Springs Hill Country Resort—\nan evening filled with live music\, local flair\, and Hill Country charm! Enjoy a high‑energy performance from BIG COUNTRY of San Antonio\, bringing a lively mix of classic and contemporary country hits to the stage. \nWe’re proud to showcase incredible local businesses such as Chateau 248\, Pearl Antler\, Wild Pony Hat Bar\, UNCOMMON BABE INK\, SL Permanent Jewelry\, and more – each bringing their unique Hill Country spirit to the event. \nWhether you’re here for the music\, the atmosphere\, or the celebration of local talent\, the Pink Boots Concert promises a memorable night under the Texas sky. \nTickets are free\, claim your tickets:\nCLAIM TICKETS HERE
URL:https://www.tapatiosprings.com/event/pink-boots-concert-featuring-music-by-big-country/
LOCATION:Clubhouse Event Lawn
CATEGORIES:Children & Family,Eat & Drink,Hotel Events,Music,Special Events
ATTACH;FMTTYPE=image/png:https://www.tapatiosprings.com/wp-content/uploads/2026/02/Untitled-design-3.png
END:VEVENT
BEGIN:VEVENT
DTSTART;TZID=UTC:20260306T080000
DTEND;TZID=UTC:20260314T170000
DTSTAMP:20260421T081737
CREATED:20260224T201011Z
LAST-MODIFIED:20260224T201101Z
UID:10007732-1772784000-1773507600@www.tapatiosprings.com
SUMMARY:Spring Break at Tapatio Springs
DESCRIPTION:Shake off the usual and escape to Tapatio Springs Hill Country Resort for a spring break defined by sunshine\, open skies\, and genuine Texas hospitality. Set among rolling hills and live oaks\, the resort invites easy mornings\, outdoor adventures\, and laid-back afternoons by the pool. Spend your days golfing\, exploring scenic trails\, or savoring poolside drinks as the Hill Country comes alive in bloom. Here\, spring break feels effortless\, welcoming\, and refreshingly unhurried—just the way it should be. \nBook one of our Spring Packages and save up to 20%!
URL:https://www.tapatiosprings.com/event/spring-break-at-tapatio-springs/
CATEGORIES:Hotel Events,Special Events
ATTACH;FMTTYPE=image/jpeg:https://www.tapatiosprings.com/wp-content/uploads/2025/07/Pool_Closeup_v3-edited-Pixlr.jpg
END:VEVENT
BEGIN:VEVENT
DTSTART;TZID=UTC:20260221T180000
DTEND;TZID=UTC:20260221T210000
DTSTAMP:20260421T081737
CREATED:20260112T053201Z
LAST-MODIFIED:20260121T012833Z
UID:10007693-1771696800-1771707600@www.tapatiosprings.com
SUMMARY:Boots & Bourbon feat. Live Music by Faith Jacobs Band
DESCRIPTION:Calling all cowboys & cowgirls! Experience the ultimate Texas Hill Country evening at the Boots & Bourbon showcase\, featuring a BBQ buffet\, curated bourbon tasting and the toe-tapping tunes of Faith Jacobs Band. Between pours\, immerse yourself in authentic Rodeo-style luxury with professional boot shining\, custom hat shaping\, live cigar rolling and more. \n$50 per person\n(Excludes fees) \nInclusive Stay Packages available soon!
URL:https://www.tapatiosprings.com/event/boots-bourbon-feat-live-music-by-faith-jacobs/
LOCATION:Cibolo Ballroom
CATEGORIES:Eat & Drink,Hotel Events,Music,Special Events
ATTACH;FMTTYPE=image/jpeg:https://www.tapatiosprings.com/wp-content/uploads/2025/07/tapatio-line-dancing.jpg
END:VEVENT
BEGIN:VEVENT
DTSTART;TZID=UTC:20260214T180000
DTEND;TZID=UTC:20260214T210000
DTSTAMP:20260421T081737
CREATED:20260111T054233Z
LAST-MODIFIED:20260122T024932Z
UID:10007691-1771092000-1771102800@www.tapatiosprings.com
SUMMARY:Keys to the Heart: A Valentine's Dinner Date with Dueling Pianos
DESCRIPTION:Celebrate love on a high note with a riveting musical dinner date this Valentine’s Day! Strike a perfect chord with your sweetheart and join us for a grand evening in the elegant Bluffs Ballroom. We’re pairing a sophisticated culinary experience with the sweeping energy of dueling pianos. \nThe evening begins with a decadent\, chef-inspired dinner buffet designed for romance\, followed by an interactive musical showdown hosted by the piano virtuosos from Howl2Go. From timeless romantic ballads to your favorite hits\, the setlist is in your hands. Be ready to shout out requests and serenade along—because when it comes to love\, there are no wrong notes! \n$75 per person\n(Excludes fees & beverages) \n“Keys to the Heart” Dinner Menu \n\nGarden Salad Bar\nChef’s Action Station\n\nCarved Beef Tenderloin\nTruffle Pomme Purée\nSeasonal Baby Vegetables\nOysters Rockefeller\n\n\nPasta Station\n\nCheese Tortellini with Italian Sausage in Rosé Vodka Sauce\nRotini Pasta with Bay Scallops and Shrimp in Cajun Cream Sauce\nChicken Marsala\n\n\nFresh Dinner Rolls\, Breadsticks & Parmesan\nChef’s Dessert Display\n\nAssorted Petits Fours\nHand-dipped Chocolate Strawberries\n\n\n\nEvent Tickets and inclusive Stay Packages available.
URL:https://www.tapatiosprings.com/event/keys-to-the-heart-a-valentines-dinner-date-with-dueling-pianos/
LOCATION:Bluffs Event Center
CATEGORIES:Eat & Drink,Hotel Events,Music,Special Events
ATTACH;FMTTYPE=image/png:https://www.tapatiosprings.com/wp-content/uploads/2026/01/Piano-with-Heart-Website-Stock-Pic.png
END:VEVENT
BEGIN:VEVENT
DTSTART;TZID=UTC:20251231T180000
DTEND;TZID=UTC:20260101T010000
DTSTAMP:20260421T081737
CREATED:20251121T005417Z
LAST-MODIFIED:20251223T054844Z
UID:10007142-1767204000-1767229200@www.tapatiosprings.com
SUMMARY:Ritz & Riches - New Year's Eve 2026
DESCRIPTION:Experience the most glamorous New Year’s Eve in the Hill Country! Celebrate Ritz & Riches at our 1920s Casino Night with Games\, Dinner Bites\, Live Jazz\, and Midnight Fireworks. Secure your party tickets or book your inclusive Stay & Celebrate package with shoulder stay dates starting at $99 per night. \n 
URL:https://www.tapatiosprings.com/event/ritz-riches-new-years-eve-2026/
LOCATION:Clubhouse\, 1 Resort Way\, Boerne\, TX\, 78006\, United States
CATEGORIES:Eat & Drink,Hotel Events,Music,Special Events
ATTACH;FMTTYPE=image/jpeg:https://www.tapatiosprings.com/wp-content/uploads/2025/10/Sparklers-and-Champagne-w-Faces-AdobeStock_473150208.jpeg
END:VEVENT
BEGIN:VEVENT
DTSTART;TZID=UTC:20251225T170000
DTEND;TZID=UTC:20251225T210000
DTSTAMP:20260421T081737
CREATED:20251202T034518Z
LAST-MODIFIED:20251202T041327Z
UID:10007512-1766682000-1766696400@www.tapatiosprings.com
SUMMARY:Christmas Eve & Day Dinner
DESCRIPTION:Indulge in a festive feast with our three-course Christmas dinner\, featuring holiday classics and seasonal delights! \nAppetizer | Caesar Salad OR Mixed Green Salad \nEntree | Slow-Cooked Herb-Roasted Prime Rib \nDessert | Warm Bread Pudding \n$52 per person (Excludes tax & gratuity) \n 
URL:https://www.tapatiosprings.com/event/christmas-eve-and-day-dinner/2025-12-25/
LOCATION:La Cascada Table & Bar
CATEGORIES:Eat & Drink,Special Events
ATTACH;FMTTYPE=image/png:https://www.tapatiosprings.com/wp-content/uploads/2025/12/LC-Christmas-Wreath_Square.png
END:VEVENT
BEGIN:VEVENT
DTSTART;TZID=UTC:20251224T170000
DTEND;TZID=UTC:20251224T210000
DTSTAMP:20260421T081737
CREATED:20251202T034518Z
LAST-MODIFIED:20251202T041327Z
UID:10007143-1766595600-1766610000@www.tapatiosprings.com
SUMMARY:Christmas Eve & Day Dinner
DESCRIPTION:Indulge in a festive feast with our three-course Christmas dinner\, featuring holiday classics and seasonal delights! \nAppetizer | Caesar Salad OR Mixed Green Salad \nEntree | Slow-Cooked Herb-Roasted Prime Rib \nDessert | Warm Bread Pudding \n$52 per person (Excludes tax & gratuity) \n 
URL:https://www.tapatiosprings.com/event/christmas-eve-and-day-dinner/2025-12-24/
LOCATION:La Cascada Table & Bar
CATEGORIES:Eat & Drink,Special Events
ATTACH;FMTTYPE=image/png:https://www.tapatiosprings.com/wp-content/uploads/2025/12/LC-Christmas-Wreath_Square.png
END:VEVENT
BEGIN:VEVENT
DTSTART;TZID=UTC:20251129T083000
DTEND;TZID=UTC:20251129T120000
DTSTAMP:20260421T081737
CREATED:20251008T223459Z
LAST-MODIFIED:20251010T000452Z
UID:10007085-1764405000-1764417600@www.tapatiosprings.com
SUMMARY:Breakfast with Santa
DESCRIPTION:Bring the whole family for a delightful holiday morning filled with delicious brunch and a visit from jolly Santa himself! Kids can decorate cookies\, craft their own ornaments\, and share their wish lists with Santa in a cozy\, holiday-themed setting. It’s the perfect way to kick off the season and make lasting memories together! \n$35 per adult | $17 per child (Age 4-12) | Free for children under age 4\n(Excludes tax & gratuity) \nMake your reservation for one of two seating times: 8:30AM | 10:30AM
URL:https://www.tapatiosprings.com/event/breakfast-with-santa/
LOCATION:Cibolo Ballroom
CATEGORIES:Children & Family,Eat & Drink,Special Events
ATTACH;FMTTYPE=image/jpeg:https://www.tapatiosprings.com/wp-content/uploads/2025/10/Breakfast-with-Santa.jpg
END:VEVENT
BEGIN:VEVENT
DTSTART;TZID=UTC:20251127T170000
DTEND;TZID=UTC:20251127T210000
DTSTAMP:20260421T081737
CREATED:20251104T050716Z
LAST-MODIFIED:20251104T050716Z
UID:10007133-1764262800-1764277200@www.tapatiosprings.com
SUMMARY:Thanksgiving Dinner
DESCRIPTION:Join us on Thanksgiving evening at La Cascada Table & Bar and experience classic holiday flavors with our delectable Dinner Menu: \nEntree | Roasted Turkey\, Cornbread Dressing\, Whipped Potatoes\, Green Beans\, Homemade Gravy & Cranberry Sauce \nDessert | Pumpkin Pie with Whipped Cream \n$42 per person (Excludes tax & gratuity) \n 
URL:https://www.tapatiosprings.com/event/thanksgiving-dinner/
LOCATION:La Cascada Table & Bar
CATEGORIES:Eat & Drink,Special Events
ATTACH;FMTTYPE=image/png:https://www.tapatiosprings.com/wp-content/uploads/2025/11/Turkey-Plat-Website-Stock-Pic.png
END:VEVENT
BEGIN:VEVENT
DTSTART;TZID=UTC:20251127T110000
DTEND;TZID=UTC:20251127T160000
DTSTAMP:20260421T081737
CREATED:20251003T033242Z
LAST-MODIFIED:20251008T223835Z
UID:10007084-1764241200-1764259200@www.tapatiosprings.com
SUMMARY:Thanksgiving Feast
DESCRIPTION:Come together with family and friends this Thanksgiving holiday and indulge in our popular Thanksgiving Feast\, prepared with love by our culinary team. From charcuteries and seafood\, exquisite turkey\, and carved meats\, to delicious side staples and pies – we have all your holiday favorites! Accompanied with live tunes by solo guitarist Jaime Varela. \n$75 per adult | $30 per child (under age 12) | Free under age 4\n(Excludes tax & 20% gratuity) \nReserve your table for one of three seatings times: 11AM | 1PM | 3PM
URL:https://www.tapatiosprings.com/event/thanksgiving-feast/
LOCATION:La Cascada Table & Bar
CATEGORIES:Children & Family,Eat & Drink,Special Events
ATTACH;FMTTYPE=image/png:https://www.tapatiosprings.com/wp-content/uploads/2025/09/Thanksgiving-Setup-Pic_edited.png
END:VEVENT
BEGIN:VEVENT
DTSTART;TZID=UTC:20251127T100000
DTEND;TZID=UTC:20251127T150000
DTSTAMP:20260421T081737
CREATED:20251013T231018Z
LAST-MODIFIED:20251117T231353Z
UID:10007096-1764237600-1764255600@www.tapatiosprings.com
SUMMARY:Thanksgiving Tunes - Jaime Varela
DESCRIPTION:Location: Clubhouse Lobby\nTime: 10 AM – 3 PM\n*Reservations for Thanksgiving Feast Required
URL:https://www.tapatiosprings.com/event/thanksgiving-tunes-jaime-varela/
LOCATION:Clubhouse\, 1 Resort Way\, Boerne\, TX\, 78006\, United States
CATEGORIES:Eat & Drink,Music,Special Events
ATTACH;FMTTYPE=image/png:https://www.tapatiosprings.com/wp-content/uploads/2025/10/Jaime-Varela-Portrait-Compressed.png
END:VEVENT
BEGIN:VEVENT
DTSTART;TZID=UTC:20251012T173000
DTEND;TZID=UTC:20251012T193000
DTSTAMP:20260421T081737
CREATED:20251003T025426Z
LAST-MODIFIED:20251006T231121Z
UID:10007082-1760290200-1760297400@www.tapatiosprings.com
SUMMARY:Annual Fall Fest
DESCRIPTION:Join us for a fall celebration featuring hayrides\, face painting\, and delicious fall concessions. Get creative with pumpkin painting and build your own Candy Apple Monster! It’s the perfect – and FREE! – way to enjoy the Fall season with family and friends.
URL:https://www.tapatiosprings.com/event/annual-fall-fest/
LOCATION:Clubhouse Event Lawn
CATEGORIES:Children & Family,Eat & Drink,Hotel Events,Special Events
ATTACH;FMTTYPE=image/png:https://www.tapatiosprings.com/wp-content/uploads/2025/10/Fall-Festival-Business-Card.png
END:VEVENT
END:VCALENDAR