BEGIN:VCALENDAR
VERSION:2.0
PRODID:-//Tapatio Springs - ECPv6.15.20//NONSGML v1.0//EN
CALSCALE:GREGORIAN
METHOD:PUBLISH
X-ORIGINAL-URL:https://www.tapatiosprings.com
X-WR-CALDESC:Events for Tapatio Springs
REFRESH-INTERVAL;VALUE=DURATION:PT1H
X-Robots-Tag:noindex
X-PUBLISHED-TTL:PT1H
BEGIN:VTIMEZONE
TZID:UTC
BEGIN:STANDARD
TZOFFSETFROM:+0000
TZOFFSETTO:+0000
TZNAME:UTC
DTSTART:20260101T000000
END:STANDARD
END:VTIMEZONE
BEGIN:VEVENT
DTSTART;TZID=UTC:20270107T183000
DTEND;TZID=UTC:20270107T223000
DTSTAMP:20260422T161710
CREATED:20250715T211212Z
LAST-MODIFIED:20260121T022326Z
UID:10006308-1799346600-1799361000@www.tapatiosprings.com
SUMMARY:Trivia Night
DESCRIPTION:Location: La Cascada Table & Bar – Patio\nTime: First Thursday every Month\, 6:30 PM – 8:30 PM\nDetails: Win Gift Card prizes up to $50!
URL:https://www.tapatiosprings.com/event/trivia-night/2027-01-07/
LOCATION:La Cascada Table & Bar – Patio
CATEGORIES:Children & Family,Hotel Events
ATTACH;FMTTYPE=image/png:https://www.tapatiosprings.com/wp-content/uploads/2025/07/Trivia-Stock-Photo.png
END:VEVENT
BEGIN:VEVENT
DTSTART;TZID=UTC:20270204T183000
DTEND;TZID=UTC:20270204T223000
DTSTAMP:20260422T161710
CREATED:20250715T211212Z
LAST-MODIFIED:20260121T022326Z
UID:10006309-1801765800-1801780200@www.tapatiosprings.com
SUMMARY:Trivia Night
DESCRIPTION:Location: La Cascada Table & Bar – Patio\nTime: First Thursday every Month\, 6:30 PM – 8:30 PM\nDetails: Win Gift Card prizes up to $50!
URL:https://www.tapatiosprings.com/event/trivia-night/2027-02-04/
LOCATION:La Cascada Table & Bar – Patio
CATEGORIES:Children & Family,Hotel Events
ATTACH;FMTTYPE=image/png:https://www.tapatiosprings.com/wp-content/uploads/2025/07/Trivia-Stock-Photo.png
END:VEVENT
BEGIN:VEVENT
DTSTART;TZID=UTC:20270304T183000
DTEND;TZID=UTC:20270304T223000
DTSTAMP:20260422T161710
CREATED:20250715T211212Z
LAST-MODIFIED:20260121T022326Z
UID:10006310-1804185000-1804199400@www.tapatiosprings.com
SUMMARY:Trivia Night
DESCRIPTION:Location: La Cascada Table & Bar – Patio\nTime: First Thursday every Month\, 6:30 PM – 8:30 PM\nDetails: Win Gift Card prizes up to $50!
URL:https://www.tapatiosprings.com/event/trivia-night/2027-03-04/
LOCATION:La Cascada Table & Bar – Patio
CATEGORIES:Children & Family,Hotel Events
ATTACH;FMTTYPE=image/png:https://www.tapatiosprings.com/wp-content/uploads/2025/07/Trivia-Stock-Photo.png
END:VEVENT
BEGIN:VEVENT
DTSTART;TZID=UTC:20270401T183000
DTEND;TZID=UTC:20270401T223000
DTSTAMP:20260422T161710
CREATED:20250715T211212Z
LAST-MODIFIED:20260121T022326Z
UID:10006311-1806604200-1806618600@www.tapatiosprings.com
SUMMARY:Trivia Night
DESCRIPTION:Location: La Cascada Table & Bar – Patio\nTime: First Thursday every Month\, 6:30 PM – 8:30 PM\nDetails: Win Gift Card prizes up to $50!
URL:https://www.tapatiosprings.com/event/trivia-night/2027-04-01/
LOCATION:La Cascada Table & Bar – Patio
CATEGORIES:Children & Family,Hotel Events
ATTACH;FMTTYPE=image/png:https://www.tapatiosprings.com/wp-content/uploads/2025/07/Trivia-Stock-Photo.png
END:VEVENT
BEGIN:VEVENT
DTSTART;TZID=UTC:20270506T183000
DTEND;TZID=UTC:20270506T223000
DTSTAMP:20260422T161710
CREATED:20250715T211212Z
LAST-MODIFIED:20260121T022326Z
UID:10006312-1809628200-1809642600@www.tapatiosprings.com
SUMMARY:Trivia Night
DESCRIPTION:Location: La Cascada Table & Bar – Patio\nTime: First Thursday every Month\, 6:30 PM – 8:30 PM\nDetails: Win Gift Card prizes up to $50!
URL:https://www.tapatiosprings.com/event/trivia-night/2027-05-06/
LOCATION:La Cascada Table & Bar – Patio
CATEGORIES:Children & Family,Hotel Events
ATTACH;FMTTYPE=image/png:https://www.tapatiosprings.com/wp-content/uploads/2025/07/Trivia-Stock-Photo.png
END:VEVENT
BEGIN:VEVENT
DTSTART;TZID=UTC:20270603T183000
DTEND;TZID=UTC:20270603T223000
DTSTAMP:20260422T161710
CREATED:20250715T211212Z
LAST-MODIFIED:20260121T022326Z
UID:10006313-1812047400-1812061800@www.tapatiosprings.com
SUMMARY:Trivia Night
DESCRIPTION:Location: La Cascada Table & Bar – Patio\nTime: First Thursday every Month\, 6:30 PM – 8:30 PM\nDetails: Win Gift Card prizes up to $50!
URL:https://www.tapatiosprings.com/event/trivia-night/2027-06-03/
LOCATION:La Cascada Table & Bar – Patio
CATEGORIES:Children & Family,Hotel Events
ATTACH;FMTTYPE=image/png:https://www.tapatiosprings.com/wp-content/uploads/2025/07/Trivia-Stock-Photo.png
END:VEVENT
BEGIN:VEVENT
DTSTART;TZID=UTC:20270701T183000
DTEND;TZID=UTC:20270701T223000
DTSTAMP:20260422T161710
CREATED:20250715T211212Z
LAST-MODIFIED:20260121T022326Z
UID:10006314-1814466600-1814481000@www.tapatiosprings.com
SUMMARY:Trivia Night
DESCRIPTION:Location: La Cascada Table & Bar – Patio\nTime: First Thursday every Month\, 6:30 PM – 8:30 PM\nDetails: Win Gift Card prizes up to $50!
URL:https://www.tapatiosprings.com/event/trivia-night/2027-07-01/
LOCATION:La Cascada Table & Bar – Patio
CATEGORIES:Children & Family,Hotel Events
ATTACH;FMTTYPE=image/png:https://www.tapatiosprings.com/wp-content/uploads/2025/07/Trivia-Stock-Photo.png
END:VEVENT
BEGIN:VEVENT
DTSTART;TZID=UTC:20270805T183000
DTEND;TZID=UTC:20270805T223000
DTSTAMP:20260422T161710
CREATED:20250715T211212Z
LAST-MODIFIED:20260121T022326Z
UID:10006315-1817490600-1817505000@www.tapatiosprings.com
SUMMARY:Trivia Night
DESCRIPTION:Location: La Cascada Table & Bar – Patio\nTime: First Thursday every Month\, 6:30 PM – 8:30 PM\nDetails: Win Gift Card prizes up to $50!
URL:https://www.tapatiosprings.com/event/trivia-night/2027-08-05/
LOCATION:La Cascada Table & Bar – Patio
CATEGORIES:Children & Family,Hotel Events
ATTACH;FMTTYPE=image/png:https://www.tapatiosprings.com/wp-content/uploads/2025/07/Trivia-Stock-Photo.png
END:VEVENT
BEGIN:VEVENT
DTSTART;TZID=UTC:20270902T183000
DTEND;TZID=UTC:20270902T223000
DTSTAMP:20260422T161710
CREATED:20250715T211212Z
LAST-MODIFIED:20260121T022326Z
UID:10006316-1819909800-1819924200@www.tapatiosprings.com
SUMMARY:Trivia Night
DESCRIPTION:Location: La Cascada Table & Bar – Patio\nTime: First Thursday every Month\, 6:30 PM – 8:30 PM\nDetails: Win Gift Card prizes up to $50!
URL:https://www.tapatiosprings.com/event/trivia-night/2027-09-02/
LOCATION:La Cascada Table & Bar – Patio
CATEGORIES:Children & Family,Hotel Events
ATTACH;FMTTYPE=image/png:https://www.tapatiosprings.com/wp-content/uploads/2025/07/Trivia-Stock-Photo.png
END:VEVENT
BEGIN:VEVENT
DTSTART;TZID=UTC:20271007T183000
DTEND;TZID=UTC:20271007T223000
DTSTAMP:20260422T161710
CREATED:20250715T211212Z
LAST-MODIFIED:20260121T022326Z
UID:10006317-1822933800-1822948200@www.tapatiosprings.com
SUMMARY:Trivia Night
DESCRIPTION:Location: La Cascada Table & Bar – Patio\nTime: First Thursday every Month\, 6:30 PM – 8:30 PM\nDetails: Win Gift Card prizes up to $50!
URL:https://www.tapatiosprings.com/event/trivia-night/2027-10-07/
LOCATION:La Cascada Table & Bar – Patio
CATEGORIES:Children & Family,Hotel Events
ATTACH;FMTTYPE=image/png:https://www.tapatiosprings.com/wp-content/uploads/2025/07/Trivia-Stock-Photo.png
END:VEVENT
BEGIN:VEVENT
DTSTART;TZID=UTC:20271104T183000
DTEND;TZID=UTC:20271104T223000
DTSTAMP:20260422T161710
CREATED:20250715T211212Z
LAST-MODIFIED:20260121T022326Z
UID:10006318-1825353000-1825367400@www.tapatiosprings.com
SUMMARY:Trivia Night
DESCRIPTION:Location: La Cascada Table & Bar – Patio\nTime: First Thursday every Month\, 6:30 PM – 8:30 PM\nDetails: Win Gift Card prizes up to $50!
URL:https://www.tapatiosprings.com/event/trivia-night/2027-11-04/
LOCATION:La Cascada Table & Bar – Patio
CATEGORIES:Children & Family,Hotel Events
ATTACH;FMTTYPE=image/png:https://www.tapatiosprings.com/wp-content/uploads/2025/07/Trivia-Stock-Photo.png
END:VEVENT
BEGIN:VEVENT
DTSTART;TZID=UTC:20271202T183000
DTEND;TZID=UTC:20271202T223000
DTSTAMP:20260422T161710
CREATED:20250715T211212Z
LAST-MODIFIED:20260121T022326Z
UID:10006319-1827772200-1827786600@www.tapatiosprings.com
SUMMARY:Trivia Night
DESCRIPTION:Location: La Cascada Table & Bar – Patio\nTime: First Thursday every Month\, 6:30 PM – 8:30 PM\nDetails: Win Gift Card prizes up to $50!
URL:https://www.tapatiosprings.com/event/trivia-night/2027-12-02/
LOCATION:La Cascada Table & Bar – Patio
CATEGORIES:Children & Family,Hotel Events
ATTACH;FMTTYPE=image/png:https://www.tapatiosprings.com/wp-content/uploads/2025/07/Trivia-Stock-Photo.png
END:VEVENT
BEGIN:VEVENT
DTSTART;TZID=UTC:20280106T183000
DTEND;TZID=UTC:20280106T223000
DTSTAMP:20260422T161710
CREATED:20250715T211212Z
LAST-MODIFIED:20260121T022326Z
UID:10006320-1830796200-1830810600@www.tapatiosprings.com
SUMMARY:Trivia Night
DESCRIPTION:Location: La Cascada Table & Bar – Patio\nTime: First Thursday every Month\, 6:30 PM – 8:30 PM\nDetails: Win Gift Card prizes up to $50!
URL:https://www.tapatiosprings.com/event/trivia-night/2028-01-06/
LOCATION:La Cascada Table & Bar – Patio
CATEGORIES:Children & Family,Hotel Events
ATTACH;FMTTYPE=image/png:https://www.tapatiosprings.com/wp-content/uploads/2025/07/Trivia-Stock-Photo.png
END:VEVENT
BEGIN:VEVENT
DTSTART;TZID=UTC:20280203T183000
DTEND;TZID=UTC:20280203T223000
DTSTAMP:20260422T161710
CREATED:20250715T211212Z
LAST-MODIFIED:20260121T022326Z
UID:10006321-1833215400-1833229800@www.tapatiosprings.com
SUMMARY:Trivia Night
DESCRIPTION:Location: La Cascada Table & Bar – Patio\nTime: First Thursday every Month\, 6:30 PM – 8:30 PM\nDetails: Win Gift Card prizes up to $50!
URL:https://www.tapatiosprings.com/event/trivia-night/2028-02-03/
LOCATION:La Cascada Table & Bar – Patio
CATEGORIES:Children & Family,Hotel Events
ATTACH;FMTTYPE=image/png:https://www.tapatiosprings.com/wp-content/uploads/2025/07/Trivia-Stock-Photo.png
END:VEVENT
BEGIN:VEVENT
DTSTART;TZID=UTC:20280302T183000
DTEND;TZID=UTC:20280302T223000
DTSTAMP:20260422T161710
CREATED:20250715T211212Z
LAST-MODIFIED:20260121T022326Z
UID:10006322-1835634600-1835649000@www.tapatiosprings.com
SUMMARY:Trivia Night
DESCRIPTION:Location: La Cascada Table & Bar – Patio\nTime: First Thursday every Month\, 6:30 PM – 8:30 PM\nDetails: Win Gift Card prizes up to $50!
URL:https://www.tapatiosprings.com/event/trivia-night/2028-03-02/
LOCATION:La Cascada Table & Bar – Patio
CATEGORIES:Children & Family,Hotel Events
ATTACH;FMTTYPE=image/png:https://www.tapatiosprings.com/wp-content/uploads/2025/07/Trivia-Stock-Photo.png
END:VEVENT
BEGIN:VEVENT
DTSTART;TZID=UTC:20280406T183000
DTEND;TZID=UTC:20280406T223000
DTSTAMP:20260422T161710
CREATED:20250715T211212Z
LAST-MODIFIED:20260121T022326Z
UID:10006323-1838658600-1838673000@www.tapatiosprings.com
SUMMARY:Trivia Night
DESCRIPTION:Location: La Cascada Table & Bar – Patio\nTime: First Thursday every Month\, 6:30 PM – 8:30 PM\nDetails: Win Gift Card prizes up to $50!
URL:https://www.tapatiosprings.com/event/trivia-night/2028-04-06/
LOCATION:La Cascada Table & Bar – Patio
CATEGORIES:Children & Family,Hotel Events
ATTACH;FMTTYPE=image/png:https://www.tapatiosprings.com/wp-content/uploads/2025/07/Trivia-Stock-Photo.png
END:VEVENT
BEGIN:VEVENT
DTSTART;TZID=UTC:20280504T183000
DTEND;TZID=UTC:20280504T223000
DTSTAMP:20260422T161710
CREATED:20250715T211212Z
LAST-MODIFIED:20260121T022326Z
UID:10006324-1841077800-1841092200@www.tapatiosprings.com
SUMMARY:Trivia Night
DESCRIPTION:Location: La Cascada Table & Bar – Patio\nTime: First Thursday every Month\, 6:30 PM – 8:30 PM\nDetails: Win Gift Card prizes up to $50!
URL:https://www.tapatiosprings.com/event/trivia-night/2028-05-04/
LOCATION:La Cascada Table & Bar – Patio
CATEGORIES:Children & Family,Hotel Events
ATTACH;FMTTYPE=image/png:https://www.tapatiosprings.com/wp-content/uploads/2025/07/Trivia-Stock-Photo.png
END:VEVENT
BEGIN:VEVENT
DTSTART;TZID=UTC:20280601T183000
DTEND;TZID=UTC:20280601T223000
DTSTAMP:20260422T161710
CREATED:20250715T211212Z
LAST-MODIFIED:20260121T022326Z
UID:10006325-1843497000-1843511400@www.tapatiosprings.com
SUMMARY:Trivia Night
DESCRIPTION:Location: La Cascada Table & Bar – Patio\nTime: First Thursday every Month\, 6:30 PM – 8:30 PM\nDetails: Win Gift Card prizes up to $50!
URL:https://www.tapatiosprings.com/event/trivia-night/2028-06-01/
LOCATION:La Cascada Table & Bar – Patio
CATEGORIES:Children & Family,Hotel Events
ATTACH;FMTTYPE=image/png:https://www.tapatiosprings.com/wp-content/uploads/2025/07/Trivia-Stock-Photo.png
END:VEVENT
BEGIN:VEVENT
DTSTART;TZID=UTC:20280706T183000
DTEND;TZID=UTC:20280706T223000
DTSTAMP:20260422T161710
CREATED:20250715T211212Z
LAST-MODIFIED:20260121T022326Z
UID:10006326-1846521000-1846535400@www.tapatiosprings.com
SUMMARY:Trivia Night
DESCRIPTION:Location: La Cascada Table & Bar – Patio\nTime: First Thursday every Month\, 6:30 PM – 8:30 PM\nDetails: Win Gift Card prizes up to $50!
URL:https://www.tapatiosprings.com/event/trivia-night/2028-07-06/
LOCATION:La Cascada Table & Bar – Patio
CATEGORIES:Children & Family,Hotel Events
ATTACH;FMTTYPE=image/png:https://www.tapatiosprings.com/wp-content/uploads/2025/07/Trivia-Stock-Photo.png
END:VEVENT
BEGIN:VEVENT
DTSTART;TZID=UTC:20280803T183000
DTEND;TZID=UTC:20280803T223000
DTSTAMP:20260422T161710
CREATED:20250715T211212Z
LAST-MODIFIED:20260121T022326Z
UID:10006327-1848940200-1848954600@www.tapatiosprings.com
SUMMARY:Trivia Night
DESCRIPTION:Location: La Cascada Table & Bar – Patio\nTime: First Thursday every Month\, 6:30 PM – 8:30 PM\nDetails: Win Gift Card prizes up to $50!
URL:https://www.tapatiosprings.com/event/trivia-night/2028-08-03/
LOCATION:La Cascada Table & Bar – Patio
CATEGORIES:Children & Family,Hotel Events
ATTACH;FMTTYPE=image/png:https://www.tapatiosprings.com/wp-content/uploads/2025/07/Trivia-Stock-Photo.png
END:VEVENT
BEGIN:VEVENT
DTSTART;TZID=UTC:20280907T183000
DTEND;TZID=UTC:20280907T223000
DTSTAMP:20260422T161710
CREATED:20250715T211212Z
LAST-MODIFIED:20260121T022326Z
UID:10006328-1851964200-1851978600@www.tapatiosprings.com
SUMMARY:Trivia Night
DESCRIPTION:Location: La Cascada Table & Bar – Patio\nTime: First Thursday every Month\, 6:30 PM – 8:30 PM\nDetails: Win Gift Card prizes up to $50!
URL:https://www.tapatiosprings.com/event/trivia-night/2028-09-07/
LOCATION:La Cascada Table & Bar – Patio
CATEGORIES:Children & Family,Hotel Events
ATTACH;FMTTYPE=image/png:https://www.tapatiosprings.com/wp-content/uploads/2025/07/Trivia-Stock-Photo.png
END:VEVENT
BEGIN:VEVENT
DTSTART;TZID=UTC:20281005T183000
DTEND;TZID=UTC:20281005T223000
DTSTAMP:20260422T161710
CREATED:20250715T211212Z
LAST-MODIFIED:20260121T022326Z
UID:10006329-1854383400-1854397800@www.tapatiosprings.com
SUMMARY:Trivia Night
DESCRIPTION:Location: La Cascada Table & Bar – Patio\nTime: First Thursday every Month\, 6:30 PM – 8:30 PM\nDetails: Win Gift Card prizes up to $50!
URL:https://www.tapatiosprings.com/event/trivia-night/2028-10-05/
LOCATION:La Cascada Table & Bar – Patio
CATEGORIES:Children & Family,Hotel Events
ATTACH;FMTTYPE=image/png:https://www.tapatiosprings.com/wp-content/uploads/2025/07/Trivia-Stock-Photo.png
END:VEVENT
BEGIN:VEVENT
DTSTART;TZID=UTC:20281102T183000
DTEND;TZID=UTC:20281102T223000
DTSTAMP:20260422T161710
CREATED:20250715T211212Z
LAST-MODIFIED:20260121T022326Z
UID:10006330-1856802600-1856817000@www.tapatiosprings.com
SUMMARY:Trivia Night
DESCRIPTION:Location: La Cascada Table & Bar – Patio\nTime: First Thursday every Month\, 6:30 PM – 8:30 PM\nDetails: Win Gift Card prizes up to $50!
URL:https://www.tapatiosprings.com/event/trivia-night/2028-11-02/
LOCATION:La Cascada Table & Bar – Patio
CATEGORIES:Children & Family,Hotel Events
ATTACH;FMTTYPE=image/png:https://www.tapatiosprings.com/wp-content/uploads/2025/07/Trivia-Stock-Photo.png
END:VEVENT
BEGIN:VEVENT
DTSTART;TZID=UTC:20281207T183000
DTEND;TZID=UTC:20281207T223000
DTSTAMP:20260422T161710
CREATED:20250715T211212Z
LAST-MODIFIED:20260121T022326Z
UID:10006331-1859826600-1859841000@www.tapatiosprings.com
SUMMARY:Trivia Night
DESCRIPTION:Location: La Cascada Table & Bar – Patio\nTime: First Thursday every Month\, 6:30 PM – 8:30 PM\nDetails: Win Gift Card prizes up to $50!
URL:https://www.tapatiosprings.com/event/trivia-night/2028-12-07/
LOCATION:La Cascada Table & Bar – Patio
CATEGORIES:Children & Family,Hotel Events
ATTACH;FMTTYPE=image/png:https://www.tapatiosprings.com/wp-content/uploads/2025/07/Trivia-Stock-Photo.png
END:VEVENT
BEGIN:VEVENT
DTSTART;TZID=UTC:20290104T183000
DTEND;TZID=UTC:20290104T223000
DTSTAMP:20260422T161710
CREATED:20250715T211212Z
LAST-MODIFIED:20260121T022326Z
UID:10006332-1862245800-1862260200@www.tapatiosprings.com
SUMMARY:Trivia Night
DESCRIPTION:Location: La Cascada Table & Bar – Patio\nTime: First Thursday every Month\, 6:30 PM – 8:30 PM\nDetails: Win Gift Card prizes up to $50!
URL:https://www.tapatiosprings.com/event/trivia-night/2029-01-04/
LOCATION:La Cascada Table & Bar – Patio
CATEGORIES:Children & Family,Hotel Events
ATTACH;FMTTYPE=image/png:https://www.tapatiosprings.com/wp-content/uploads/2025/07/Trivia-Stock-Photo.png
END:VEVENT
BEGIN:VEVENT
DTSTART;TZID=UTC:20290201T183000
DTEND;TZID=UTC:20290201T223000
DTSTAMP:20260422T161710
CREATED:20250715T211212Z
LAST-MODIFIED:20260121T022326Z
UID:10006333-1864665000-1864679400@www.tapatiosprings.com
SUMMARY:Trivia Night
DESCRIPTION:Location: La Cascada Table & Bar – Patio\nTime: First Thursday every Month\, 6:30 PM – 8:30 PM\nDetails: Win Gift Card prizes up to $50!
URL:https://www.tapatiosprings.com/event/trivia-night/2029-02-01/
LOCATION:La Cascada Table & Bar – Patio
CATEGORIES:Children & Family,Hotel Events
ATTACH;FMTTYPE=image/png:https://www.tapatiosprings.com/wp-content/uploads/2025/07/Trivia-Stock-Photo.png
END:VEVENT
BEGIN:VEVENT
DTSTART;TZID=UTC:20290301T183000
DTEND;TZID=UTC:20290301T223000
DTSTAMP:20260422T161710
CREATED:20250715T211212Z
LAST-MODIFIED:20260121T022326Z
UID:10006334-1867084200-1867098600@www.tapatiosprings.com
SUMMARY:Trivia Night
DESCRIPTION:Location: La Cascada Table & Bar – Patio\nTime: First Thursday every Month\, 6:30 PM – 8:30 PM\nDetails: Win Gift Card prizes up to $50!
URL:https://www.tapatiosprings.com/event/trivia-night/2029-03-01/
LOCATION:La Cascada Table & Bar – Patio
CATEGORIES:Children & Family,Hotel Events
ATTACH;FMTTYPE=image/png:https://www.tapatiosprings.com/wp-content/uploads/2025/07/Trivia-Stock-Photo.png
END:VEVENT
BEGIN:VEVENT
DTSTART;TZID=UTC:20290405T183000
DTEND;TZID=UTC:20290405T223000
DTSTAMP:20260422T161710
CREATED:20250715T211212Z
LAST-MODIFIED:20260121T022326Z
UID:10006335-1870108200-1870122600@www.tapatiosprings.com
SUMMARY:Trivia Night
DESCRIPTION:Location: La Cascada Table & Bar – Patio\nTime: First Thursday every Month\, 6:30 PM – 8:30 PM\nDetails: Win Gift Card prizes up to $50!
URL:https://www.tapatiosprings.com/event/trivia-night/2029-04-05/
LOCATION:La Cascada Table & Bar – Patio
CATEGORIES:Children & Family,Hotel Events
ATTACH;FMTTYPE=image/png:https://www.tapatiosprings.com/wp-content/uploads/2025/07/Trivia-Stock-Photo.png
END:VEVENT
BEGIN:VEVENT
DTSTART;TZID=UTC:20290503T183000
DTEND;TZID=UTC:20290503T223000
DTSTAMP:20260422T161710
CREATED:20250715T211212Z
LAST-MODIFIED:20260121T022326Z
UID:10006336-1872527400-1872541800@www.tapatiosprings.com
SUMMARY:Trivia Night
DESCRIPTION:Location: La Cascada Table & Bar – Patio\nTime: First Thursday every Month\, 6:30 PM – 8:30 PM\nDetails: Win Gift Card prizes up to $50!
URL:https://www.tapatiosprings.com/event/trivia-night/2029-05-03/
LOCATION:La Cascada Table & Bar – Patio
CATEGORIES:Children & Family,Hotel Events
ATTACH;FMTTYPE=image/png:https://www.tapatiosprings.com/wp-content/uploads/2025/07/Trivia-Stock-Photo.png
END:VEVENT
BEGIN:VEVENT
DTSTART;TZID=UTC:20290607T183000
DTEND;TZID=UTC:20290607T223000
DTSTAMP:20260422T161710
CREATED:20250715T211212Z
LAST-MODIFIED:20260121T022326Z
UID:10006337-1875551400-1875565800@www.tapatiosprings.com
SUMMARY:Trivia Night
DESCRIPTION:Location: La Cascada Table & Bar – Patio\nTime: First Thursday every Month\, 6:30 PM – 8:30 PM\nDetails: Win Gift Card prizes up to $50!
URL:https://www.tapatiosprings.com/event/trivia-night/2029-06-07/
LOCATION:La Cascada Table & Bar – Patio
CATEGORIES:Children & Family,Hotel Events
ATTACH;FMTTYPE=image/png:https://www.tapatiosprings.com/wp-content/uploads/2025/07/Trivia-Stock-Photo.png
END:VEVENT
END:VCALENDAR