BEGIN:VCALENDAR
VERSION:2.0
PRODID:-//Tapatio Springs - ECPv6.15.20//NONSGML v1.0//EN
CALSCALE:GREGORIAN
METHOD:PUBLISH
X-ORIGINAL-URL:https://www.tapatiosprings.com
X-WR-CALDESC:Events for Tapatio Springs
REFRESH-INTERVAL;VALUE=DURATION:PT1H
X-Robots-Tag:noindex
X-PUBLISHED-TTL:PT1H
BEGIN:VTIMEZONE
TZID:UTC
BEGIN:STANDARD
TZOFFSETFROM:+0000
TZOFFSETTO:+0000
TZNAME:UTC
DTSTART:20250101T000000
END:STANDARD
END:VTIMEZONE
BEGIN:VEVENT
DTSTART;TZID=UTC:20260305T183000
DTEND;TZID=UTC:20260305T223000
DTSTAMP:20260422T105907
CREATED:20250715T211212Z
LAST-MODIFIED:20260121T022326Z
UID:10006298-1772735400-1772749800@www.tapatiosprings.com
SUMMARY:Trivia Night
DESCRIPTION:Location: La Cascada Table & Bar – Patio\nTime: First Thursday every Month\, 6:30 PM – 8:30 PM\nDetails: Win Gift Card prizes up to $50!
URL:https://www.tapatiosprings.com/event/trivia-night/2026-03-05/
LOCATION:La Cascada Table & Bar – Patio
CATEGORIES:Children & Family,Hotel Events
ATTACH;FMTTYPE=image/png:https://www.tapatiosprings.com/wp-content/uploads/2025/07/Trivia-Stock-Photo.png
END:VEVENT
BEGIN:VEVENT
DTSTART;TZID=UTC:20260306T080000
DTEND;TZID=UTC:20260314T170000
DTSTAMP:20260422T105907
CREATED:20260224T201011Z
LAST-MODIFIED:20260224T201101Z
UID:10007732-1772784000-1773507600@www.tapatiosprings.com
SUMMARY:Spring Break at Tapatio Springs
DESCRIPTION:Shake off the usual and escape to Tapatio Springs Hill Country Resort for a spring break defined by sunshine\, open skies\, and genuine Texas hospitality. Set among rolling hills and live oaks\, the resort invites easy mornings\, outdoor adventures\, and laid-back afternoons by the pool. Spend your days golfing\, exploring scenic trails\, or savoring poolside drinks as the Hill Country comes alive in bloom. Here\, spring break feels effortless\, welcoming\, and refreshingly unhurried—just the way it should be. \nBook one of our Spring Packages and save up to 20%!
URL:https://www.tapatiosprings.com/event/spring-break-at-tapatio-springs/
CATEGORIES:Hotel Events,Special Events
ATTACH;FMTTYPE=image/jpeg:https://www.tapatiosprings.com/wp-content/uploads/2025/07/Pool_Closeup_v3-edited-Pixlr.jpg
END:VEVENT
BEGIN:VEVENT
DTSTART;TZID=UTC:20260311T180000
DTEND;TZID=UTC:20260311T210000
DTSTAMP:20260422T105907
CREATED:20260312T003252Z
LAST-MODIFIED:20260312T003252Z
UID:10007736-1773252000-1773262800@www.tapatiosprings.com
SUMMARY:Singo
DESCRIPTION:Join us for Singo – musical Bingo\, a new exciting musical spin on the traditional game of Bingo!
URL:https://www.tapatiosprings.com/event/singo/
CATEGORIES:Hotel Events
ATTACH;FMTTYPE=image/png:https://www.tapatiosprings.com/wp-content/uploads/2026/01/Bingo-Website-Stock-Pic.png
END:VEVENT
BEGIN:VEVENT
DTSTART;TZID=UTC:20260312T183000
DTEND;TZID=UTC:20260312T213000
DTSTAMP:20260422T105907
CREATED:20260312T003413Z
LAST-MODIFIED:20260312T004335Z
UID:10007737-1773340200-1773351000@www.tapatiosprings.com
SUMMARY:Karaoke Night
DESCRIPTION:Grab the mic and sing your heart out at our Karaoke Night\, where guests can take the stage\, enjoy great music\, and cheer on friends for a fun-filled evening of entertainment. 🎤✨
URL:https://www.tapatiosprings.com/event/karaoke/
CATEGORIES:Children & Family,Hotel Events,Music
ATTACH;FMTTYPE=image/jpeg:https://www.tapatiosprings.com/wp-content/uploads/2025/07/tapatio-singo-653a7d686fb31.jpg
END:VEVENT
BEGIN:VEVENT
DTSTART;TZID=UTC:20260312T183000
DTEND;TZID=UTC:20260312T213000
DTSTAMP:20260422T105907
CREATED:20260312T004143Z
LAST-MODIFIED:20260312T004157Z
UID:10007738-1773340200-1773351000@www.tapatiosprings.com
SUMMARY:Golf Simulator - by Bombbays
DESCRIPTION:Bring your friends to Tapatio for Golf Simulator night by Bombbays\, happening at our Event Lawn!
URL:https://www.tapatiosprings.com/event/golf-simulator-by-bombbays/
LOCATION:Clubhouse Event Lawn
CATEGORIES:Children & Family,Hotel Events
ATTACH;FMTTYPE=image/png:https://www.tapatiosprings.com/wp-content/uploads/2026/03/g.png
END:VEVENT
BEGIN:VEVENT
DTSTART;TZID=UTC:20260314T180000
DTEND;TZID=UTC:20260314T210000
DTSTAMP:20260422T105907
CREATED:20260221T001923Z
LAST-MODIFIED:20260224T211933Z
UID:10007730-1773511200-1773522000@www.tapatiosprings.com
SUMMARY:Pink Boots Concert - Featuring Music by Big Country
DESCRIPTION:Join us for the Pink Boots Concert at Tapatio Springs Hill Country Resort—\nan evening filled with live music\, local flair\, and Hill Country charm! Enjoy a high‑energy performance from BIG COUNTRY of San Antonio\, bringing a lively mix of classic and contemporary country hits to the stage. \nWe’re proud to showcase incredible local businesses such as Chateau 248\, Pearl Antler\, Wild Pony Hat Bar\, UNCOMMON BABE INK\, SL Permanent Jewelry\, and more – each bringing their unique Hill Country spirit to the event. \nWhether you’re here for the music\, the atmosphere\, or the celebration of local talent\, the Pink Boots Concert promises a memorable night under the Texas sky. \nTickets are free\, claim your tickets:\nCLAIM TICKETS HERE
URL:https://www.tapatiosprings.com/event/pink-boots-concert-featuring-music-by-big-country/
LOCATION:Clubhouse Event Lawn
CATEGORIES:Children & Family,Eat & Drink,Hotel Events,Music,Special Events
ATTACH;FMTTYPE=image/png:https://www.tapatiosprings.com/wp-content/uploads/2026/02/Untitled-design-3.png
END:VEVENT
BEGIN:VEVENT
DTSTART;TZID=UTC:20260319T183000
DTEND;TZID=UTC:20260319T203000
DTSTAMP:20260422T105907
CREATED:20260120T040015Z
LAST-MODIFIED:20260120T040015Z
UID:10007695-1773945000-1773952200@www.tapatiosprings.com
SUMMARY:Name That Tune
DESCRIPTION:Location: La Cascada Table & Bar – Patio\nTime: 6:30 PM – 8:30 PM\nDetails: Win Gift Card prizes up to $50! \nEvery third Thursday of the month\, show off your musical knowledge and join us on La Cascada Patio for delicious food\, refreshing drinks\, spectacular views and great prizes! Come early for Happy Hour from 4-6PM\, then win your drinking money back. When hunger strikes\, you’ll discover elevated Texas fare perfect for pairing with our refreshing cocktails\, eclectic wines and craft beer selection.\n\n*Reservations are recommended.
URL:https://www.tapatiosprings.com/event/name-that-tune-6/
LOCATION:La Cascada Table & Bar – Patio
CATEGORIES:Children & Family,Eat & Drink,Hotel Events,Music
ATTACH;FMTTYPE=image/png:https://www.tapatiosprings.com/wp-content/uploads/2025/07/Trivia-Stock-Photo.png
END:VEVENT
END:VCALENDAR