BEGIN:VCALENDAR
VERSION:2.0
PRODID:-//Tapatio Springs - ECPv6.15.20//NONSGML v1.0//EN
CALSCALE:GREGORIAN
METHOD:PUBLISH
X-ORIGINAL-URL:https://www.tapatiosprings.com
X-WR-CALDESC:Events for Tapatio Springs
REFRESH-INTERVAL;VALUE=DURATION:PT1H
X-Robots-Tag:noindex
X-PUBLISHED-TTL:PT1H
BEGIN:VTIMEZONE
TZID:UTC
BEGIN:STANDARD
TZOFFSETFROM:+0000
TZOFFSETTO:+0000
TZNAME:UTC
DTSTART:20240101T000000
END:STANDARD
END:VTIMEZONE
BEGIN:VEVENT
DTSTART;TZID=UTC:20251220T173000
DTEND;TZID=UTC:20251220T200000
DTSTAMP:20260420T112650
CREATED:20251023T041815Z
LAST-MODIFIED:20251023T041815Z
UID:10007131-1766251800-1766260800@www.tapatiosprings.com
SUMMARY:Holiday Movies On The Lawn - White Christmas
DESCRIPTION:Grab your loved ones and join us for a Holiday Movie on the Lawn! It’s a free event series in December that the whole family will enjoy. Settle in under the stars with complimentary hot cocoa and get extra cozy with free blankets to borrow. Craving something sweet? We’ll have s’mores kits available for purchase. Come and watch all the holiday classics with us – no registration needed. \n  \nFull Movie Lineup: \n12/5 | The Polar Express \n12/6 | A Christmas Story \n12/12 | It’s A Wonderful Life \n12/13 | Elf \n12/19 | Dr. Seuss’ The Grinch \n12/20 | White Christmas
URL:https://www.tapatiosprings.com/event/holiday-movies-on-the-lawn-white-christmas/
LOCATION:Event Lawn/Bluffs Even Center
CATEGORIES:Children & Family,Eat & Drink
ATTACH;FMTTYPE=image/png:https://www.tapatiosprings.com/wp-content/uploads/2025/09/Kids-Smores-by-Firepit-High-Res-1.png
END:VEVENT
BEGIN:VEVENT
DTSTART;TZID=UTC:20251219T173000
DTEND;TZID=UTC:20251219T200000
DTSTAMP:20260420T112650
CREATED:20251023T041738Z
LAST-MODIFIED:20251023T041738Z
UID:10007130-1766165400-1766174400@www.tapatiosprings.com
SUMMARY:Holiday Movies On The Lawn - Dr. Seuss' The Grinch
DESCRIPTION:Grab your loved ones and join us for a Holiday Movie on the Lawn! It’s a free event series in December that the whole family will enjoy. Settle in under the stars with complimentary hot cocoa and get extra cozy with free blankets to borrow. Craving something sweet? We’ll have s’mores kits available for purchase. Come and watch all the holiday classics with us – no registration needed. \n  \nFull Movie Lineup: \n12/5 | The Polar Express \n12/6 | A Christmas Story \n12/12 | It’s A Wonderful Life \n12/13 | Elf \n12/19 | Dr. Seuss’ The Grinch \n12/20 | White Christmas
URL:https://www.tapatiosprings.com/event/holiday-movies-on-the-lawn-dr-seuss-the-grinch/
LOCATION:Event Lawn/Bluffs Even Center
CATEGORIES:Children & Family,Eat & Drink
ATTACH;FMTTYPE=image/png:https://www.tapatiosprings.com/wp-content/uploads/2025/09/Kids-Smores-by-Firepit-High-Res-1.png
END:VEVENT
BEGIN:VEVENT
DTSTART;TZID=UTC:20251213T173000
DTEND;TZID=UTC:20251213T200000
DTSTAMP:20260420T112650
CREATED:20251023T041653Z
LAST-MODIFIED:20251023T041653Z
UID:10007129-1765647000-1765656000@www.tapatiosprings.com
SUMMARY:Holiday Movies On The Lawn - Elf
DESCRIPTION:Grab your loved ones and join us for a Holiday Movie on the Lawn! It’s a free event series in December that the whole family will enjoy. Settle in under the stars with complimentary hot cocoa and get extra cozy with free blankets to borrow. Craving something sweet? We’ll have s’mores kits available for purchase. Come and watch all the holiday classics with us – no registration needed. \n  \nFull Movie Lineup: \n12/5 | The Polar Express \n12/6 | A Christmas Story \n12/12 | It’s A Wonderful Life \n12/13 | Elf \n12/19 | Dr. Seuss’ The Grinch \n12/20 | White Christmas
URL:https://www.tapatiosprings.com/event/holiday-movies-on-the-lawn-elf/
LOCATION:Event Lawn/Bluffs Even Center
CATEGORIES:Children & Family,Eat & Drink
ATTACH;FMTTYPE=image/png:https://www.tapatiosprings.com/wp-content/uploads/2025/09/Kids-Smores-by-Firepit-High-Res-1.png
END:VEVENT
BEGIN:VEVENT
DTSTART;TZID=UTC:20251212T173000
DTEND;TZID=UTC:20251212T200000
DTSTAMP:20260420T112650
CREATED:20251023T041607Z
LAST-MODIFIED:20251023T041607Z
UID:10007128-1765560600-1765569600@www.tapatiosprings.com
SUMMARY:Holiday Movies On The Lawn - It's A Wonderful Life
DESCRIPTION:Grab your loved ones and join us for a Holiday Movie on the Lawn! It’s a free event series in December that the whole family will enjoy. Settle in under the stars with complimentary hot cocoa and get extra cozy with free blankets to borrow. Craving something sweet? We’ll have s’mores kits available for purchase. Come and watch all the holiday classics with us – no registration needed. \n  \nFull Movie Lineup: \n12/5 | The Polar Express \n12/6 | A Christmas Story \n12/12 | It’s A Wonderful Life \n12/13 | Elf \n12/19 | Dr. Seuss’ The Grinch \n12/20 | White Christmas
URL:https://www.tapatiosprings.com/event/holiday-movies-on-the-lawn-its-a-wonderful-life/
LOCATION:Event Lawn/Bluffs Even Center
CATEGORIES:Children & Family,Eat & Drink
ATTACH;FMTTYPE=image/png:https://www.tapatiosprings.com/wp-content/uploads/2025/09/Kids-Smores-by-Firepit-High-Res-1.png
END:VEVENT
BEGIN:VEVENT
DTSTART;TZID=UTC:20251206T173000
DTEND;TZID=UTC:20251206T200000
DTSTAMP:20260420T112650
CREATED:20251023T041513Z
LAST-MODIFIED:20251023T041513Z
UID:10007127-1765042200-1765051200@www.tapatiosprings.com
SUMMARY:Holiday Movies On The Lawn - A Christmas Story
DESCRIPTION:Grab your loved ones and join us for a Holiday Movie on the Lawn! It’s a free event series in December that the whole family will enjoy. Settle in under the stars with complimentary hot cocoa and get extra cozy with free blankets to borrow. Craving something sweet? We’ll have s’mores kits available for purchase. Come and watch all the holiday classics with us – no registration needed. \n  \nFull Movie Lineup: \n12/5 | The Polar Express \n12/6 | A Christmas Story \n12/12 | It’s A Wonderful Life \n12/13 | Elf \n12/19 | Dr. Seuss’ The Grinch \n12/20 | White Christmas
URL:https://www.tapatiosprings.com/event/holiday-movies-on-the-lawn-a-christmas-story/
LOCATION:Event Lawn/Bluffs Even Center
CATEGORIES:Children & Family,Eat & Drink
ATTACH;FMTTYPE=image/png:https://www.tapatiosprings.com/wp-content/uploads/2025/09/Kids-Smores-by-Firepit-High-Res-1.png
END:VEVENT
BEGIN:VEVENT
DTSTART;TZID=UTC:20251205T173000
DTEND;TZID=UTC:20251205T200000
DTSTAMP:20260420T112650
CREATED:20251023T041351Z
LAST-MODIFIED:20251023T041351Z
UID:10007126-1764955800-1764964800@www.tapatiosprings.com
SUMMARY:Holiday Movies On The Lawn - The Polar Express
DESCRIPTION:Grab your loved ones and join us for a Holiday Movie on the Lawn! It’s a free event series in December that the whole family will enjoy. Settle in under the stars with complimentary hot cocoa and get extra cozy with free blankets to borrow. Craving something sweet? We’ll have s’mores kits available for purchase. Come and watch all the holiday classics with us – no registration needed. \n  \nFull Movie Lineup: \n12/5 | The Polar Express \n12/6 | A Christmas Story \n12/12 | It’s A Wonderful Life \n12/13 | Elf \n12/19 | Dr. Seuss’ The Grinch \n12/20 | White Christmas
URL:https://www.tapatiosprings.com/event/holiday-movies-on-the-lawn-the-polar-express/
LOCATION:Event Lawn/Bluffs Even Center
CATEGORIES:Children & Family,Eat & Drink
ATTACH;FMTTYPE=image/png:https://www.tapatiosprings.com/wp-content/uploads/2025/09/Kids-Smores-by-Firepit-High-Res-1.png
END:VEVENT
BEGIN:VEVENT
DTSTART;TZID=UTC:20251129T083000
DTEND;TZID=UTC:20251129T120000
DTSTAMP:20260420T112650
CREATED:20251008T223459Z
LAST-MODIFIED:20251010T000452Z
UID:10007085-1764405000-1764417600@www.tapatiosprings.com
SUMMARY:Breakfast with Santa
DESCRIPTION:Bring the whole family for a delightful holiday morning filled with delicious brunch and a visit from jolly Santa himself! Kids can decorate cookies\, craft their own ornaments\, and share their wish lists with Santa in a cozy\, holiday-themed setting. It’s the perfect way to kick off the season and make lasting memories together! \n$35 per adult | $17 per child (Age 4-12) | Free for children under age 4\n(Excludes tax & gratuity) \nMake your reservation for one of two seating times: 8:30AM | 10:30AM
URL:https://www.tapatiosprings.com/event/breakfast-with-santa/
LOCATION:Cibolo Ballroom
CATEGORIES:Children & Family,Eat & Drink,Special Events
ATTACH;FMTTYPE=image/jpeg:https://www.tapatiosprings.com/wp-content/uploads/2025/10/Breakfast-with-Santa.jpg
END:VEVENT
BEGIN:VEVENT
DTSTART;TZID=UTC:20251127T110000
DTEND;TZID=UTC:20251127T160000
DTSTAMP:20260420T112650
CREATED:20251003T033242Z
LAST-MODIFIED:20251008T223835Z
UID:10007084-1764241200-1764259200@www.tapatiosprings.com
SUMMARY:Thanksgiving Feast
DESCRIPTION:Come together with family and friends this Thanksgiving holiday and indulge in our popular Thanksgiving Feast\, prepared with love by our culinary team. From charcuteries and seafood\, exquisite turkey\, and carved meats\, to delicious side staples and pies – we have all your holiday favorites! Accompanied with live tunes by solo guitarist Jaime Varela. \n$75 per adult | $30 per child (under age 12) | Free under age 4\n(Excludes tax & 20% gratuity) \nReserve your table for one of three seatings times: 11AM | 1PM | 3PM
URL:https://www.tapatiosprings.com/event/thanksgiving-feast/
LOCATION:La Cascada Table & Bar
CATEGORIES:Children & Family,Eat & Drink,Special Events
ATTACH;FMTTYPE=image/png:https://www.tapatiosprings.com/wp-content/uploads/2025/09/Thanksgiving-Setup-Pic_edited.png
END:VEVENT
BEGIN:VEVENT
DTSTART;TZID=UTC:20251113T183000
DTEND;TZID=UTC:20251113T203000
DTSTAMP:20260420T112650
CREATED:20251023T224423Z
LAST-MODIFIED:20251023T224423Z
UID:10007132-1763058600-1763065800@www.tapatiosprings.com
SUMMARY:Karaoke Night
DESCRIPTION:Let your inner Rockstar shine and join us on La Cascada Patio for Karaoke Night with DJ Jovan Barrios on Thursday\, November 13! When hunger strikes join us for dinner\, and don’t forget\, La Cascada Table & Bar offers a daily happy hour from 4-6PM.\nReservations are highly recommended.
URL:https://www.tapatiosprings.com/event/karaoke-night/
LOCATION:La Cascada Table & Bar – Patio
CATEGORIES:Children & Family,Eat & Drink,Hotel Events,Music
ATTACH;FMTTYPE=image/jpeg:https://www.tapatiosprings.com/wp-content/uploads/2025/07/tapatio-singo-653a7d686fb31.jpg
END:VEVENT
BEGIN:VEVENT
DTSTART;TZID=UTC:20251026T080000
DTEND;TZID=UTC:20251026T110000
DTSTAMP:20260420T112650
CREATED:20251003T032256Z
LAST-MODIFIED:20251003T064529Z
UID:10007083-1761465600-1761476400@www.tapatiosprings.com
SUMMARY:Boo Breakfast
DESCRIPTION:Join us for a spook-tacular Halloween-themed breakfast for all ages at La Cascada Table & Bar! Come dressed in your favorite costumes and enjoy a morning of magic\, munchies\, and memories. Boo Breakfast is bringing all the little ghosts\, witches\, and superheroes to the table! \n$21 per adult | $12 per child (Age 4-12) | Free for children under age 4\n(Excludes tax & gratuity) \n*Reservations required*
URL:https://www.tapatiosprings.com/event/boo-breakfast/
LOCATION:La Cascada Table & Bar
CATEGORIES:Children & Family,Eat & Drink,Hotel Events
ATTACH;FMTTYPE=image/jpeg:https://www.tapatiosprings.com/wp-content/uploads/2025/10/Kids-on-Halloween.jpg
END:VEVENT
BEGIN:VEVENT
DTSTART;TZID=UTC:20251012T173000
DTEND;TZID=UTC:20251012T193000
DTSTAMP:20260420T112650
CREATED:20251003T025426Z
LAST-MODIFIED:20251006T231121Z
UID:10007082-1760290200-1760297400@www.tapatiosprings.com
SUMMARY:Annual Fall Fest
DESCRIPTION:Join us for a fall celebration featuring hayrides\, face painting\, and delicious fall concessions. Get creative with pumpkin painting and build your own Candy Apple Monster! It’s the perfect – and FREE! – way to enjoy the Fall season with family and friends.
URL:https://www.tapatiosprings.com/event/annual-fall-fest/
LOCATION:Clubhouse Event Lawn
CATEGORIES:Children & Family,Eat & Drink,Hotel Events,Special Events
ATTACH;FMTTYPE=image/png:https://www.tapatiosprings.com/wp-content/uploads/2025/10/Fall-Festival-Business-Card.png
END:VEVENT
BEGIN:VEVENT
DTSTART;TZID=UTC:20251009T183000
DTEND;TZID=UTC:20251009T203000
DTSTAMP:20260420T112650
CREATED:20251003T022723Z
LAST-MODIFIED:20251003T064957Z
UID:10007022-1760034600-1760041800@www.tapatiosprings.com
SUMMARY:Camp Trivia & S'Mores
DESCRIPTION:Gather your crew and head to La Cascada patio for a cozy night of trivia fun with an extra special sweet treat! \nCome early for Happy Hour from 4-6PM and when hunger strikes\, you’ll discover elevated Texas fare perfect for pairing with our refreshing cocktails\, eclectic wines and craft beer selection.\n\n*Reservations are recommended*
URL:https://www.tapatiosprings.com/event/camp-trivia-smores/
LOCATION:La Cascada Table & Bar – Patio
CATEGORIES:Children & Family,Eat & Drink,Hotel Events
ATTACH;FMTTYPE=image/png:https://www.tapatiosprings.com/wp-content/uploads/2025/09/Kids-Smores-by-Firepit-High-Res-1.png
END:VEVENT
END:VCALENDAR