BEGIN:VCALENDAR
VERSION:2.0
PRODID:-//Tapatio Springs - ECPv6.15.20//NONSGML v1.0//EN
CALSCALE:GREGORIAN
METHOD:PUBLISH
X-WR-CALNAME:Tapatio Springs
X-ORIGINAL-URL:https://www.tapatiosprings.com
X-WR-CALDESC:Events for Tapatio Springs
REFRESH-INTERVAL;VALUE=DURATION:PT1H
X-Robots-Tag:noindex
X-PUBLISHED-TTL:PT1H
BEGIN:VTIMEZONE
TZID:UTC
BEGIN:STANDARD
TZOFFSETFROM:+0000
TZOFFSETTO:+0000
TZNAME:UTC
DTSTART:20250101T000000
END:STANDARD
END:VTIMEZONE
BEGIN:VEVENT
DTSTART;TZID=UTC:20260522T203000
DTEND;TZID=UTC:20260522T223000
DTSTAMP:20260422T094117
CREATED:20260408T203230Z
LAST-MODIFIED:20260408T203230Z
UID:10005845-1779481800-1779489000@www.tapatiosprings.com
SUMMARY:Family Dive-In Movies
DESCRIPTION:Location: Resort Pool\nTime: Fridays & Saturdays at 8:30 PM (Sunset) \n*Complimentary for Resort Guests & Members. Weather dependent.
URL:https://www.tapatiosprings.com/event/family-dive-in-movies-2/
LOCATION:Resort Pool
CATEGORIES:Children & Family
ATTACH;FMTTYPE=image/webp:https://www.tapatiosprings.com/wp-content/uploads/2025/07/dive-in-movie-website-pic-6660ae3284d10.webp
END:VEVENT
END:VCALENDAR