BEGIN:VCALENDAR
VERSION:2.0
PRODID:-//Tapatio Springs - ECPv6.15.20//NONSGML v1.0//EN
CALSCALE:GREGORIAN
METHOD:PUBLISH
X-ORIGINAL-URL:https://www.tapatiosprings.com
X-WR-CALDESC:Events for Tapatio Springs
REFRESH-INTERVAL;VALUE=DURATION:PT1H
X-Robots-Tag:noindex
X-PUBLISHED-TTL:PT1H
BEGIN:VTIMEZONE
TZID:America/Mexico_City
BEGIN:STANDARD
TZOFFSETFROM:-0600
TZOFFSETTO:-0600
TZNAME:CST
DTSTART:20250101T000000
END:STANDARD
END:VTIMEZONE
BEGIN:VEVENT
DTSTART;TZID=America/Mexico_City:20260502T100000
DTEND;TZID=America/Mexico_City:20260502T140000
DTSTAMP:20260422T044200
CREATED:20260331T160456Z
LAST-MODIFIED:20260415T173052Z
UID:10007743-1777716000-1777730400@www.tapatiosprings.com
SUMMARY:Lemonade Day
DESCRIPTION:National Lemonade Day | May 2nd\nLocation: Clubhouse Event Lawn\nTime: 10:00 AM – 2:00 PM\nDetails:  \n\n\nNational Lemonade Day is coming to Boerne!\nIn addition to the lively lemonade stands lining Main Street\, the celebration continues at Tapatio Springs Hill Country Resort\, where young entrepreneurs will showcase their creativity\, business skills\, and determination. \nNational Lemonade Day empowers local youth to start and run their very own small businesses\, learning valuable lessons in goal‑setting\, customer service\, and financial responsibility—all while having fun. By visiting the lemonade stands at Tapatio Springs\, guests are supporting the next generation of entrepreneurs and helping these young business owners turn their dreams into reality. \nCome out\, enjoy a refreshing treat\, and be part of a community‑wide effort to support youth\, encourage entrepreneurship\, and celebrate Boerne’s vibrant spirit—both on Main Street and at Tapatio Springs.
URL:https://www.tapatiosprings.com/event/lemonade-day/
LOCATION:Clubhouse Event Lawn
CATEGORIES:Children & Family,Eat & Drink,Hotel Events,Music
ATTACH;FMTTYPE=image/webp:https://www.tapatiosprings.com/wp-content/uploads/2026/03/0616-lemonade-recipe-lede-scaled.webp
END:VEVENT
END:VCALENDAR