BEGIN:VCALENDAR
VERSION:2.0
PRODID:-//Tapatio Springs - ECPv6.15.20//NONSGML v1.0//EN
CALSCALE:GREGORIAN
METHOD:PUBLISH
X-ORIGINAL-URL:https://www.tapatiosprings.com
X-WR-CALDESC:Events for Tapatio Springs
REFRESH-INTERVAL;VALUE=DURATION:PT1H
X-Robots-Tag:noindex
X-PUBLISHED-TTL:PT1H
BEGIN:VTIMEZONE
TZID:UTC
BEGIN:STANDARD
TZOFFSETFROM:+0000
TZOFFSETTO:+0000
TZNAME:UTC
DTSTART:20250101T000000
END:STANDARD
END:VTIMEZONE
BEGIN:VEVENT
DTSTART;TZID=UTC:20260129T170000
DTEND;TZID=UTC:20260129T200000
DTSTAMP:20260424T072845
CREATED:20260121T021737Z
LAST-MODIFIED:20260121T021737Z
UID:10007726-1769706000-1769716800@www.tapatiosprings.com
SUMMARY:Karaoke Night
DESCRIPTION:Release your inner superstar for a Karaoke Night at Tapatio Springs Hill Country Resort! Grab your crew and make the heated La Cascada Patio your stage. \nEnjoy dinner bites with the entertainment\, or come early for daily Happy Hour from 4-6pm. \nFree to attend; reservations highly recommended.
URL:https://www.tapatiosprings.com/event/karaoke-night-2/
LOCATION:La Cascada Table & Bar – Patio
CATEGORIES:Children & Family,Eat & Drink,Hotel Events,Music
ATTACH;FMTTYPE=image/jpeg:https://www.tapatiosprings.com/wp-content/uploads/2025/07/tapatio-singo-653a7d686fb31.jpg
END:VEVENT
END:VCALENDAR