BEGIN:VCALENDAR
VERSION:2.0
PRODID:-//Tapatio Springs - ECPv6.15.20//NONSGML v1.0//EN
CALSCALE:GREGORIAN
METHOD:PUBLISH
X-WR-CALNAME:Tapatio Springs
X-ORIGINAL-URL:https://www.tapatiosprings.com
X-WR-CALDESC:Events for Tapatio Springs
REFRESH-INTERVAL;VALUE=DURATION:PT1H
X-Robots-Tag:noindex
X-PUBLISHED-TTL:PT1H
BEGIN:VTIMEZONE
TZID:America/Mexico_City
BEGIN:STANDARD
TZOFFSETFROM:-0600
TZOFFSETTO:-0600
TZNAME:CST
DTSTART:20250101T000000
END:STANDARD
END:VTIMEZONE
BEGIN:VTIMEZONE
TZID:UTC
BEGIN:STANDARD
TZOFFSETFROM:+0000
TZOFFSETTO:+0000
TZNAME:UTC
DTSTART:20250101T000000
END:STANDARD
END:VTIMEZONE
BEGIN:VEVENT
DTSTART;VALUE=DATE:20260522
DTEND;VALUE=DATE:20260526
DTSTAMP:20260421T114830
CREATED:20260409T172304Z
LAST-MODIFIED:20260409T172508Z
UID:10007967-1779408000-1779753599@www.tapatiosprings.com
SUMMARY:Memorial Day at Tapatio Springs
DESCRIPTION:Memorial Day Weekend at Tapatio Springs\nMay 22nd – May 25th \nSummer starts here!\nJoin us at Tapatio Resort this Memorial Day weekend for nonstop fun—family fishing and picnics\, poolside movies\, live music\, a DJ\, games by the pool\, and delicious dinner buffets. Come for the vibes\, stay for the memories!
URL:https://www.tapatiosprings.com/event/memorial-day-at-tapatio-springs/
ATTACH;FMTTYPE=image/jpeg:https://www.tapatiosprings.com/wp-content/uploads/2026/04/360_F_269161978_XvCj9MGvODZBQKTdsD1sKDq05o7Oy07L.jpg
END:VEVENT
BEGIN:VEVENT
DTSTART;TZID=UTC:20260525T090000
DTEND;TZID=UTC:20260525T100000
DTSTAMP:20260421T114830
CREATED:20250719T015709Z
LAST-MODIFIED:20260220T021919Z
UID:10004557-1779699600-1779703200@www.tapatiosprings.com
SUMMARY:Yoga Flow
DESCRIPTION:Location: Oaks Pavilion\nTime: Mondays & Thursdays\, 9 AM – 10 AM\n*Complimentary for Resort Guests & Members
URL:https://www.tapatiosprings.com/event/yoga-flow-2/2026-05-25/
LOCATION:Oaks Pavilion
CATEGORIES:Wellness
ATTACH;FMTTYPE=image/webp:https://www.tapatiosprings.com/wp-content/uploads/2025/07/yoga-flow-website-pic-67a3c565a2ebc.webp
END:VEVENT
BEGIN:VEVENT
DTSTART;TZID=UTC:20260525T100000
DTEND;TZID=UTC:20260525T110000
DTSTAMP:20260421T114830
CREATED:20250704T150050Z
LAST-MODIFIED:20251013T232545Z
UID:10004036-1779703200-1779706800@www.tapatiosprings.com
SUMMARY:Tiffany's Bootcamp
DESCRIPTION:Location: Clubhouse Fitness Center\nTime: Mondays & Wednesdays\, 10 AM – 11 AM\nPrice: $10 (Cash Only) \nFirst time participants\, please text Tiffany directly for confirmation: \nPhone: 2103267094 \n 
URL:https://www.tapatiosprings.com/event/tiffanys-bootcamp/2026-05-25/
LOCATION:Clubhouse Fitness Center
CATEGORIES:Wellness
ATTACH;FMTTYPE=image/webp:https://www.tapatiosprings.com/wp-content/uploads/2025/07/fitness-bootcamp-website-pic-67a3c92c402d5.webp
END:VEVENT
BEGIN:VEVENT
DTSTART;TZID=UTC:20260525T160000
DTEND;TZID=UTC:20260525T180000
DTSTAMP:20260421T114830
CREATED:20250630T195610Z
LAST-MODIFIED:20260111T034134Z
UID:10002174-1779724800-1779732000@www.tapatiosprings.com
SUMMARY:Daily Happy Hour
DESCRIPTION:Location: La Cascada Table & Bar\nTime: Daily\, 4 PM – 6 PM\nDetails: Join us for daily Drink Specials at La Cascada Bar!
URL:https://www.tapatiosprings.com/event/daily-happy-hour/2026-05-25/
LOCATION:La Cascada Table & Bar
CATEGORIES:Eat & Drink
ATTACH;FMTTYPE=image/jpeg:https://www.tapatiosprings.com/wp-content/uploads/2025/06/ts-detail-FB-3-96-2-scaled.jpg
END:VEVENT
END:VCALENDAR