BEGIN:VCALENDAR
VERSION:2.0
PRODID:-//Tapatio Springs - ECPv6.15.20//NONSGML v1.0//EN
CALSCALE:GREGORIAN
METHOD:PUBLISH
X-ORIGINAL-URL:https://www.tapatiosprings.com
X-WR-CALDESC:Events for Tapatio Springs
REFRESH-INTERVAL;VALUE=DURATION:PT1H
X-Robots-Tag:noindex
X-PUBLISHED-TTL:PT1H
BEGIN:VTIMEZONE
TZID:America/Mexico_City
BEGIN:STANDARD
TZOFFSETFROM:-0600
TZOFFSETTO:-0600
TZNAME:CST
DTSTART:20250101T000000
END:STANDARD
END:VTIMEZONE
BEGIN:VTIMEZONE
TZID:UTC
BEGIN:STANDARD
TZOFFSETFROM:+0000
TZOFFSETTO:+0000
TZNAME:UTC
DTSTART:20250101T000000
END:STANDARD
END:VTIMEZONE
BEGIN:VEVENT
DTSTART;VALUE=DATE:20260422
DTEND;VALUE=DATE:20260423
DTSTAMP:20260421T153341
CREATED:20260401T025228Z
LAST-MODIFIED:20260401T025228Z
UID:10007747-1776816000-1776902399@www.tapatiosprings.com
SUMMARY:Earth Day
DESCRIPTION:EARTH DAY | April 22nd\nLocation: La Cascada Table & Bar\nAll Day \n\nRaise a glass to the planet with our Bombay Sapphire Greenhouse Bloom Cocktail\, on special for $10. \nFresh\, botanical\, and sustainably inspired—available for Earth Day only.
URL:https://www.tapatiosprings.com/event/earth-day/
ATTACH;FMTTYPE=image/jpeg:https://www.tapatiosprings.com/wp-content/uploads/2026/03/Bombay-Sapphire.jpg
END:VEVENT
BEGIN:VEVENT
DTSTART;TZID=UTC:20260422T100000
DTEND;TZID=UTC:20260422T110000
DTSTAMP:20260421T153341
CREATED:20250704T150050Z
LAST-MODIFIED:20251013T232545Z
UID:10004027-1776852000-1776855600@www.tapatiosprings.com
SUMMARY:Tiffany's Bootcamp
DESCRIPTION:Location: Clubhouse Fitness Center\nTime: Mondays & Wednesdays\, 10 AM – 11 AM\nPrice: $10 (Cash Only) \nFirst time participants\, please text Tiffany directly for confirmation: \nPhone: 2103267094 \n 
URL:https://www.tapatiosprings.com/event/tiffanys-bootcamp/2026-04-22/
LOCATION:Clubhouse Fitness Center
CATEGORIES:Wellness
ATTACH;FMTTYPE=image/webp:https://www.tapatiosprings.com/wp-content/uploads/2025/07/fitness-bootcamp-website-pic-67a3c92c402d5.webp
END:VEVENT
BEGIN:VEVENT
DTSTART;TZID=UTC:20260422T110000
DTEND;TZID=UTC:20260422T210000
DTSTAMP:20260421T153341
CREATED:20250715T201631Z
LAST-MODIFIED:20260414T150920Z
UID:10003726-1776855600-1776891600@www.tapatiosprings.com
SUMMARY:Wine Wednesday
DESCRIPTION:Location: La Cascada Table & Bar\nTime: Wednesdays\, 11 AM – Close\nDetails: Half Off Bottles of Wine (Max. Discount $50)
URL:https://www.tapatiosprings.com/event/wine-wednesday/2026-04-22/
LOCATION:La Cascada Table & Bar
CATEGORIES:Eat & Drink
ATTACH;FMTTYPE=image/webp:https://www.tapatiosprings.com/wp-content/uploads/2025/07/tapatiospringshillcountryresort-boerneevents-eventcalendar-01-65b2b5b57d26a.webp
END:VEVENT
BEGIN:VEVENT
DTSTART;TZID=UTC:20260422T160000
DTEND;TZID=UTC:20260422T180000
DTSTAMP:20260421T153341
CREATED:20250630T195610Z
LAST-MODIFIED:20260111T034134Z
UID:10002141-1776873600-1776880800@www.tapatiosprings.com
SUMMARY:Daily Happy Hour
DESCRIPTION:Location: La Cascada Table & Bar\nTime: Daily\, 4 PM – 6 PM\nDetails: Join us for daily Drink Specials at La Cascada Bar!
URL:https://www.tapatiosprings.com/event/daily-happy-hour/2026-04-22/
LOCATION:La Cascada Table & Bar
CATEGORIES:Eat & Drink
ATTACH;FMTTYPE=image/jpeg:https://www.tapatiosprings.com/wp-content/uploads/2025/06/ts-detail-FB-3-96-2-scaled.jpg
END:VEVENT
END:VCALENDAR