BEGIN:VCALENDAR
VERSION:2.0
PRODID:-//Tapatio Springs - ECPv6.15.20//NONSGML v1.0//EN
CALSCALE:GREGORIAN
METHOD:PUBLISH
X-ORIGINAL-URL:https://www.tapatiosprings.com
X-WR-CALDESC:Events for Tapatio Springs
REFRESH-INTERVAL;VALUE=DURATION:PT1H
X-Robots-Tag:noindex
X-PUBLISHED-TTL:PT1H
BEGIN:VTIMEZONE
TZID:America/Mexico_City
BEGIN:STANDARD
TZOFFSETFROM:-0600
TZOFFSETTO:-0600
TZNAME:CST
DTSTART:20250101T000000
END:STANDARD
END:VTIMEZONE
BEGIN:VTIMEZONE
TZID:UTC
BEGIN:STANDARD
TZOFFSETFROM:+0000
TZOFFSETTO:+0000
TZNAME:UTC
DTSTART:20250101T000000
END:STANDARD
END:VTIMEZONE
BEGIN:VEVENT
DTSTART;TZID=America/Mexico_City:20260407T170000
DTEND;TZID=America/Mexico_City:20260412T210000
DTSTAMP:20260421T151753
CREATED:20260401T022509Z
LAST-MODIFIED:20260401T135157Z
UID:10007745-1775581200-1776027600@www.tapatiosprings.com
SUMMARY:Taste of the Masters
DESCRIPTION:Taste of the Masters: Dinner Special | April 7th – 12th\nLocation: La Cascada Table & Bar\nTime: 5:00 PM – 9:00 PM\nDetails: \nJoin us for a dining experience inspired by the 2026 Masters Dinner: Rory McIlroy Menu. \n\n\nMenu Highlights:\nAppetizer: Rock Shrimp ($16)\nEntree: Wagyu Steak ($85)\nDessert: Sticky Toffee Pudding ($10) \nEach item is sold separately\, so mix and match your favorites! \nCome savor championship‑level flavors and celebrate in true Masters style. \n\n(tax and gratuity not included) \n\nRESERVATION PREFFERED
URL:https://www.tapatiosprings.com/event/monday_pasta-2-2-2/
CATEGORIES:Children & Family,Eat & Drink,Hotel Events,Music
ATTACH;FMTTYPE=image/png:https://www.tapatiosprings.com/wp-content/uploads/2026/03/Designer-61.png
END:VEVENT
BEGIN:VEVENT
DTSTART;TZID=UTC:20260408T100000
DTEND;TZID=UTC:20260408T110000
DTSTAMP:20260421T151753
CREATED:20250704T150050Z
LAST-MODIFIED:20251013T232545Z
UID:10004023-1775642400-1775646000@www.tapatiosprings.com
SUMMARY:Tiffany's Bootcamp
DESCRIPTION:Location: Clubhouse Fitness Center\nTime: Mondays & Wednesdays\, 10 AM – 11 AM\nPrice: $10 (Cash Only) \nFirst time participants\, please text Tiffany directly for confirmation: \nPhone: 2103267094 \n 
URL:https://www.tapatiosprings.com/event/tiffanys-bootcamp/2026-04-08/
LOCATION:Clubhouse Fitness Center
CATEGORIES:Wellness
ATTACH;FMTTYPE=image/webp:https://www.tapatiosprings.com/wp-content/uploads/2025/07/fitness-bootcamp-website-pic-67a3c92c402d5.webp
END:VEVENT
BEGIN:VEVENT
DTSTART;TZID=UTC:20260408T110000
DTEND;TZID=UTC:20260408T210000
DTSTAMP:20260421T151753
CREATED:20250715T201631Z
LAST-MODIFIED:20260414T150920Z
UID:10003724-1775646000-1775682000@www.tapatiosprings.com
SUMMARY:Wine Wednesday
DESCRIPTION:Location: La Cascada Table & Bar\nTime: Wednesdays\, 11 AM – Close\nDetails: Half Off Bottles of Wine (Max. Discount $50)
URL:https://www.tapatiosprings.com/event/wine-wednesday/2026-04-08/
LOCATION:La Cascada Table & Bar
CATEGORIES:Eat & Drink
ATTACH;FMTTYPE=image/webp:https://www.tapatiosprings.com/wp-content/uploads/2025/07/tapatiospringshillcountryresort-boerneevents-eventcalendar-01-65b2b5b57d26a.webp
END:VEVENT
BEGIN:VEVENT
DTSTART;TZID=America/Mexico_City:20260408T110000
DTEND;TZID=America/Mexico_City:20260412T170000
DTSTAMP:20260421T151753
CREATED:20260401T021703Z
LAST-MODIFIED:20260401T021703Z
UID:10007744-1775646000-1776013200@www.tapatiosprings.com
SUMMARY:Green Jacket Special
DESCRIPTION:Taste of the Masters | April 8 – 12th\nLocation: La Cascada Table & Bar\nTime: 11:00 AM – 5:00 PM\nDetails: \n\n\nBring tradition to your plate with the Green Jacket Special—classic pimento cheese and egg salad sandwiches\n\n$6 ea.\n(does not include tax or gratuity)\n\n  \n*Reservations preferred
URL:https://www.tapatiosprings.com/event/monday_pasta-2-3/
CATEGORIES:Children & Family,Eat & Drink,Hotel Events,Music
ATTACH;FMTTYPE=image/jpeg:https://www.tapatiosprings.com/wp-content/uploads/2026/03/Masters-Pimento-Cheese-Recipe-1.jpg
END:VEVENT
BEGIN:VEVENT
DTSTART;TZID=UTC:20260408T160000
DTEND;TZID=UTC:20260408T180000
DTSTAMP:20260421T151753
CREATED:20250630T195610Z
LAST-MODIFIED:20260111T034134Z
UID:10002127-1775664000-1775671200@www.tapatiosprings.com
SUMMARY:Daily Happy Hour
DESCRIPTION:Location: La Cascada Table & Bar\nTime: Daily\, 4 PM – 6 PM\nDetails: Join us for daily Drink Specials at La Cascada Bar!
URL:https://www.tapatiosprings.com/event/daily-happy-hour/2026-04-08/
LOCATION:La Cascada Table & Bar
CATEGORIES:Eat & Drink
ATTACH;FMTTYPE=image/jpeg:https://www.tapatiosprings.com/wp-content/uploads/2025/06/ts-detail-FB-3-96-2-scaled.jpg
END:VEVENT
END:VCALENDAR