BEGIN:VCALENDAR
VERSION:2.0
PRODID:-//Tapatio Springs - ECPv6.15.20//NONSGML v1.0//EN
CALSCALE:GREGORIAN
METHOD:PUBLISH
X-WR-CALNAME:Tapatio Springs
X-ORIGINAL-URL:https://www.tapatiosprings.com
X-WR-CALDESC:Events for Tapatio Springs
REFRESH-INTERVAL;VALUE=DURATION:PT1H
X-Robots-Tag:noindex
X-PUBLISHED-TTL:PT1H
BEGIN:VTIMEZONE
TZID:UTC
BEGIN:STANDARD
TZOFFSETFROM:+0000
TZOFFSETTO:+0000
TZNAME:UTC
DTSTART:20250101T000000
END:STANDARD
END:VTIMEZONE
BEGIN:VEVENT
DTSTART;TZID=UTC:20260227T150000
DTEND;TZID=UTC:20260301T120000
DTSTAMP:20260423T105459
CREATED:20260204T025749Z
LAST-MODIFIED:20260211T022312Z
UID:10007729-1772204400-1772366400@www.tapatiosprings.com
SUMMARY:'Giddy Up' Wellness Weekend
DESCRIPTION:Slow down\, breathe deep\, and reconnect under the wide Texas sky during this cowboy-inspired wellness weekend in the Hill Country. Thoughtful movement\, restorative moments\, and rustic surroundings come together for a retreat that feels grounded\, unhurried\, and unmistakably Texas. \nNon-members can call 830-537-6236 or e-mail RSVP@tapatio.com to reserve their spot. Members can reserve through the portal. \nBook Today\nITINERARY \nFriday\, February 27th\, 2026\n3:00PM – Guest Check-In\n4:30PM – Sunset Yoga | Meghann Bower\n6:30PM – Welcome Dinner & Nutrition Talk | Natalie Sales with Roundtable Wellness* \nSaturday\, February 28th\, 2026\n7:30AM – Minfulness Pilates | Cathy Ermis\n9:00AM – Juice Bar | Shelby’s Dae-Ly Meals*\n10:00AM – Dance Fitness Class | Ministry of Dance*\n1:00PM – Lunch & Learn | Monique w/ Stahl Medical\n2:30PM – 5:30PM – Med Spa Services | Enrich Health & Wellness*\n2:30 – 5:30PM – Recovery Stretching | Get Fixed Recovery*\n2:30PM – 5:30PM – Chair Massages | Alchemy*\n4:30PM – Golf Simulator | Bomb Bays Golf\n5:30PM – Sunset Paint & Sip | Downtown DIY\n7:00PM – Under The Stars Dinner* \nSunday\, March 1st\, 2026\n7:30AM – Sunrise Yoga | Meghann Bower\n8:30AM – Breakfast in La Cascada* \n*CERTAIN VENDORS WILL BE OFFERING SPECIAL PRICING OR ATTENDEES WILL BE PAYING FOR MEALS ON THEIR OWN
URL:https://www.tapatiosprings.com/event/giddy-up-wellness-weekend/
CATEGORIES:Wellness
ATTACH;FMTTYPE=image/jpeg:https://www.tapatiosprings.com/wp-content/uploads/2025/07/tapatio-yoga-653a7bcb8f75b.jpg
END:VEVENT
BEGIN:VEVENT
DTSTART;TZID=UTC:20260301T160000
DTEND;TZID=UTC:20260301T180000
DTSTAMP:20260423T105459
CREATED:20250630T195610Z
LAST-MODIFIED:20260111T034134Z
UID:10002089-1772380800-1772388000@www.tapatiosprings.com
SUMMARY:Daily Happy Hour
DESCRIPTION:Location: La Cascada Table & Bar\nTime: Daily\, 4 PM – 6 PM\nDetails: Join us for daily Drink Specials at La Cascada Bar!
URL:https://www.tapatiosprings.com/event/daily-happy-hour/2026-03-01/
LOCATION:La Cascada Table & Bar
CATEGORIES:Eat & Drink
ATTACH;FMTTYPE=image/jpeg:https://www.tapatiosprings.com/wp-content/uploads/2025/06/ts-detail-FB-3-96-2-scaled.jpg
END:VEVENT
END:VCALENDAR